| Back to Multiple platform build/check report for BioC 3.13 |
|
This page was generated on 2021-10-15 15:06:20 -0400 (Fri, 15 Oct 2021).
|
To the developers/maintainers of the rqubic package: - Please allow up to 24 hours (and sometimes 48 hours) for your latest push to git@git.bioconductor.org:packages/rqubic.git to reflect on this report. See How and When does the builder pull? When will my changes propagate? here for more information. - Make sure to use the following settings in order to reproduce any error or warning you see on this page. |
| Package 1630/2041 | Hostname | OS / Arch | INSTALL | BUILD | CHECK | BUILD BIN | ||||||||
| rqubic 1.38.0 (landing page) Jitao David Zhang
| nebbiolo1 | Linux (Ubuntu 20.04.2 LTS) / x86_64 | OK | OK | WARNINGS | |||||||||
| tokay2 | Windows Server 2012 R2 Standard / x64 | OK | OK | WARNINGS | OK | |||||||||
| machv2 | macOS 10.14.6 Mojave / x86_64 | OK | OK | OK | OK | |||||||||
| Package: rqubic |
| Version: 1.38.0 |
| Command: C:\cygwin\bin\curl.exe -O http://155.52.207.165/BBS/3.13/bioc/src/contrib/rqubic_1.38.0.tar.gz && rm -rf rqubic.buildbin-libdir && mkdir rqubic.buildbin-libdir && C:\Users\biocbuild\bbs-3.13-bioc\R\bin\R.exe CMD INSTALL --merge-multiarch --build --library=rqubic.buildbin-libdir rqubic_1.38.0.tar.gz && C:\Users\biocbuild\bbs-3.13-bioc\R\bin\R.exe CMD INSTALL rqubic_1.38.0.zip && rm rqubic_1.38.0.tar.gz rqubic_1.38.0.zip |
| StartedAt: 2021-10-14 09:48:48 -0400 (Thu, 14 Oct 2021) |
| EndedAt: 2021-10-14 09:50:37 -0400 (Thu, 14 Oct 2021) |
| EllapsedTime: 108.4 seconds |
| RetCode: 0 |
| Status: OK |
##############################################################################
##############################################################################
###
### Running command:
###
### C:\cygwin\bin\curl.exe -O http://155.52.207.165/BBS/3.13/bioc/src/contrib/rqubic_1.38.0.tar.gz && rm -rf rqubic.buildbin-libdir && mkdir rqubic.buildbin-libdir && C:\Users\biocbuild\bbs-3.13-bioc\R\bin\R.exe CMD INSTALL --merge-multiarch --build --library=rqubic.buildbin-libdir rqubic_1.38.0.tar.gz && C:\Users\biocbuild\bbs-3.13-bioc\R\bin\R.exe CMD INSTALL rqubic_1.38.0.zip && rm rqubic_1.38.0.tar.gz rqubic_1.38.0.zip
###
##############################################################################
##############################################################################
% Total % Received % Xferd Average Speed Time Time Time Current
Dload Upload Total Spent Left Speed
0 0 0 0 0 0 0 0 --:--:-- --:--:-- --:--:-- 0
100 73799 100 73799 0 0 463k 0 --:--:-- --:--:-- --:--:-- 467k
install for i386
* installing *source* package 'rqubic' ...
** using staged installation
** libs
"C:/rtools40/mingw32/bin/"gcc -I"C:/Users/BIOCBU~1/BBS-3~1.13-/R/include" -DNDEBUG -I"c:/extsoft/include" -O2 -Wall -std=gnu99 -mfpmath=sse -msse2 -mstackrealign -c bicluster.c -o bicluster.o
bicluster.c: In function 'seed_intersect_r':
bicluster.c:354:11: warning: suggest parentheses around assignment used as truth value [-Wparentheses]
if (flag=ss) (*m_cnt)++;
^~~~
"C:/rtools40/mingw32/bin/"gcc -I"C:/Users/BIOCBU~1/BBS-3~1.13-/R/include" -DNDEBUG -I"c:/extsoft/include" -O2 -Wall -std=gnu99 -mfpmath=sse -msse2 -mstackrealign -c discretize.c -o discretize.o
In file included from discretize.c:9:
rqubic.h:62:20: warning: 'MINCOL_ATT_NAME' defined but not used [-Wunused-variable]
static const char *MINCOL_ATT_NAME="minimumCol";
^~~~~~~~~~~~~~~
rqubic.h:61:20: warning: 'EDGELIST_ATT_NAME' defined but not used [-Wunused-variable]
static const char *EDGELIST_ATT_NAME="edgelist";
^~~~~~~~~~~~~~~~~
"C:/rtools40/mingw32/bin/"gcc -I"C:/Users/BIOCBU~1/BBS-3~1.13-/R/include" -DNDEBUG -I"c:/extsoft/include" -O2 -Wall -std=gnu99 -mfpmath=sse -msse2 -mstackrealign -c fib.c -o fib.o
In file included from fib.c:35:
rqubic.h:62:20: warning: 'MINCOL_ATT_NAME' defined but not used [-Wunused-variable]
static const char *MINCOL_ATT_NAME="minimumCol";
^~~~~~~~~~~~~~~
rqubic.h:61:20: warning: 'EDGELIST_ATT_NAME' defined but not used [-Wunused-variable]
static const char *EDGELIST_ATT_NAME="edgelist";
^~~~~~~~~~~~~~~~~
"C:/rtools40/mingw32/bin/"gcc -I"C:/Users/BIOCBU~1/BBS-3~1.13-/R/include" -DNDEBUG -I"c:/extsoft/include" -O2 -Wall -std=gnu99 -mfpmath=sse -msse2 -mstackrealign -c graph.c -o graph.o
"C:/rtools40/mingw32/bin/"gcc -I"C:/Users/BIOCBU~1/BBS-3~1.13-/R/include" -DNDEBUG -I"c:/extsoft/include" -O2 -Wall -std=gnu99 -mfpmath=sse -msse2 -mstackrealign -c rqubic.c -o rqubic.o
In file included from rqubic.c:5:
rqubic.h:62:20: warning: 'MINCOL_ATT_NAME' defined but not used [-Wunused-variable]
static const char *MINCOL_ATT_NAME="minimumCol";
^~~~~~~~~~~~~~~
rqubic.h:61:20: warning: 'EDGELIST_ATT_NAME' defined but not used [-Wunused-variable]
static const char *EDGELIST_ATT_NAME="edgelist";
^~~~~~~~~~~~~~~~~
C:/rtools40/mingw32/bin/gcc -shared -s -static-libgcc -o rqubic.dll tmp.def bicluster.o discretize.o fib.o graph.o rqubic.o -Lc:/extsoft/lib/i386 -Lc:/extsoft/lib -LC:/Users/BIOCBU~1/BBS-3~1.13-/R/bin/i386 -lR
installing to C:/Users/biocbuild/bbs-3.13-bioc/meat/rqubic.buildbin-libdir/00LOCK-rqubic/00new/rqubic/libs/i386
** R
** inst
** byte-compile and prepare package for lazy loading
** help
*** installing help indices
converting help for package 'rqubic'
finding HTML links ... done
QUBICBiclusterSet-class html
finding level-2 HTML links ... done
combineBiclusts-methods html
discretize html
eSetDimName html
fcFilter-methods html
fcFilter html
features-methods html
generateSeeds-methods html
parseQubicBlocks html
quBicluster html
readBiclusterResults html
rqubic-package html
writeQubicInputFile html
** building package indices
** installing vignettes
** testing if installed package can be loaded from temporary location
** testing if installed package can be loaded from final location
** testing if installed package keeps a record of temporary installation path
install for x64
* installing *source* package 'rqubic' ...
** libs
"C:/rtools40/mingw64/bin/"gcc -I"C:/Users/BIOCBU~1/BBS-3~1.13-/R/include" -DNDEBUG -I"C:/extsoft/include" -O2 -Wall -std=gnu99 -mfpmath=sse -msse2 -mstackrealign -c bicluster.c -o bicluster.o
bicluster.c: In function 'seed_intersect_r':
bicluster.c:354:11: warning: suggest parentheses around assignment used as truth value [-Wparentheses]
if (flag=ss) (*m_cnt)++;
^~~~
"C:/rtools40/mingw64/bin/"gcc -I"C:/Users/BIOCBU~1/BBS-3~1.13-/R/include" -DNDEBUG -I"C:/extsoft/include" -O2 -Wall -std=gnu99 -mfpmath=sse -msse2 -mstackrealign -c discretize.c -o discretize.o
In file included from discretize.c:9:
rqubic.h:62:20: warning: 'MINCOL_ATT_NAME' defined but not used [-Wunused-variable]
static const char *MINCOL_ATT_NAME="minimumCol";
^~~~~~~~~~~~~~~
rqubic.h:61:20: warning: 'EDGELIST_ATT_NAME' defined but not used [-Wunused-variable]
static const char *EDGELIST_ATT_NAME="edgelist";
^~~~~~~~~~~~~~~~~
"C:/rtools40/mingw64/bin/"gcc -I"C:/Users/BIOCBU~1/BBS-3~1.13-/R/include" -DNDEBUG -I"C:/extsoft/include" -O2 -Wall -std=gnu99 -mfpmath=sse -msse2 -mstackrealign -c fib.c -o fib.o
In file included from fib.c:35:
rqubic.h:62:20: warning: 'MINCOL_ATT_NAME' defined but not used [-Wunused-variable]
static const char *MINCOL_ATT_NAME="minimumCol";
^~~~~~~~~~~~~~~
rqubic.h:61:20: warning: 'EDGELIST_ATT_NAME' defined but not used [-Wunused-variable]
static const char *EDGELIST_ATT_NAME="edgelist";
^~~~~~~~~~~~~~~~~
"C:/rtools40/mingw64/bin/"gcc -I"C:/Users/BIOCBU~1/BBS-3~1.13-/R/include" -DNDEBUG -I"C:/extsoft/include" -O2 -Wall -std=gnu99 -mfpmath=sse -msse2 -mstackrealign -c graph.c -o graph.o
"C:/rtools40/mingw64/bin/"gcc -I"C:/Users/BIOCBU~1/BBS-3~1.13-/R/include" -DNDEBUG -I"C:/extsoft/include" -O2 -Wall -std=gnu99 -mfpmath=sse -msse2 -mstackrealign -c rqubic.c -o rqubic.o
In file included from rqubic.c:5:
rqubic.h:62:20: warning: 'MINCOL_ATT_NAME' defined but not used [-Wunused-variable]
static const char *MINCOL_ATT_NAME="minimumCol";
^~~~~~~~~~~~~~~
rqubic.h:61:20: warning: 'EDGELIST_ATT_NAME' defined but not used [-Wunused-variable]
static const char *EDGELIST_ATT_NAME="edgelist";
^~~~~~~~~~~~~~~~~
C:/rtools40/mingw64/bin/gcc -shared -s -static-libgcc -o rqubic.dll tmp.def bicluster.o discretize.o fib.o graph.o rqubic.o -LC:/extsoft/lib/x64 -LC:/extsoft/lib -LC:/Users/BIOCBU~1/BBS-3~1.13-/R/bin/x64 -lR
installing to C:/Users/biocbuild/bbs-3.13-bioc/meat/rqubic.buildbin-libdir/rqubic/libs/x64
** testing if installed package can be loaded
* MD5 sums
packaged installation of 'rqubic' as rqubic_1.38.0.zip
* DONE (rqubic)
* installing to library 'C:/Users/biocbuild/bbs-3.13-bioc/R/library'
package 'rqubic' successfully unpacked and MD5 sums checked