| Back to Multiple platform build/check report for BioC 3.13 |
|
This page was generated on 2021-10-15 15:06:20 -0400 (Fri, 15 Oct 2021).
|
To the developers/maintainers of the rqt package: - Please allow up to 24 hours (and sometimes 48 hours) for your latest push to git@git.bioconductor.org:packages/rqt.git to reflect on this report. See How and When does the builder pull? When will my changes propagate? here for more information. - Make sure to use the following settings in order to reproduce any error or warning you see on this page. |
| Package 1629/2041 | Hostname | OS / Arch | INSTALL | BUILD | CHECK | BUILD BIN | ||||||||
| rqt 1.18.0 (landing page) Ilya Y. Zhbannikov
| nebbiolo1 | Linux (Ubuntu 20.04.2 LTS) / x86_64 | OK | ERROR | skipped | |||||||||
| tokay2 | Windows Server 2012 R2 Standard / x64 | OK | ERROR | skipped | skipped | |||||||||
| machv2 | macOS 10.14.6 Mojave / x86_64 | OK | ERROR | skipped | skipped | |||||||||
| Package: rqt |
| Version: 1.18.0 |
| Command: C:\cygwin\bin\curl.exe -O http://155.52.207.165/BBS/3.13/bioc/src/contrib/rqt_1.18.0.tar.gz && rm -rf rqt.buildbin-libdir && mkdir rqt.buildbin-libdir && C:\Users\biocbuild\bbs-3.13-bioc\R\bin\R.exe CMD INSTALL --merge-multiarch --build --library=rqt.buildbin-libdir rqt_1.18.0.tar.gz && C:\Users\biocbuild\bbs-3.13-bioc\R\bin\R.exe CMD INSTALL rqt_1.18.0.zip && rm rqt_1.18.0.tar.gz rqt_1.18.0.zip |
| StartedAt: 2021-10-14 09:50:02 -0400 (Thu, 14 Oct 2021) |
| EndedAt: 2021-10-14 09:51:44 -0400 (Thu, 14 Oct 2021) |
| EllapsedTime: 102.1 seconds |
| RetCode: 0 |
| Status: OK |
##############################################################################
##############################################################################
###
### Running command:
###
### C:\cygwin\bin\curl.exe -O http://155.52.207.165/BBS/3.13/bioc/src/contrib/rqt_1.18.0.tar.gz && rm -rf rqt.buildbin-libdir && mkdir rqt.buildbin-libdir && C:\Users\biocbuild\bbs-3.13-bioc\R\bin\R.exe CMD INSTALL --merge-multiarch --build --library=rqt.buildbin-libdir rqt_1.18.0.tar.gz && C:\Users\biocbuild\bbs-3.13-bioc\R\bin\R.exe CMD INSTALL rqt_1.18.0.zip && rm rqt_1.18.0.tar.gz rqt_1.18.0.zip
###
##############################################################################
##############################################################################
% Total % Received % Xferd Average Speed Time Time Time Current
Dload Upload Total Spent Left Speed
0 0 0 0 0 0 0 0 --:--:-- --:--:-- --:--:-- 0
0 377k 0 2487 0 0 30525 0 0:00:12 --:--:-- 0:00:12 30703
100 377k 100 377k 0 0 1401k 0 --:--:-- --:--:-- --:--:-- 1402k
install for i386
* installing *source* package 'rqt' ...
** using staged installation
** R
** inst
** byte-compile and prepare package for lazy loading
** help
*** installing help indices
converting help for package 'rqt'
finding HTML links ... done
build.null.model html
get.a html
preprocess html
rqt-class html
rqt-covariates html
rqt-geneTest html
rqt-geneTestMeta html
rqt-general html
rqt-genotype html
rqt-methods html
rqt-phenotype html
rqt-results html
simple.multvar.reg html
vcov_ridge html
** building package indices
** installing vignettes
** testing if installed package can be loaded from temporary location
** testing if installed package can be loaded from final location
** testing if installed package keeps a record of temporary installation path
install for x64
* installing *source* package 'rqt' ...
** testing if installed package can be loaded
* MD5 sums
packaged installation of 'rqt' as rqt_1.18.0.zip
* DONE (rqt)
* installing to library 'C:/Users/biocbuild/bbs-3.13-bioc/R/library'
package 'rqt' successfully unpacked and MD5 sums checked