| Back to Multiple platform build/check report for BioC 3.13 |
|
This page was generated on 2021-10-15 15:06:20 -0400 (Fri, 15 Oct 2021).
|
To the developers/maintainers of the ropls package: - Please allow up to 24 hours (and sometimes 48 hours) for your latest push to git@git.bioconductor.org:packages/ropls.git to reflect on this report. See How and When does the builder pull? When will my changes propagate? here for more information. - Make sure to use the following settings in order to reproduce any error or warning you see on this page. |
| Package 1621/2041 | Hostname | OS / Arch | INSTALL | BUILD | CHECK | BUILD BIN | ||||||||
| ropls 1.24.0 (landing page) Etienne A. Thevenot
| nebbiolo1 | Linux (Ubuntu 20.04.2 LTS) / x86_64 | OK | OK | OK | |||||||||
| tokay2 | Windows Server 2012 R2 Standard / x64 | OK | OK | OK | OK | |||||||||
| machv2 | macOS 10.14.6 Mojave / x86_64 | OK | OK | OK | OK | |||||||||
| Package: ropls |
| Version: 1.24.0 |
| Command: rm -rf ropls.buildbin-libdir && mkdir ropls.buildbin-libdir && C:\Users\biocbuild\bbs-3.13-bioc\R\bin\R.exe CMD INSTALL --merge-multiarch --build --library=ropls.buildbin-libdir ropls_1.24.0.tar.gz |
| StartedAt: 2021-10-15 11:29:13 -0400 (Fri, 15 Oct 2021) |
| EndedAt: 2021-10-15 11:30:30 -0400 (Fri, 15 Oct 2021) |
| EllapsedTime: 77.3 seconds |
| RetCode: 0 |
| Status: OK |
| PackageFile: ropls_1.24.0.zip |
| PackageFileSize: 2.112 MiB |
##############################################################################
##############################################################################
###
### Running command:
###
### rm -rf ropls.buildbin-libdir && mkdir ropls.buildbin-libdir && C:\Users\biocbuild\bbs-3.13-bioc\R\bin\R.exe CMD INSTALL --merge-multiarch --build --library=ropls.buildbin-libdir ropls_1.24.0.tar.gz
###
##############################################################################
##############################################################################
install for i386
* installing *source* package 'ropls' ...
** using staged installation
** R
** data
** inst
** byte-compile and prepare package for lazy loading
in method for 'opls' with signature 'x="MultiDataSet"': no definition for class "MultiDataSet"
** help
*** installing help indices
converting help for package 'ropls'
finding HTML links ... done
aminoacids html
cellulose html
checkW4M html
coef html
cornell html
fitted html
foods html
fromW4M html
getEset html
getLoadingMN html
getMset html
getPcaVarVn html
getScoreMN html
getSubsetVi html
getSummaryDF html
getVipVn html
getWeightMN html
linnerud html
lowarp html
mark html
opls-class html
opls html
oplsMultiDataSet-class html
plot html
predict html
print html
residuals html
ropls-package html
sacurine html
show html
tested html
toW4M html
view html
** building package indices
** installing vignettes
** testing if installed package can be loaded from temporary location
** testing if installed package can be loaded from final location
** testing if installed package keeps a record of temporary installation path
install for x64
* installing *source* package 'ropls' ...
** testing if installed package can be loaded
* MD5 sums
packaged installation of 'ropls' as ropls_1.24.0.zip
* DONE (ropls)