| Back to Multiple platform build/check report for BioC 3.13 |
|
This page was generated on 2021-10-15 15:06:20 -0400 (Fri, 15 Oct 2021).
|
To the developers/maintainers of the rols package: - Please allow up to 24 hours (and sometimes 48 hours) for your latest push to git@git.bioconductor.org:packages/rols.git to reflect on this report. See How and When does the builder pull? When will my changes propagate? here for more information. - Make sure to use the following settings in order to reproduce any error or warning you see on this page. |
| Package 1619/2041 | Hostname | OS / Arch | INSTALL | BUILD | CHECK | BUILD BIN | ||||||||
| rols 2.20.1 (landing page) Laurent Gatto
| nebbiolo1 | Linux (Ubuntu 20.04.2 LTS) / x86_64 | OK | OK | OK | |||||||||
| tokay2 | Windows Server 2012 R2 Standard / x64 | OK | OK | OK | OK | |||||||||
| machv2 | macOS 10.14.6 Mojave / x86_64 | OK | OK | OK | OK | |||||||||
| Package: rols |
| Version: 2.20.1 |
| Command: rm -rf rols.buildbin-libdir && mkdir rols.buildbin-libdir && C:\Users\biocbuild\bbs-3.13-bioc\R\bin\R.exe CMD INSTALL --merge-multiarch --build --library=rols.buildbin-libdir rols_2.20.1.tar.gz |
| StartedAt: 2021-10-15 11:28:56 -0400 (Fri, 15 Oct 2021) |
| EndedAt: 2021-10-15 11:30:14 -0400 (Fri, 15 Oct 2021) |
| EllapsedTime: 77.7 seconds |
| RetCode: 0 |
| Status: OK |
| PackageFile: rols_2.20.1.zip |
| PackageFileSize: 699.5 KiB |
##############################################################################
##############################################################################
###
### Running command:
###
### rm -rf rols.buildbin-libdir && mkdir rols.buildbin-libdir && C:\Users\biocbuild\bbs-3.13-bioc\R\bin\R.exe CMD INSTALL --merge-multiarch --build --library=rols.buildbin-libdir rols_2.20.1.tar.gz
###
##############################################################################
##############################################################################
install for i386
* installing *source* package 'rols' ...
** using staged installation
** R
** inst
** byte-compile and prepare package for lazy loading
Creating a generic function for 'lapply' from package 'base' in package 'rols'
** help
*** installing help indices
converting help for package 'rols'
finding HTML links ... done
CVParam-class html
finding level-2 HTML links ... done
OlsSearch-class html
REDIRECT:topic Previous alias or file overwritten by alias: C:/Users/biocbuild/bbs-3.13-bioc/meat/rols.buildbin-libdir/00LOCK-rols/00new/rols/help/olsSearch.html
Ontology-class html
Properties-class html
REDIRECT:topic Previous alias or file overwritten by alias: C:/Users/biocbuild/bbs-3.13-bioc/meat/rols.buildbin-libdir/00LOCK-rols/00new/rols/help/properties.html
Term-class html
REDIRECT:topic Previous alias or file overwritten by alias: C:/Users/biocbuild/bbs-3.13-bioc/meat/rols.buildbin-libdir/00LOCK-rols/00new/rols/help/terms.html
REDIRECT:topic Previous alias or file overwritten by alias: C:/Users/biocbuild/bbs-3.13-bioc/meat/rols.buildbin-libdir/00LOCK-rols/00new/rols/help/term.html
dot-properties html
dot-term html
dot-terms html
makeOntologies html
makeOntology html
makeProperty html
makeTerm html
** building package indices
** installing vignettes
** testing if installed package can be loaded from temporary location
** testing if installed package can be loaded from final location
** testing if installed package keeps a record of temporary installation path
install for x64
* installing *source* package 'rols' ...
** testing if installed package can be loaded
* MD5 sums
packaged installation of 'rols' as rols_2.20.1.zip
* DONE (rols)