| Back to Multiple platform build/check report for BioC 3.13 |
|
This page was generated on 2021-10-15 15:06:20 -0400 (Fri, 15 Oct 2021).
|
To the developers/maintainers of the roar package: - Please allow up to 24 hours (and sometimes 48 hours) for your latest push to git@git.bioconductor.org:packages/roar.git to reflect on this report. See How and When does the builder pull? When will my changes propagate? here for more information. - Make sure to use the following settings in order to reproduce any error or warning you see on this page. |
| Package 1616/2041 | Hostname | OS / Arch | INSTALL | BUILD | CHECK | BUILD BIN | ||||||||
| roar 1.28.0 (landing page) Elena Grassi
| nebbiolo1 | Linux (Ubuntu 20.04.2 LTS) / x86_64 | OK | OK | OK | |||||||||
| tokay2 | Windows Server 2012 R2 Standard / x64 | OK | OK | OK | OK | |||||||||
| machv2 | macOS 10.14.6 Mojave / x86_64 | OK | OK | OK | OK | |||||||||
| Package: roar |
| Version: 1.28.0 |
| Command: rm -rf roar.buildbin-libdir && mkdir roar.buildbin-libdir && C:\Users\biocbuild\bbs-3.13-bioc\R\bin\R.exe CMD INSTALL --merge-multiarch --build --library=roar.buildbin-libdir roar_1.28.0.tar.gz |
| StartedAt: 2021-10-15 11:28:32 -0400 (Fri, 15 Oct 2021) |
| EndedAt: 2021-10-15 11:29:49 -0400 (Fri, 15 Oct 2021) |
| EllapsedTime: 77.6 seconds |
| RetCode: 0 |
| Status: OK |
| PackageFile: roar_1.28.0.zip |
| PackageFileSize: 1.181 MiB |
##############################################################################
##############################################################################
###
### Running command:
###
### rm -rf roar.buildbin-libdir && mkdir roar.buildbin-libdir && C:\Users\biocbuild\bbs-3.13-bioc\R\bin\R.exe CMD INSTALL --merge-multiarch --build --library=roar.buildbin-libdir roar_1.28.0.tar.gz
###
##############################################################################
##############################################################################
install for i386
* installing *source* package 'roar' ...
** using staged installation
** R
** inst
** byte-compile and prepare package for lazy loading
** help
*** installing help indices
converting help for package 'roar'
finding HTML links ... done
RoarDataset-class html
finding level-2 HTML links ... done
RoarDataset-constructor html
RoarDatasetFromFiles-constructor html
RoarDatasetMultipleAPA-class html
RoarDatasetMultipleAPA-constructor html
RoarDatasetMultipleAPAFromFiles-constructor
html
checkStep-method html
combineFisherMethod-method html
computePairedPvals-method html
computePvals-method html
computeRoars-method html
cores-method html
countPrePost-method html
countResults-method html
fpkmResults-method html
getFisher-method html
meanAcrossAssays-method html
pvalueCorrectFilter-method html
pvalueFilter-method html
roar-package html
standardFilter-method html
totalResults-method html
** building package indices
** installing vignettes
** testing if installed package can be loaded from temporary location
** testing if installed package can be loaded from final location
** testing if installed package keeps a record of temporary installation path
install for x64
* installing *source* package 'roar' ...
** testing if installed package can be loaded
* MD5 sums
packaged installation of 'roar' as roar_1.28.0.zip
* DONE (roar)