| Back to Multiple platform build/check report for BioC 3.13 |
|
This page was generated on 2021-10-15 15:06:20 -0400 (Fri, 15 Oct 2021).
|
To the developers/maintainers of the rnaseqcomp package: - Please allow up to 24 hours (and sometimes 48 hours) for your latest push to git@git.bioconductor.org:packages/rnaseqcomp.git to reflect on this report. See How and When does the builder pull? When will my changes propagate? here for more information. - Make sure to use the following settings in order to reproduce any error or warning you see on this page. |
| Package 1609/2041 | Hostname | OS / Arch | INSTALL | BUILD | CHECK | BUILD BIN | ||||||||
| rnaseqcomp 1.22.0 (landing page) Mingxiang Teng
| nebbiolo1 | Linux (Ubuntu 20.04.2 LTS) / x86_64 | OK | OK | OK | |||||||||
| tokay2 | Windows Server 2012 R2 Standard / x64 | OK | OK | OK | OK | |||||||||
| machv2 | macOS 10.14.6 Mojave / x86_64 | OK | OK | OK | OK | |||||||||
| Package: rnaseqcomp |
| Version: 1.22.0 |
| Command: C:\Users\biocbuild\bbs-3.13-bioc\R\bin\R.exe CMD check --force-multiarch --install=check:rnaseqcomp.install-out.txt --library=C:\Users\biocbuild\bbs-3.13-bioc\R\library --no-vignettes --timings rnaseqcomp_1.22.0.tar.gz |
| StartedAt: 2021-10-15 04:44:20 -0400 (Fri, 15 Oct 2021) |
| EndedAt: 2021-10-15 04:45:20 -0400 (Fri, 15 Oct 2021) |
| EllapsedTime: 59.7 seconds |
| RetCode: 0 |
| Status: OK |
| CheckDir: rnaseqcomp.Rcheck |
| Warnings: 0 |
##############################################################################
##############################################################################
###
### Running command:
###
### C:\Users\biocbuild\bbs-3.13-bioc\R\bin\R.exe CMD check --force-multiarch --install=check:rnaseqcomp.install-out.txt --library=C:\Users\biocbuild\bbs-3.13-bioc\R\library --no-vignettes --timings rnaseqcomp_1.22.0.tar.gz
###
##############################################################################
##############################################################################
* using log directory 'C:/Users/biocbuild/bbs-3.13-bioc/meat/rnaseqcomp.Rcheck'
* using R version 4.1.1 (2021-08-10)
* using platform: x86_64-w64-mingw32 (64-bit)
* using session charset: ISO8859-1
* using option '--no-vignettes'
* checking for file 'rnaseqcomp/DESCRIPTION' ... OK
* this is package 'rnaseqcomp' version '1.22.0'
* checking package namespace information ... OK
* checking package dependencies ... OK
* checking if this is a source package ... OK
* checking if there is a namespace ... OK
* checking for hidden files and directories ... OK
* checking for portable file names ... OK
* checking whether package 'rnaseqcomp' can be installed ... OK
* checking installed package size ... OK
* checking package directory ... OK
* checking 'build' directory ... OK
* checking DESCRIPTION meta-information ... OK
* checking top-level files ... OK
* checking for left-over files ... OK
* checking index information ... OK
* checking package subdirectories ... OK
* checking R files for non-ASCII characters ... OK
* checking R files for syntax errors ... OK
* loading checks for arch 'i386'
** checking whether the package can be loaded ... OK
** checking whether the package can be loaded with stated dependencies ... OK
** checking whether the package can be unloaded cleanly ... OK
** checking whether the namespace can be loaded with stated dependencies ... OK
** checking whether the namespace can be unloaded cleanly ... OK
* loading checks for arch 'x64'
** checking whether the package can be loaded ... OK
** checking whether the package can be loaded with stated dependencies ... OK
** checking whether the package can be unloaded cleanly ... OK
** checking whether the namespace can be loaded with stated dependencies ... OK
** checking whether the namespace can be unloaded cleanly ... OK
* checking dependencies in R code ... OK
* checking S3 generic/method consistency ... OK
* checking replacement functions ... OK
* checking foreign function calls ... OK
* checking R code for possible problems ... NOTE
plot2TX: no visible global function definition for 'lines'
plot2TX: no visible global function definition for 'box'
plot2TX: no visible global function definition for 'legend'
plot2TX : <anonymous>: no visible binding for global variable 'sd'
plot2TX : <anonymous>: no visible global function definition for 'sd'
plotFC: no visible global function definition for 'loess.smooth'
plotFC: no visible global function definition for 'lines'
plotFC: no visible global function definition for 'legend'
plotFC : <anonymous>: no visible global function definition for
'median'
plotFC : <anonymous>: no visible global function definition for 'sd'
plotNE: no visible global function definition for 'lines'
plotNE: no visible global function definition for 'points'
plotNE: no visible global function definition for 'box'
plotNE: no visible global function definition for 'legend'
plotROC: no visible global function definition for 'median'
plotROC: no visible global function definition for 'sd'
plotROC: no visible global function definition for 'lines'
plotROC: no visible global function definition for 'arrows'
plotROC: no visible global function definition for 'abline'
plotROC: no visible global function definition for 'legend'
plotSD : <anonymous>: no visible binding for global variable 'sd'
plotSD: no visible global function definition for 'loess.smooth'
plotSD: no visible global function definition for 'lines'
plotSD: no visible global function definition for 'box'
plotSD: no visible global function definition for 'legend'
plotSD : <anonymous> : <anonymous>: no visible global function
definition for 'median'
plotSD : <anonymous> : <anonymous>: no visible global function
definition for 'mad'
signalCalibrate : <anonymous>: no visible binding for global variable
'median'
signalCalibrate: no visible global function definition for 'median'
Undefined global functions or variables:
abline arrows box legend lines loess.smooth mad median points sd
Consider adding
importFrom("graphics", "abline", "arrows", "box", "legend", "lines",
"points")
importFrom("stats", "loess.smooth", "mad", "median", "sd")
to your NAMESPACE file.
* checking Rd files ... OK
* checking Rd metadata ... OK
* checking Rd cross-references ... OK
* checking for missing documentation entries ... OK
* checking for code/documentation mismatches ... OK
* checking Rd \usage sections ... OK
* checking Rd contents ... OK
* checking for unstated dependencies in examples ... OK
* checking contents of 'data' directory ... OK
* checking data for non-ASCII characters ... OK
* checking data for ASCII and uncompressed saves ... OK
* checking files in 'vignettes' ... OK
* checking examples ...
** running examples for arch 'i386' ... OK
Examples with CPU (user + system) or elapsed time > 5s
user system elapsed
plotROC 6.72 0.12 6.85
** running examples for arch 'x64' ... OK
Examples with CPU (user + system) or elapsed time > 5s
user system elapsed
plotROC 6.42 0.04 6.47
* checking for unstated dependencies in vignettes ... OK
* checking package vignettes in 'inst/doc' ... OK
* checking running R code from vignettes ... SKIPPED
* checking re-building of vignette outputs ... SKIPPED
* checking PDF version of manual ... OK
* DONE
Status: 1 NOTE
See
'C:/Users/biocbuild/bbs-3.13-bioc/meat/rnaseqcomp.Rcheck/00check.log'
for details.
rnaseqcomp.Rcheck/00install.out
##############################################################################
##############################################################################
###
### Running command:
###
### C:\cygwin\bin\curl.exe -O http://155.52.207.165/BBS/3.13/bioc/src/contrib/rnaseqcomp_1.22.0.tar.gz && rm -rf rnaseqcomp.buildbin-libdir && mkdir rnaseqcomp.buildbin-libdir && C:\Users\biocbuild\bbs-3.13-bioc\R\bin\R.exe CMD INSTALL --merge-multiarch --build --library=rnaseqcomp.buildbin-libdir rnaseqcomp_1.22.0.tar.gz && C:\Users\biocbuild\bbs-3.13-bioc\R\bin\R.exe CMD INSTALL rnaseqcomp_1.22.0.zip && rm rnaseqcomp_1.22.0.tar.gz rnaseqcomp_1.22.0.zip
###
##############################################################################
##############################################################################
% Total % Received % Xferd Average Speed Time Time Time Current
Dload Upload Total Spent Left Speed
0 0 0 0 0 0 0 0 --:--:-- --:--:-- --:--:-- 0
100 1036k 100 1036k 0 0 3005k 0 --:--:-- --:--:-- --:--:-- 3013k
install for i386
* installing *source* package 'rnaseqcomp' ...
** using staged installation
** R
** data
** inst
** byte-compile and prepare package for lazy loading
** help
*** installing help indices
converting help for package 'rnaseqcomp'
finding HTML links ... done
check_rnaseqcomp html
plot2TX html
plotFC html
plotNE html
plotROC html
plotSD html
rnaseqcomp-class html
signalCalibrate html
simdata html
** building package indices
** installing vignettes
** testing if installed package can be loaded from temporary location
** testing if installed package can be loaded from final location
** testing if installed package keeps a record of temporary installation path
install for x64
* installing *source* package 'rnaseqcomp' ...
** testing if installed package can be loaded
* MD5 sums
packaged installation of 'rnaseqcomp' as rnaseqcomp_1.22.0.zip
* DONE (rnaseqcomp)
* installing to library 'C:/Users/biocbuild/bbs-3.13-bioc/R/library'
package 'rnaseqcomp' successfully unpacked and MD5 sums checked
|
rnaseqcomp.Rcheck/examples_i386/rnaseqcomp-Ex.timings
|
rnaseqcomp.Rcheck/examples_x64/rnaseqcomp-Ex.timings
|