| Back to Multiple platform build/check report for BioC 3.13 |
|
This page was generated on 2021-10-15 15:06:19 -0400 (Fri, 15 Oct 2021).
|
To the developers/maintainers of the ribor package: - Please allow up to 24 hours (and sometimes 48 hours) for your latest push to git@git.bioconductor.org:packages/ribor.git to reflect on this report. See How and When does the builder pull? When will my changes propagate? here for more information. - Make sure to use the following settings in order to reproduce any error or warning you see on this page. |
| Package 1581/2041 | Hostname | OS / Arch | INSTALL | BUILD | CHECK | BUILD BIN | ||||||||
| ribor 1.4.0 (landing page) Michael Geng
| nebbiolo1 | Linux (Ubuntu 20.04.2 LTS) / x86_64 | OK | OK | OK | |||||||||
| tokay2 | Windows Server 2012 R2 Standard / x64 | OK | OK | OK | OK | |||||||||
| machv2 | macOS 10.14.6 Mojave / x86_64 | OK | OK | OK | OK | |||||||||
| Package: ribor |
| Version: 1.4.0 |
| Command: C:\cygwin\bin\curl.exe -O http://155.52.207.165/BBS/3.13/bioc/src/contrib/ribor_1.4.0.tar.gz && rm -rf ribor.buildbin-libdir && mkdir ribor.buildbin-libdir && C:\Users\biocbuild\bbs-3.13-bioc\R\bin\R.exe CMD INSTALL --merge-multiarch --build --library=ribor.buildbin-libdir ribor_1.4.0.tar.gz && C:\Users\biocbuild\bbs-3.13-bioc\R\bin\R.exe CMD INSTALL ribor_1.4.0.zip && rm ribor_1.4.0.tar.gz ribor_1.4.0.zip |
| StartedAt: 2021-10-14 09:29:28 -0400 (Thu, 14 Oct 2021) |
| EndedAt: 2021-10-14 09:30:22 -0400 (Thu, 14 Oct 2021) |
| EllapsedTime: 53.7 seconds |
| RetCode: 0 |
| Status: OK |
##############################################################################
##############################################################################
###
### Running command:
###
### C:\cygwin\bin\curl.exe -O http://155.52.207.165/BBS/3.13/bioc/src/contrib/ribor_1.4.0.tar.gz && rm -rf ribor.buildbin-libdir && mkdir ribor.buildbin-libdir && C:\Users\biocbuild\bbs-3.13-bioc\R\bin\R.exe CMD INSTALL --merge-multiarch --build --library=ribor.buildbin-libdir ribor_1.4.0.tar.gz && C:\Users\biocbuild\bbs-3.13-bioc\R\bin\R.exe CMD INSTALL ribor_1.4.0.zip && rm ribor_1.4.0.tar.gz ribor_1.4.0.zip
###
##############################################################################
##############################################################################
% Total % Received % Xferd Average Speed Time Time Time Current
Dload Upload Total Spent Left Speed
0 0 0 0 0 0 0 0 --:--:-- --:--:-- --:--:-- 0
28 3396k 28 974k 0 0 1532k 0 0:00:02 --:--:-- 0:00:02 1531k
100 3396k 100 3396k 0 0 2180k 0 0:00:01 0:00:01 --:--:-- 2181k
install for i386
* installing *source* package 'ribor' ...
** using staged installation
** R
** inst
** byte-compile and prepare package for lazy loading
** help
*** installing help indices
converting help for package 'ribor'
finding HTML links ... done
get_coverage html
get_experiments html
get_info html
get_internal_region_coordinates html
get_internal_region_lengths html
get_length_distribution html
get_metadata html
get_metagene html
get_original_region_coordinates html
get_original_region_lengths html
get_reference_names html
get_region_coordinates html
get_region_counts html
get_region_lengths html
get_rnaseq html
get_tidy_metagene html
plot_length_distribution html
plot_metagene html
plot_region_counts html
rename_default html
rename_transcripts html
ribo-class html
ribor html
set_aliases html
** building package indices
** installing vignettes
** testing if installed package can be loaded from temporary location
** testing if installed package can be loaded from final location
** testing if installed package keeps a record of temporary installation path
install for x64
* installing *source* package 'ribor' ...
** testing if installed package can be loaded
* MD5 sums
packaged installation of 'ribor' as ribor_1.4.0.zip
* DONE (ribor)
* installing to library 'C:/Users/biocbuild/bbs-3.13-bioc/R/library'
package 'ribor' successfully unpacked and MD5 sums checked