| Back to Multiple platform build/check report for BioC 3.13 |
|
This page was generated on 2021-10-15 15:06:19 -0400 (Fri, 15 Oct 2021).
|
To the developers/maintainers of the rgsepd package: - Please allow up to 24 hours (and sometimes 48 hours) for your latest push to git@git.bioconductor.org:packages/rgsepd.git to reflect on this report. See How and When does the builder pull? When will my changes propagate? here for more information. - Make sure to use the following settings in order to reproduce any error or warning you see on this page. |
| Package 1572/2041 | Hostname | OS / Arch | INSTALL | BUILD | CHECK | BUILD BIN | ||||||||
| rgsepd 1.24.0 (landing page) Karl Stamm
| nebbiolo1 | Linux (Ubuntu 20.04.2 LTS) / x86_64 | OK | OK | OK | |||||||||
| tokay2 | Windows Server 2012 R2 Standard / x64 | OK | OK | OK | OK | |||||||||
| machv2 | macOS 10.14.6 Mojave / x86_64 | OK | OK | OK | OK | |||||||||
| Package: rgsepd |
| Version: 1.24.0 |
| Command: rm -rf rgsepd.buildbin-libdir && mkdir rgsepd.buildbin-libdir && C:\Users\biocbuild\bbs-3.13-bioc\R\bin\R.exe CMD INSTALL --merge-multiarch --build --library=rgsepd.buildbin-libdir rgsepd_1.24.0.tar.gz |
| StartedAt: 2021-10-15 11:22:54 -0400 (Fri, 15 Oct 2021) |
| EndedAt: 2021-10-15 11:24:08 -0400 (Fri, 15 Oct 2021) |
| EllapsedTime: 73.8 seconds |
| RetCode: 0 |
| Status: OK |
| PackageFile: rgsepd_1.24.0.zip |
| PackageFileSize: 1.321 MiB |
##############################################################################
##############################################################################
###
### Running command:
###
### rm -rf rgsepd.buildbin-libdir && mkdir rgsepd.buildbin-libdir && C:\Users\biocbuild\bbs-3.13-bioc\R\bin\R.exe CMD INSTALL --merge-multiarch --build --library=rgsepd.buildbin-libdir rgsepd_1.24.0.tar.gz
###
##############################################################################
##############################################################################
install for i386
* installing *source* package 'rgsepd' ...
** using staged installation
** R
** data
** inst
** byte-compile and prepare package for lazy loading
** help
*** installing help indices
converting help for package 'rgsepd'
finding HTML links ... done
DisplayName html
ExtractProjection html
GSEPD_ChangeConditions html
GSEPD_ChangeOutput html
GSEPD_DEGHeatmap html
GSEPD_Export_DESeq html
GSEPD_Heatmap html
GSEPD_INIT html
GSEPD_PCA_Plot html
GSEPD_PCA_Spec html
GSEPD_Process html
GSEPD_ProcessAll html
GSEPD_PullDEG html
IlluminaBodymap html
IlluminaBodymapMeta html
Name_to_RefSeq html
rgsepd-package html
** building package indices
** installing vignettes
** testing if installed package can be loaded from temporary location
'select()' returned 1:1 mapping between keys and columns
'select()' returned 1:1 mapping between keys and columns
** testing if installed package can be loaded from final location
'select()' returned 1:1 mapping between keys and columns
'select()' returned 1:1 mapping between keys and columns
** testing if installed package keeps a record of temporary installation path
install for x64
* installing *source* package 'rgsepd' ...
** testing if installed package can be loaded
'select()' returned 1:1 mapping between keys and columns
'select()' returned 1:1 mapping between keys and columns
* MD5 sums
packaged installation of 'rgsepd' as rgsepd_1.24.0.zip
* DONE (rgsepd)