| Back to Multiple platform build/check report for BioC 3.13 | 
 | 
This page was generated on 2021-10-15 15:06:18 -0400 (Fri, 15 Oct 2021).
| To the developers/maintainers of the reconsi package: - Please allow up to 24 hours (and sometimes 48 hours) for your latest push to git@git.bioconductor.org:packages/reconsi.git to reflect on this report. See How and When does the builder pull? When will my changes propagate? here for more information. - Make sure to use the following settings in order to reproduce any error or warning you see on this page. | 
| Package 1540/2041 | Hostname | OS / Arch | INSTALL | BUILD | CHECK | BUILD BIN | ||||||||
| reconsi 1.4.0  (landing page) Joris Meys 
 | nebbiolo1 | Linux (Ubuntu 20.04.2 LTS) / x86_64 | OK | OK | OK |  | ||||||||
| tokay2 | Windows Server 2012 R2 Standard / x64 | OK | OK | OK | OK |  | ||||||||
| machv2 | macOS 10.14.6 Mojave / x86_64 | OK | OK | OK | OK |  | ||||||||
| Package: reconsi | 
| Version: 1.4.0 | 
| Command: C:\cygwin\bin\curl.exe -O http://155.52.207.165/BBS/3.13/bioc/src/contrib/reconsi_1.4.0.tar.gz && rm -rf reconsi.buildbin-libdir && mkdir reconsi.buildbin-libdir && C:\Users\biocbuild\bbs-3.13-bioc\R\bin\R.exe CMD INSTALL --merge-multiarch --build --library=reconsi.buildbin-libdir reconsi_1.4.0.tar.gz && C:\Users\biocbuild\bbs-3.13-bioc\R\bin\R.exe CMD INSTALL reconsi_1.4.0.zip && rm reconsi_1.4.0.tar.gz reconsi_1.4.0.zip | 
| StartedAt: 2021-10-14 08:29:39 -0400 (Thu, 14 Oct 2021) | 
| EndedAt: 2021-10-14 08:30:25 -0400 (Thu, 14 Oct 2021) | 
| EllapsedTime: 46.2 seconds | 
| RetCode: 0 | 
| Status: OK | 
##############################################################################
##############################################################################
###
### Running command:
###
###   C:\cygwin\bin\curl.exe -O http://155.52.207.165/BBS/3.13/bioc/src/contrib/reconsi_1.4.0.tar.gz && rm -rf reconsi.buildbin-libdir && mkdir reconsi.buildbin-libdir && C:\Users\biocbuild\bbs-3.13-bioc\R\bin\R.exe CMD INSTALL --merge-multiarch --build --library=reconsi.buildbin-libdir reconsi_1.4.0.tar.gz && C:\Users\biocbuild\bbs-3.13-bioc\R\bin\R.exe CMD INSTALL reconsi_1.4.0.zip && rm reconsi_1.4.0.tar.gz reconsi_1.4.0.zip
###
##############################################################################
##############################################################################
  % Total    % Received % Xferd  Average Speed   Time    Time     Time  Current
                                 Dload  Upload   Total   Spent    Left  Speed
  0     0    0     0    0     0      0      0 --:--:-- --:--:-- --:--:--     0
100  145k  100  145k    0     0   753k      0 --:--:-- --:--:-- --:--:--  757k
install for i386
* installing *source* package 'reconsi' ...
** using staged installation
** R
** data
*** moving datasets to lazyload DB
** inst
** byte-compile and prepare package for lazy loading
** help
*** installing help indices
  converting help for package 'reconsi'
    finding HTML links ... done
    Vandeputte                              html  
    calcWeights                             html  
    estNormal                               html  
    estP0                                   html  
    getApproxCovar                          html  
    getFdr                                  html  
    getG0                                   html  
    getTestStats                            html  
    getTstat                                html  
    plotApproxCovar                         html  
    plotNull                                html  
    ptEdit                                  html  
    qtEdit                                  html  
    quantCorrect                            html  
    reconsi                                 html  
    rowMultiply                             html  
    stabExp                                 html  
    testDAA                                 html  
** building package indices
** installing vignettes
** testing if installed package can be loaded from temporary location
** testing if installed package can be loaded from final location
** testing if installed package keeps a record of temporary installation path
install for x64
* installing *source* package 'reconsi' ...
** testing if installed package can be loaded
* MD5 sums
packaged installation of 'reconsi' as reconsi_1.4.0.zip
* DONE (reconsi)
* installing to library 'C:/Users/biocbuild/bbs-3.13-bioc/R/library'
package 'reconsi' successfully unpacked and MD5 sums checked