| Back to Multiple platform build/check report for BioC 3.13 |
|
This page was generated on 2021-10-15 15:06:18 -0400 (Fri, 15 Oct 2021).
|
To the developers/maintainers of the randRotation package: - Please allow up to 24 hours (and sometimes 48 hours) for your latest push to git@git.bioconductor.org:packages/randRotation.git to reflect on this report. See How and When does the builder pull? When will my changes propagate? here for more information. - Make sure to use the following settings in order to reproduce any error or warning you see on this page. |
| Package 1501/2041 | Hostname | OS / Arch | INSTALL | BUILD | CHECK | BUILD BIN | ||||||||
| randRotation 1.4.0 (landing page) Peter Hettegger
| nebbiolo1 | Linux (Ubuntu 20.04.2 LTS) / x86_64 | OK | OK | OK | |||||||||
| tokay2 | Windows Server 2012 R2 Standard / x64 | OK | OK | OK | OK | |||||||||
| machv2 | macOS 10.14.6 Mojave / x86_64 | OK | OK | OK | OK | |||||||||
| Package: randRotation |
| Version: 1.4.0 |
| Command: C:\cygwin\bin\curl.exe -O http://155.52.207.165/BBS/3.13/bioc/src/contrib/randRotation_1.4.0.tar.gz && rm -rf randRotation.buildbin-libdir && mkdir randRotation.buildbin-libdir && C:\Users\biocbuild\bbs-3.13-bioc\R\bin\R.exe CMD INSTALL --merge-multiarch --build --library=randRotation.buildbin-libdir randRotation_1.4.0.tar.gz && C:\Users\biocbuild\bbs-3.13-bioc\R\bin\R.exe CMD INSTALL randRotation_1.4.0.zip && rm randRotation_1.4.0.tar.gz randRotation_1.4.0.zip |
| StartedAt: 2021-10-14 07:14:43 -0400 (Thu, 14 Oct 2021) |
| EndedAt: 2021-10-14 07:18:56 -0400 (Thu, 14 Oct 2021) |
| EllapsedTime: 253.3 seconds |
| RetCode: 0 |
| Status: OK |
##############################################################################
##############################################################################
###
### Running command:
###
### C:\cygwin\bin\curl.exe -O http://155.52.207.165/BBS/3.13/bioc/src/contrib/randRotation_1.4.0.tar.gz && rm -rf randRotation.buildbin-libdir && mkdir randRotation.buildbin-libdir && C:\Users\biocbuild\bbs-3.13-bioc\R\bin\R.exe CMD INSTALL --merge-multiarch --build --library=randRotation.buildbin-libdir randRotation_1.4.0.tar.gz && C:\Users\biocbuild\bbs-3.13-bioc\R\bin\R.exe CMD INSTALL randRotation_1.4.0.zip && rm randRotation_1.4.0.tar.gz randRotation_1.4.0.zip
###
##############################################################################
##############################################################################
% Total % Received % Xferd Average Speed Time Time Time Current
Dload Upload Total Spent Left Speed
0 0 0 0 0 0 0 0 --:--:-- --:--:-- --:--:-- 0
100 42118 100 42118 0 0 270k 0 --:--:-- --:--:-- --:--:-- 272k
install for i386
* installing *source* package 'randRotation' ...
** using staged installation
** R
** inst
** byte-compile and prepare package for lazy loading
** help
Loading required namespace: randRotation
*** installing help indices
converting help for package 'randRotation'
finding HTML links ... done
X_decomp html
contrastModel html
dim html
dimnames html
fdr_p html
initBatchRandrot-class html
initRandrot-class html
initRandrot html
initRandrotW html
pFdr html
qqunif html
randRotation-defunct html
randRotation-package html
randorth html
randpermut html
randrot html
rotateStat-class html
rotateStat html
show html
weights html
** building package indices
** installing vignettes
** testing if installed package can be loaded from temporary location
** testing if installed package can be loaded from final location
** testing if installed package keeps a record of temporary installation path
install for x64
* installing *source* package 'randRotation' ...
** testing if installed package can be loaded
* MD5 sums
packaged installation of 'randRotation' as randRotation_1.4.0.zip
* DONE (randRotation)
* installing to library 'C:/Users/biocbuild/bbs-3.13-bioc/R/library'
package 'randRotation' successfully unpacked and MD5 sums checked