| Back to Multiple platform build/check report for BioC 3.13 |
|
This page was generated on 2021-10-15 15:06:18 -0400 (Fri, 15 Oct 2021).
|
To the developers/maintainers of the randPack package: - Please allow up to 24 hours (and sometimes 48 hours) for your latest push to git@git.bioconductor.org:packages/randPack.git to reflect on this report. See How and When does the builder pull? When will my changes propagate? here for more information. - Make sure to use the following settings in order to reproduce any error or warning you see on this page. |
| Package 1500/2041 | Hostname | OS / Arch | INSTALL | BUILD | CHECK | BUILD BIN | ||||||||
| randPack 1.38.0 (landing page) Robert Gentleman
| nebbiolo1 | Linux (Ubuntu 20.04.2 LTS) / x86_64 | OK | OK | OK | |||||||||
| tokay2 | Windows Server 2012 R2 Standard / x64 | OK | OK | OK | OK | |||||||||
| machv2 | macOS 10.14.6 Mojave / x86_64 | OK | OK | OK | OK | |||||||||
| Package: randPack |
| Version: 1.38.0 |
| Command: rm -rf randPack.buildbin-libdir && mkdir randPack.buildbin-libdir && C:\Users\biocbuild\bbs-3.13-bioc\R\bin\R.exe CMD INSTALL --merge-multiarch --build --library=randPack.buildbin-libdir randPack_1.38.0.tar.gz |
| StartedAt: 2021-10-15 11:13:41 -0400 (Fri, 15 Oct 2021) |
| EndedAt: 2021-10-15 11:15:08 -0400 (Fri, 15 Oct 2021) |
| EllapsedTime: 87.8 seconds |
| RetCode: 0 |
| Status: OK |
| PackageFile: randPack_1.38.0.zip |
| PackageFileSize: 361.2 KiB |
##############################################################################
##############################################################################
###
### Running command:
###
### rm -rf randPack.buildbin-libdir && mkdir randPack.buildbin-libdir && C:\Users\biocbuild\bbs-3.13-bioc\R\bin\R.exe CMD INSTALL --merge-multiarch --build --library=randPack.buildbin-libdir randPack_1.38.0.tar.gz
###
##############################################################################
##############################################################################
install for i386
* installing *source* package 'randPack' ...
** using staged installation
** R
** data
** inst
** byte-compile and prepare package for lazy loading
** help
*** installing help indices
converting help for package 'randPack'
finding HTML links ... done
CT1 html
ClinicalExperiment-class html
ClinicalTrial-class html
PatientData-class html
PatientID-class html
Randomizer-class html
SampleData html
createTrial html
getEnrolleeInfo html
getTreatment html
makeRandomizer html
minimizePocSim html
simPats html
treatmentNames html
** building package indices
** installing vignettes
** testing if installed package can be loaded from temporary location
** testing if installed package can be loaded from final location
** testing if installed package keeps a record of temporary installation path
install for x64
* installing *source* package 'randPack' ...
** testing if installed package can be loaded
* MD5 sums
packaged installation of 'randPack' as randPack_1.38.0.zip
* DONE (randPack)