| Back to Multiple platform build/check report for BioC 3.13 |
|
This page was generated on 2021-10-15 15:06:18 -0400 (Fri, 15 Oct 2021).
|
To the developers/maintainers of the ramr package: - Please allow up to 24 hours (and sometimes 48 hours) for your latest push to git@git.bioconductor.org:packages/ramr.git to reflect on this report. See How and When does the builder pull? When will my changes propagate? here for more information. - Make sure to use the following settings in order to reproduce any error or warning you see on this page. |
| Package 1497/2041 | Hostname | OS / Arch | INSTALL | BUILD | CHECK | BUILD BIN | ||||||||
| ramr 1.0.3 (landing page) Oleksii Nikolaienko
| nebbiolo1 | Linux (Ubuntu 20.04.2 LTS) / x86_64 | OK | OK | OK | |||||||||
| tokay2 | Windows Server 2012 R2 Standard / x64 | OK | OK | OK | OK | |||||||||
| machv2 | macOS 10.14.6 Mojave / x86_64 | OK | OK | OK | OK | |||||||||
| Package: ramr |
| Version: 1.0.3 |
| Command: C:\cygwin\bin\curl.exe -O http://155.52.207.165/BBS/3.13/bioc/src/contrib/ramr_1.0.3.tar.gz && rm -rf ramr.buildbin-libdir && mkdir ramr.buildbin-libdir && C:\Users\biocbuild\bbs-3.13-bioc\R\bin\R.exe CMD INSTALL --merge-multiarch --build --library=ramr.buildbin-libdir ramr_1.0.3.tar.gz && C:\Users\biocbuild\bbs-3.13-bioc\R\bin\R.exe CMD INSTALL ramr_1.0.3.zip && rm ramr_1.0.3.tar.gz ramr_1.0.3.zip |
| StartedAt: 2021-10-14 08:27:49 -0400 (Thu, 14 Oct 2021) |
| EndedAt: 2021-10-14 08:28:55 -0400 (Thu, 14 Oct 2021) |
| EllapsedTime: 66.6 seconds |
| RetCode: 0 |
| Status: OK |
##############################################################################
##############################################################################
###
### Running command:
###
### C:\cygwin\bin\curl.exe -O http://155.52.207.165/BBS/3.13/bioc/src/contrib/ramr_1.0.3.tar.gz && rm -rf ramr.buildbin-libdir && mkdir ramr.buildbin-libdir && C:\Users\biocbuild\bbs-3.13-bioc\R\bin\R.exe CMD INSTALL --merge-multiarch --build --library=ramr.buildbin-libdir ramr_1.0.3.tar.gz && C:\Users\biocbuild\bbs-3.13-bioc\R\bin\R.exe CMD INSTALL ramr_1.0.3.zip && rm ramr_1.0.3.tar.gz ramr_1.0.3.zip
###
##############################################################################
##############################################################################
% Total % Received % Xferd Average Speed Time Time Time Current
Dload Upload Total Spent Left Speed
0 0 0 0 0 0 0 0 --:--:-- --:--:-- --:--:-- 0
0 2251k 0 1137 0 0 13976 0 0:02:44 --:--:-- 0:02:44 14037
51 2251k 51 1158k 0 0 1100k 0 0:00:02 0:00:01 0:00:01 1100k
100 2251k 100 2251k 0 0 1369k 0 0:00:01 0:00:01 --:--:-- 1369k
install for i386
* installing *source* package 'ramr' ...
** using staged installation
** R
** data
** inst
** byte-compile and prepare package for lazy loading
** help
*** installing help indices
converting help for package 'ramr'
finding HTML links ... done
getAMR html
getUniverse html
plotAMR html
ramr.data html
simulateAMR html
simulateData html
** building package indices
** installing vignettes
** testing if installed package can be loaded from temporary location
** testing if installed package can be loaded from final location
** testing if installed package keeps a record of temporary installation path
install for x64
* installing *source* package 'ramr' ...
** testing if installed package can be loaded
* MD5 sums
packaged installation of 'ramr' as ramr_1.0.3.zip
* DONE (ramr)
* installing to library 'C:/Users/biocbuild/bbs-3.13-bioc/R/library'
package 'ramr' successfully unpacked and MD5 sums checked