| Back to Multiple platform build/check report for BioC 3.13 |
|
This page was generated on 2021-10-15 15:06:20 -0400 (Fri, 15 Oct 2021).
|
To the developers/maintainers of the rScudo package: - Please allow up to 24 hours (and sometimes 48 hours) for your latest push to git@git.bioconductor.org:packages/rScudo.git to reflect on this report. See How and When does the builder pull? When will my changes propagate? here for more information. - Make sure to use the following settings in order to reproduce any error or warning you see on this page. |
| Package 1636/2041 | Hostname | OS / Arch | INSTALL | BUILD | CHECK | BUILD BIN | ||||||||
| rScudo 1.8.0 (landing page) Matteo Ciciani
| nebbiolo1 | Linux (Ubuntu 20.04.2 LTS) / x86_64 | OK | OK | OK | |||||||||
| tokay2 | Windows Server 2012 R2 Standard / x64 | OK | OK | OK | OK | |||||||||
| machv2 | macOS 10.14.6 Mojave / x86_64 | OK | OK | OK | OK | |||||||||
| Package: rScudo |
| Version: 1.8.0 |
| Command: C:\cygwin\bin\curl.exe -O http://155.52.207.165/BBS/3.13/bioc/src/contrib/rScudo_1.8.0.tar.gz && rm -rf rScudo.buildbin-libdir && mkdir rScudo.buildbin-libdir && C:\Users\biocbuild\bbs-3.13-bioc\R\bin\R.exe CMD INSTALL --merge-multiarch --build --library=rScudo.buildbin-libdir rScudo_1.8.0.tar.gz && C:\Users\biocbuild\bbs-3.13-bioc\R\bin\R.exe CMD INSTALL rScudo_1.8.0.zip && rm rScudo_1.8.0.tar.gz rScudo_1.8.0.zip |
| StartedAt: 2021-10-14 08:45:39 -0400 (Thu, 14 Oct 2021) |
| EndedAt: 2021-10-14 08:46:08 -0400 (Thu, 14 Oct 2021) |
| EllapsedTime: 29.2 seconds |
| RetCode: 0 |
| Status: OK |
##############################################################################
##############################################################################
###
### Running command:
###
### C:\cygwin\bin\curl.exe -O http://155.52.207.165/BBS/3.13/bioc/src/contrib/rScudo_1.8.0.tar.gz && rm -rf rScudo.buildbin-libdir && mkdir rScudo.buildbin-libdir && C:\Users\biocbuild\bbs-3.13-bioc\R\bin\R.exe CMD INSTALL --merge-multiarch --build --library=rScudo.buildbin-libdir rScudo_1.8.0.tar.gz && C:\Users\biocbuild\bbs-3.13-bioc\R\bin\R.exe CMD INSTALL rScudo_1.8.0.zip && rm rScudo_1.8.0.tar.gz rScudo_1.8.0.zip
###
##############################################################################
##############################################################################
% Total % Received % Xferd Average Speed Time Time Time Current
Dload Upload Total Spent Left Speed
0 0 0 0 0 0 0 0 --:--:-- --:--:-- --:--:-- 0
0 0 0 0 0 0 0 0 --:--:-- --:--:-- --:--:-- 0
100 38494 100 38494 0 0 320k 0 --:--:-- --:--:-- --:--:-- 321k
install for i386
* installing *source* package 'rScudo' ...
** using staged installation
** R
** inst
** byte-compile and prepare package for lazy loading
** help
*** installing help indices
converting help for package 'rScudo'
finding HTML links ... done
ScudoResults-class html
rScudo-package html
scudoClassify html
scudoCytoscape html
scudoModel html
scudoNetwork-methods html
scudoPlot html
scudoTest html
scudoTrain html
** building package indices
** installing vignettes
** testing if installed package can be loaded from temporary location
** testing if installed package can be loaded from final location
** testing if installed package keeps a record of temporary installation path
install for x64
* installing *source* package 'rScudo' ...
** testing if installed package can be loaded
* MD5 sums
packaged installation of 'rScudo' as rScudo_1.8.0.zip
* DONE (rScudo)
* installing to library 'C:/Users/biocbuild/bbs-3.13-bioc/R/library'
package 'rScudo' successfully unpacked and MD5 sums checked