| Back to Multiple platform build/check report for BioC 3.13 |
|
This page was generated on 2021-10-15 15:06:18 -0400 (Fri, 15 Oct 2021).
|
To the developers/maintainers of the rBiopaxParser package: - Please allow up to 24 hours (and sometimes 48 hours) for your latest push to git@git.bioconductor.org:packages/rBiopaxParser.git to reflect on this report. See How and When does the builder pull? When will my changes propagate? here for more information. - Make sure to use the following settings in order to reproduce any error or warning you see on this page. |
| Package 1509/2041 | Hostname | OS / Arch | INSTALL | BUILD | CHECK | BUILD BIN | ||||||||
| rBiopaxParser 2.32.0 (landing page) Frank Kramer
| nebbiolo1 | Linux (Ubuntu 20.04.2 LTS) / x86_64 | OK | OK | OK | |||||||||
| tokay2 | Windows Server 2012 R2 Standard / x64 | OK | OK | OK | OK | |||||||||
| machv2 | macOS 10.14.6 Mojave / x86_64 | OK | OK | OK | OK | |||||||||
| Package: rBiopaxParser |
| Version: 2.32.0 |
| Command: rm -rf rBiopaxParser.buildbin-libdir && mkdir rBiopaxParser.buildbin-libdir && C:\Users\biocbuild\bbs-3.13-bioc\R\bin\R.exe CMD INSTALL --merge-multiarch --build --library=rBiopaxParser.buildbin-libdir rBiopaxParser_2.32.0.tar.gz |
| StartedAt: 2021-10-15 11:14:56 -0400 (Fri, 15 Oct 2021) |
| EndedAt: 2021-10-15 11:16:24 -0400 (Fri, 15 Oct 2021) |
| EllapsedTime: 87.9 seconds |
| RetCode: 0 |
| Status: OK |
| PackageFile: rBiopaxParser_2.32.0.zip |
| PackageFileSize: 896 KiB |
##############################################################################
##############################################################################
###
### Running command:
###
### rm -rf rBiopaxParser.buildbin-libdir && mkdir rBiopaxParser.buildbin-libdir && C:\Users\biocbuild\bbs-3.13-bioc\R\bin\R.exe CMD INSTALL --merge-multiarch --build --library=rBiopaxParser.buildbin-libdir rBiopaxParser_2.32.0.tar.gz
###
##############################################################################
##############################################################################
install for i386
* installing *source* package 'rBiopaxParser' ...
** using staged installation
** R
** data
** inst
** byte-compile and prepare package for lazy loading
** help
*** installing help indices
converting help for package 'rBiopaxParser'
finding HTML links ... done
CLASS_INHERITANCE_BP2 html
CLASS_INHERITANCE_BP3 html
CLASS_PROPERTIES_BP2 html
CLASS_PROPERTIES_BP3 html
DATABASE_BIOPAX html
addBiochemicalReaction html
addBiopaxInstance html
addBiopaxInstances html
addControl html
addPathway html
addPathwayComponents html
addPhysicalEntity html
addPhysicalEntityParticipant html
addPropertiesToBiopaxInstance html
addhash html
addns html
biopax html
calcGraphOverlap html
checkValidity html
colorGraphNodes html
combineNodes html
createBiopax html
diffGraphs html
downloadBiopaxData html
generateNewUniqueID html
getClassProperties html
getInstanceClass html
getInstanceProperty html
getNeighborhood html
getParticipants html
getReferencedIDs html
getReferencingIDs html
getSubClasses html
getSuperClasses html
getXrefAnnotations html
hasProperty html
internal_NrOfXMLNodes html
internal_XMLInstance2DF html
internal_checkArguments html
internal_generateXMLfromBiopax html
internal_getBiopaxModelAsDataFrame html
internal_propertyListToDF html
internal_resolvePhysicalEntityParticipant
html
intersectGraphs html
isOfClass html
isOfNamespace html
isURL html
layoutRegulatoryGraph html
listComplexComponents html
listInstances html
listInteractionComponents html
listPathwayComponents html
listPathways html
mergePathways html
pathway2AdjacancyMatrix html
pathway2Geneset html
pathway2Graph html
pathway2RegulatoryGraph html
plotRegulatoryGraph html
print.biopax html
rBiopaxParser-package html
readBiopax html
removeDisconnectedParts html
removeInstance html
removeNodes html
removeProperties html
selectInstances html
splitComplex html
striphash html
stripns html
transitiveClosure html
transitiveReduction html
unfactorize html
uniteGraphs html
writeBiopax html
** building package indices
** installing vignettes
** testing if installed package can be loaded from temporary location
** testing if installed package can be loaded from final location
** testing if installed package keeps a record of temporary installation path
install for x64
* installing *source* package 'rBiopaxParser' ...
** testing if installed package can be loaded
* MD5 sums
packaged installation of 'rBiopaxParser' as rBiopaxParser_2.32.0.zip
* DONE (rBiopaxParser)