| Back to Multiple platform build/check report for BioC 3.13 |
|
This page was generated on 2021-10-15 15:06:16 -0400 (Fri, 15 Oct 2021).
|
To the developers/maintainers of the plgem package: - Please allow up to 24 hours (and sometimes 48 hours) for your latest push to git@git.bioconductor.org:packages/plgem.git to reflect on this report. See How and When does the builder pull? When will my changes propagate? here for more information. - Make sure to use the following settings in order to reproduce any error or warning you see on this page. |
| Package 1401/2041 | Hostname | OS / Arch | INSTALL | BUILD | CHECK | BUILD BIN | ||||||||
| plgem 1.64.0 (landing page) Norman Pavelka
| nebbiolo1 | Linux (Ubuntu 20.04.2 LTS) / x86_64 | OK | OK | OK | |||||||||
| tokay2 | Windows Server 2012 R2 Standard / x64 | OK | OK | OK | OK | |||||||||
| machv2 | macOS 10.14.6 Mojave / x86_64 | OK | OK | OK | OK | |||||||||
| Package: plgem |
| Version: 1.64.0 |
| Command: rm -rf plgem.buildbin-libdir && mkdir plgem.buildbin-libdir && C:\Users\biocbuild\bbs-3.13-bioc\R\bin\R.exe CMD INSTALL --merge-multiarch --build --library=plgem.buildbin-libdir plgem_1.64.0.tar.gz |
| StartedAt: 2021-10-15 11:00:06 -0400 (Fri, 15 Oct 2021) |
| EndedAt: 2021-10-15 11:01:30 -0400 (Fri, 15 Oct 2021) |
| EllapsedTime: 83.1 seconds |
| RetCode: 0 |
| Status: OK |
| PackageFile: plgem_1.64.0.zip |
| PackageFileSize: 1.06 MiB |
##############################################################################
##############################################################################
###
### Running command:
###
### rm -rf plgem.buildbin-libdir && mkdir plgem.buildbin-libdir && C:\Users\biocbuild\bbs-3.13-bioc\R\bin\R.exe CMD INSTALL --merge-multiarch --build --library=plgem.buildbin-libdir plgem_1.64.0.tar.gz
###
##############################################################################
##############################################################################
install for i386
* installing *source* package 'plgem' ...
** using staged installation
** R
** data
** inst
** byte-compile and prepare package for lazy loading
** help
*** installing help indices
converting help for package 'plgem'
finding HTML links ... done
LPSeset html
plgem.deg html
plgem.fit html
plgem.obsStn html
plgem.pValue html
plgem.resampledStn html
plgem.write.summary html
run.plgem html
setGpar html
** building package indices
** installing vignettes
** testing if installed package can be loaded from temporary location
** testing if installed package can be loaded from final location
** testing if installed package keeps a record of temporary installation path
install for x64
* installing *source* package 'plgem' ...
** testing if installed package can be loaded
* MD5 sums
packaged installation of 'plgem' as plgem_1.64.0.zip
* DONE (plgem)