| Back to Multiple platform build/check report for BioC 3.13 |
|
This page was generated on 2021-10-15 15:06:16 -0400 (Fri, 15 Oct 2021).
|
To the developers/maintainers of the philr package: - Please allow up to 24 hours (and sometimes 48 hours) for your latest push to git@git.bioconductor.org:packages/philr.git to reflect on this report. See How and When does the builder pull? When will my changes propagate? here for more information. - Make sure to use the following settings in order to reproduce any error or warning you see on this page. |
| Package 1384/2041 | Hostname | OS / Arch | INSTALL | BUILD | CHECK | BUILD BIN | ||||||||
| philr 1.18.0 (landing page) Justin Silverman
| nebbiolo1 | Linux (Ubuntu 20.04.2 LTS) / x86_64 | OK | OK | OK | |||||||||
| tokay2 | Windows Server 2012 R2 Standard / x64 | OK | OK | OK | OK | |||||||||
| machv2 | macOS 10.14.6 Mojave / x86_64 | OK | OK | OK | OK | |||||||||
| Package: philr |
| Version: 1.18.0 |
| Command: rm -rf philr.buildbin-libdir && mkdir philr.buildbin-libdir && C:\Users\biocbuild\bbs-3.13-bioc\R\bin\R.exe CMD INSTALL --merge-multiarch --build --library=philr.buildbin-libdir philr_1.18.0.tar.gz |
| StartedAt: 2021-10-15 10:57:45 -0400 (Fri, 15 Oct 2021) |
| EndedAt: 2021-10-15 10:59:00 -0400 (Fri, 15 Oct 2021) |
| EllapsedTime: 75.2 seconds |
| RetCode: 0 |
| Status: OK |
| PackageFile: philr_1.18.0.zip |
| PackageFileSize: 398.5 KiB |
##############################################################################
##############################################################################
###
### Running command:
###
### rm -rf philr.buildbin-libdir && mkdir philr.buildbin-libdir && C:\Users\biocbuild\bbs-3.13-bioc\R\bin\R.exe CMD INSTALL --merge-multiarch --build --library=philr.buildbin-libdir philr_1.18.0.tar.gz
###
##############################################################################
##############################################################################
install for i386
* installing *source* package 'philr' ...
** using staged installation
** R
** inst
** byte-compile and prepare package for lazy loading
** help
*** installing help indices
converting help for package 'philr'
finding HTML links ... done
annotate_balance html
buildilrBasep html
calculate.blw html
convert_to_long html
g.colMeans html
g.rowMeans html
mean_dist_to_tips html
miniclo html
name.balance html
name_nodenumber_conversion html
named_rtree html
philr html
philrInv html
phylo2sbp html
shift html
weighted_clr html
weighted_ilr html
** building package indices
** installing vignettes
** testing if installed package can be loaded from temporary location
** testing if installed package can be loaded from final location
** testing if installed package keeps a record of temporary installation path
install for x64
* installing *source* package 'philr' ...
** testing if installed package can be loaded
* MD5 sums
packaged installation of 'philr' as philr_1.18.0.zip
* DONE (philr)