| Back to Multiple platform build/check report for BioC 3.13 |
|
This page was generated on 2021-10-15 15:06:15 -0400 (Fri, 15 Oct 2021).
|
To the developers/maintainers of the periodicDNA package: - Please allow up to 24 hours (and sometimes 48 hours) for your latest push to git@git.bioconductor.org:packages/periodicDNA.git to reflect on this report. See How and When does the builder pull? When will my changes propagate? here for more information. - Make sure to use the following settings in order to reproduce any error or warning you see on this page. |
| Package 1373/2041 | Hostname | OS / Arch | INSTALL | BUILD | CHECK | BUILD BIN | ||||||||
| periodicDNA 1.2.0 (landing page) Jacques Serizay
| nebbiolo1 | Linux (Ubuntu 20.04.2 LTS) / x86_64 | OK | OK | OK | |||||||||
| tokay2 | Windows Server 2012 R2 Standard / x64 | OK | OK | OK | OK | |||||||||
| machv2 | macOS 10.14.6 Mojave / x86_64 | OK | OK | OK | OK | |||||||||
| Package: periodicDNA |
| Version: 1.2.0 |
| Command: rm -rf periodicDNA.buildbin-libdir && mkdir periodicDNA.buildbin-libdir && C:\Users\biocbuild\bbs-3.13-bioc\R\bin\R.exe CMD INSTALL --merge-multiarch --build --library=periodicDNA.buildbin-libdir periodicDNA_1.2.0.tar.gz |
| StartedAt: 2021-10-15 10:56:09 -0400 (Fri, 15 Oct 2021) |
| EndedAt: 2021-10-15 10:57:28 -0400 (Fri, 15 Oct 2021) |
| EllapsedTime: 78.9 seconds |
| RetCode: 0 |
| Status: OK |
| PackageFile: periodicDNA_1.2.0.zip |
| PackageFileSize: 2.979 MiB |
##############################################################################
##############################################################################
###
### Running command:
###
### rm -rf periodicDNA.buildbin-libdir && mkdir periodicDNA.buildbin-libdir && C:\Users\biocbuild\bbs-3.13-bioc\R\bin\R.exe CMD INSTALL --merge-multiarch --build --library=periodicDNA.buildbin-libdir periodicDNA_1.2.0.tar.gz
###
##############################################################################
##############################################################################
install for i386
* installing *source* package 'periodicDNA' ...
** using staged installation
** R
** data
** inst
** byte-compile and prepare package for lazy loading
** help
*** installing help indices
converting help for package 'periodicDNA'
finding HTML links ... done
ce11_ATACseq html
ce11_TSSs html
ce11_WW_10bp html
ce11_all_REs html
ce11_proms html
ce11_proms_seqs html
getPeriodicity html
getPeriodicityTrack html
getPeriodicityWithIterations html
plotAggregateCoverage html
plotPeriodicityResults html
setUpBPPARAM html
theme_ggplot2 html
*** copying figures
** building package indices
** installing vignettes
** testing if installed package can be loaded from temporary location
** testing if installed package can be loaded from final location
** testing if installed package keeps a record of temporary installation path
install for x64
* installing *source* package 'periodicDNA' ...
** testing if installed package can be loaded
* MD5 sums
packaged installation of 'periodicDNA' as periodicDNA_1.2.0.zip
* DONE (periodicDNA)