| Back to Multiple platform build/check report for BioC 3.13 |
|
This page was generated on 2021-10-15 15:06:15 -0400 (Fri, 15 Oct 2021).
|
To the developers/maintainers of the peco package: - Please allow up to 24 hours (and sometimes 48 hours) for your latest push to git@git.bioconductor.org:packages/peco.git to reflect on this report. See How and When does the builder pull? When will my changes propagate? here for more information. - Make sure to use the following settings in order to reproduce any error or warning you see on this page. |
| Package 1368/2041 | Hostname | OS / Arch | INSTALL | BUILD | CHECK | BUILD BIN | ||||||||
| peco 1.4.0 (landing page) Chiaowen Joyce Hsiao
| nebbiolo1 | Linux (Ubuntu 20.04.2 LTS) / x86_64 | OK | OK | OK | |||||||||
| tokay2 | Windows Server 2012 R2 Standard / x64 | OK | OK | OK | OK | |||||||||
| machv2 | macOS 10.14.6 Mojave / x86_64 | OK | OK | OK | OK | |||||||||
| Package: peco |
| Version: 1.4.0 |
| Command: C:\Users\biocbuild\bbs-3.13-bioc\R\bin\R.exe CMD check --force-multiarch --install=check:peco.install-out.txt --library=C:\Users\biocbuild\bbs-3.13-bioc\R\library --no-vignettes --timings peco_1.4.0.tar.gz |
| StartedAt: 2021-10-15 03:16:46 -0400 (Fri, 15 Oct 2021) |
| EndedAt: 2021-10-15 03:36:07 -0400 (Fri, 15 Oct 2021) |
| EllapsedTime: 1161.2 seconds |
| RetCode: 0 |
| Status: OK |
| CheckDir: peco.Rcheck |
| Warnings: 0 |
##############################################################################
##############################################################################
###
### Running command:
###
### C:\Users\biocbuild\bbs-3.13-bioc\R\bin\R.exe CMD check --force-multiarch --install=check:peco.install-out.txt --library=C:\Users\biocbuild\bbs-3.13-bioc\R\library --no-vignettes --timings peco_1.4.0.tar.gz
###
##############################################################################
##############################################################################
* using log directory 'C:/Users/biocbuild/bbs-3.13-bioc/meat/peco.Rcheck'
* using R version 4.1.1 (2021-08-10)
* using platform: x86_64-w64-mingw32 (64-bit)
* using session charset: ISO8859-1
* using option '--no-vignettes'
* checking for file 'peco/DESCRIPTION' ... OK
* checking extension type ... Package
* this is package 'peco' version '1.4.0'
* package encoding: UTF-8
* checking package namespace information ... OK
* checking package dependencies ... OK
* checking if this is a source package ... OK
* checking if there is a namespace ... OK
* checking for hidden files and directories ... OK
* checking for portable file names ... OK
* checking whether package 'peco' can be installed ... OK
* checking installed package size ... OK
* checking package directory ... OK
* checking 'build' directory ... OK
* checking DESCRIPTION meta-information ... OK
* checking top-level files ... OK
* checking for left-over files ... OK
* checking index information ... OK
* checking package subdirectories ... OK
* checking R files for non-ASCII characters ... OK
* checking R files for syntax errors ... OK
* loading checks for arch 'i386'
** checking whether the package can be loaded ... OK
** checking whether the package can be loaded with stated dependencies ... OK
** checking whether the package can be unloaded cleanly ... OK
** checking whether the namespace can be loaded with stated dependencies ... OK
** checking whether the namespace can be unloaded cleanly ... OK
* loading checks for arch 'x64'
** checking whether the package can be loaded ... OK
** checking whether the package can be loaded with stated dependencies ... OK
** checking whether the package can be unloaded cleanly ... OK
** checking whether the namespace can be loaded with stated dependencies ... OK
** checking whether the namespace can be unloaded cleanly ... OK
* checking dependencies in R code ... OK
* checking S3 generic/method consistency ... OK
* checking replacement functions ... OK
* checking foreign function calls ... OK
* checking R code for possible problems ... OK
* checking Rd files ... OK
* checking Rd metadata ... OK
* checking Rd cross-references ... OK
* checking for missing documentation entries ... OK
* checking for code/documentation mismatches ... OK
* checking Rd \usage sections ... OK
* checking Rd contents ... OK
* checking for unstated dependencies in examples ... OK
* checking contents of 'data' directory ... OK
* checking data for non-ASCII characters ... OK
* checking data for ASCII and uncompressed saves ... OK
* checking files in 'vignettes' ... OK
* checking examples ...
** running examples for arch 'i386' ... OK
Examples with CPU (user + system) or elapsed time > 5s
user system elapsed
fit_trendfilter 35.89 1.07 46.00
cycle_npreg_outsample 2.27 0.25 181.02
fit_loess 1.44 0.12 11.21
fit_bspline 1.20 0.02 10.03
data_transform_quantile 1.16 0.04 10.12
fit_cyclical_many 1.07 0.03 210.03
** running examples for arch 'x64' ... OK
Examples with CPU (user + system) or elapsed time > 5s
user system elapsed
fit_trendfilter 35.30 0.83 45.39
cycle_npreg_outsample 2.95 0.11 177.33
fit_loess 1.53 0.11 10.25
fit_bspline 1.24 0.07 11.05
fit_cyclical_many 1.13 0.04 191.70
data_transform_quantile 1.06 0.06 10.04
* checking for unstated dependencies in vignettes ... OK
* checking package vignettes in 'inst/doc' ... OK
* checking running R code from vignettes ... SKIPPED
* checking re-building of vignette outputs ... SKIPPED
* checking PDF version of manual ... OK
* DONE
Status: OK
peco.Rcheck/00install.out
##############################################################################
##############################################################################
###
### Running command:
###
### C:\cygwin\bin\curl.exe -O http://155.52.207.165/BBS/3.13/bioc/src/contrib/peco_1.4.0.tar.gz && rm -rf peco.buildbin-libdir && mkdir peco.buildbin-libdir && C:\Users\biocbuild\bbs-3.13-bioc\R\bin\R.exe CMD INSTALL --merge-multiarch --build --library=peco.buildbin-libdir peco_1.4.0.tar.gz && C:\Users\biocbuild\bbs-3.13-bioc\R\bin\R.exe CMD INSTALL peco_1.4.0.zip && rm peco_1.4.0.tar.gz peco_1.4.0.zip
###
##############################################################################
##############################################################################
% Total % Received % Xferd Average Speed Time Time Time Current
Dload Upload Total Spent Left Speed
0 0 0 0 0 0 0 0 --:--:-- --:--:-- --:--:-- 0
100 1376k 100 1376k 0 0 2782k 0 --:--:-- --:--:-- --:--:-- 2785k
install for i386
* installing *source* package 'peco' ...
** using staged installation
** R
** data
** inst
** byte-compile and prepare package for lazy loading
** help
*** installing help indices
converting help for package 'peco'
finding HTML links ... done
cellcyclegenes_whitfield2002 html
circ_dist html
cycle_npreg_insample html
cycle_npreg_loglik html
cycle_npreg_mstep html
cycle_npreg_outsample html
data_transform_quantile html
fit_bspline html
fit_cyclical_many html
fit_loess html
fit_trendfilter html
initialize_grids html
intensity2circle html
model_5genes_predict html
model_5genes_train html
rotation html
sce_top101genes html
shift_origin html
training_human html
** building package indices
** installing vignettes
** testing if installed package can be loaded from temporary location
** testing if installed package can be loaded from final location
** testing if installed package keeps a record of temporary installation path
install for x64
* installing *source* package 'peco' ...
** testing if installed package can be loaded
* MD5 sums
packaged installation of 'peco' as peco_1.4.0.zip
* DONE (peco)
* installing to library 'C:/Users/biocbuild/bbs-3.13-bioc/R/library'
package 'peco' successfully unpacked and MD5 sums checked
|
peco.Rcheck/examples_i386/peco-Ex.timings
|
peco.Rcheck/examples_x64/peco-Ex.timings
|