| Back to Multiple platform build/check report for BioC 3.13 |
|
This page was generated on 2021-10-15 15:06:14 -0400 (Fri, 15 Oct 2021).
|
To the developers/maintainers of the oneSENSE package: - Please allow up to 24 hours (and sometimes 48 hours) for your latest push to git@git.bioconductor.org:packages/oneSENSE.git to reflect on this report. See How and When does the builder pull? When will my changes propagate? here for more information. - Make sure to use the following settings in order to reproduce any error or warning you see on this page. |
| Package 1309/2041 | Hostname | OS / Arch | INSTALL | BUILD | CHECK | BUILD BIN | ||||||||
| oneSENSE 1.14.0 (landing page) Yong Kee Tan
| nebbiolo1 | Linux (Ubuntu 20.04.2 LTS) / x86_64 | OK | OK | WARNINGS | |||||||||
| tokay2 | Windows Server 2012 R2 Standard / x64 | OK | OK | ERROR | OK | |||||||||
| machv2 | macOS 10.14.6 Mojave / x86_64 | OK | OK | WARNINGS | OK | |||||||||
| Package: oneSENSE |
| Version: 1.14.0 |
| Command: rm -rf oneSENSE.buildbin-libdir && mkdir oneSENSE.buildbin-libdir && C:\Users\biocbuild\bbs-3.13-bioc\R\bin\R.exe CMD INSTALL --merge-multiarch --build --library=oneSENSE.buildbin-libdir oneSENSE_1.14.0.tar.gz |
| StartedAt: 2021-10-15 10:47:38 -0400 (Fri, 15 Oct 2021) |
| EndedAt: 2021-10-15 10:48:55 -0400 (Fri, 15 Oct 2021) |
| EllapsedTime: 76.3 seconds |
| RetCode: 0 |
| Status: OK |
| PackageFile: oneSENSE_1.14.0.zip |
| PackageFileSize: 1.667 MiB |
##############################################################################
##############################################################################
###
### Running command:
###
### rm -rf oneSENSE.buildbin-libdir && mkdir oneSENSE.buildbin-libdir && C:\Users\biocbuild\bbs-3.13-bioc\R\bin\R.exe CMD INSTALL --merge-multiarch --build --library=oneSENSE.buildbin-libdir oneSENSE_1.14.0.tar.gz
###
##############################################################################
##############################################################################
install for i386
* installing *source* package 'oneSENSE' ...
** using staged installation
** R
** inst
** byte-compile and prepare package for lazy loading
** help
*** installing help indices
converting help for package 'oneSENSE'
finding HTML links ... done
FCStSNE html
OneSmapperFlour html
OneSmapperFreq1 html
OneSmapperFreq2 html
getCoords html
getParameters html
oneSENSE_GUI html
** building package indices
** installing vignettes
** testing if installed package can be loaded from temporary location
** testing if installed package can be loaded from final location
** testing if installed package keeps a record of temporary installation path
install for x64
* installing *source* package 'oneSENSE' ...
** testing if installed package can be loaded
* MD5 sums
packaged installation of 'oneSENSE' as oneSENSE_1.14.0.zip
* DONE (oneSENSE)