| Back to Multiple platform build/check report for BioC 3.13 |
|
This page was generated on 2021-10-15 15:06:14 -0400 (Fri, 15 Oct 2021).
|
To the developers/maintainers of the oligo package: - Please allow up to 24 hours (and sometimes 48 hours) for your latest push to git@git.bioconductor.org:packages/oligo.git to reflect on this report. See How and When does the builder pull? When will my changes propagate? here for more information. - Make sure to use the following settings in order to reproduce any error or warning you see on this page. |
| Package 1291/2041 | Hostname | OS / Arch | INSTALL | BUILD | CHECK | BUILD BIN | ||||||||
| oligo 1.56.0 (landing page) Benilton Carvalho
| nebbiolo1 | Linux (Ubuntu 20.04.2 LTS) / x86_64 | OK | OK | WARNINGS | |||||||||
| tokay2 | Windows Server 2012 R2 Standard / x64 | OK | OK | WARNINGS | OK | |||||||||
| machv2 | macOS 10.14.6 Mojave / x86_64 | OK | OK | WARNINGS | OK | |||||||||
| Package: oligo |
| Version: 1.56.0 |
| Command: rm -rf oligo.buildbin-libdir && mkdir oligo.buildbin-libdir && C:\Users\biocbuild\bbs-3.13-bioc\R\bin\R.exe CMD INSTALL --merge-multiarch --build --library=oligo.buildbin-libdir oligo_1.56.0.tar.gz |
| StartedAt: 2021-10-15 10:45:20 -0400 (Fri, 15 Oct 2021) |
| EndedAt: 2021-10-15 10:46:35 -0400 (Fri, 15 Oct 2021) |
| EllapsedTime: 75.5 seconds |
| RetCode: 0 |
| Status: OK |
| PackageFile: oligo_1.56.0.zip |
| PackageFileSize: 27.99 MiB |
##############################################################################
##############################################################################
###
### Running command:
###
### rm -rf oligo.buildbin-libdir && mkdir oligo.buildbin-libdir && C:\Users\biocbuild\bbs-3.13-bioc\R\bin\R.exe CMD INSTALL --merge-multiarch --build --library=oligo.buildbin-libdir oligo_1.56.0.tar.gz
###
##############################################################################
##############################################################################
install for i386
* installing *source* package 'oligo' ...
** using staged installation
** libs
"C:/rtools40/mingw32/bin/"gcc -I"C:/Users/biocbuild/bbs-3.13-bioc/R/library/zlibbioc/include" -I"C:/Users/BIOCBU~1/BBS-3~1.13-/R/include" -DNDEBUG -I'C:/Users/biocbuild/bbs-3.13-bioc/R/library/preprocessCore/include' -I"c:/extsoft/include" -O2 -Wall -std=gnu99 -mfpmath=sse -msse2 -mstackrealign -c DABG.c -o DABG.o
"C:/rtools40/mingw32/bin/"gcc -I"C:/Users/biocbuild/bbs-3.13-bioc/R/library/zlibbioc/include" -I"C:/Users/BIOCBU~1/BBS-3~1.13-/R/include" -DNDEBUG -I'C:/Users/biocbuild/bbs-3.13-bioc/R/library/preprocessCore/include' -I"c:/extsoft/include" -O2 -Wall -std=gnu99 -mfpmath=sse -msse2 -mstackrealign -c ParserGzXYS.c -o ParserGzXYS.o
"C:/rtools40/mingw32/bin/"gcc -I"C:/Users/biocbuild/bbs-3.13-bioc/R/library/zlibbioc/include" -I"C:/Users/BIOCBU~1/BBS-3~1.13-/R/include" -DNDEBUG -I'C:/Users/biocbuild/bbs-3.13-bioc/R/library/preprocessCore/include' -I"c:/extsoft/include" -O2 -Wall -std=gnu99 -mfpmath=sse -msse2 -mstackrealign -c ParserXYS.c -o ParserXYS.o
"C:/rtools40/mingw32/bin/"gcc -I"C:/Users/biocbuild/bbs-3.13-bioc/R/library/zlibbioc/include" -I"C:/Users/BIOCBU~1/BBS-3~1.13-/R/include" -DNDEBUG -I'C:/Users/biocbuild/bbs-3.13-bioc/R/library/preprocessCore/include' -I"c:/extsoft/include" -O2 -Wall -std=gnu99 -mfpmath=sse -msse2 -mstackrealign -c baseProfile.c -o baseProfile.o
"C:/rtools40/mingw32/bin/"gcc -I"C:/Users/biocbuild/bbs-3.13-bioc/R/library/zlibbioc/include" -I"C:/Users/BIOCBU~1/BBS-3~1.13-/R/include" -DNDEBUG -I'C:/Users/biocbuild/bbs-3.13-bioc/R/library/preprocessCore/include' -I"c:/extsoft/include" -O2 -Wall -std=gnu99 -mfpmath=sse -msse2 -mstackrealign -c basecontent.c -o basecontent.o
"C:/rtools40/mingw32/bin/"gcc -I"C:/Users/biocbuild/bbs-3.13-bioc/R/library/zlibbioc/include" -I"C:/Users/BIOCBU~1/BBS-3~1.13-/R/include" -DNDEBUG -I'C:/Users/biocbuild/bbs-3.13-bioc/R/library/preprocessCore/include' -I"c:/extsoft/include" -O2 -Wall -std=gnu99 -mfpmath=sse -msse2 -mstackrealign -c chipbackground.c -o chipbackground.o
"C:/rtools40/mingw32/bin/"gcc -I"C:/Users/biocbuild/bbs-3.13-bioc/R/library/zlibbioc/include" -I"C:/Users/BIOCBU~1/BBS-3~1.13-/R/include" -DNDEBUG -I'C:/Users/biocbuild/bbs-3.13-bioc/R/library/preprocessCore/include' -I"c:/extsoft/include" -O2 -Wall -std=gnu99 -mfpmath=sse -msse2 -mstackrealign -c mas5calls.c -o mas5calls.o
"C:/rtools40/mingw32/bin/"gcc -I"C:/Users/biocbuild/bbs-3.13-bioc/R/library/zlibbioc/include" -I"C:/Users/BIOCBU~1/BBS-3~1.13-/R/include" -DNDEBUG -I'C:/Users/biocbuild/bbs-3.13-bioc/R/library/preprocessCore/include' -I"c:/extsoft/include" -O2 -Wall -std=gnu99 -mfpmath=sse -msse2 -mstackrealign -c rma2.c -o rma2.o
"C:/rtools40/mingw32/bin/"gcc -I"C:/Users/biocbuild/bbs-3.13-bioc/R/library/zlibbioc/include" -I"C:/Users/BIOCBU~1/BBS-3~1.13-/R/include" -DNDEBUG -I'C:/Users/biocbuild/bbs-3.13-bioc/R/library/preprocessCore/include' -I"c:/extsoft/include" -O2 -Wall -std=gnu99 -mfpmath=sse -msse2 -mstackrealign -c rma_common.c -o rma_common.o
"C:/rtools40/mingw32/bin/"gcc -I"C:/Users/biocbuild/bbs-3.13-bioc/R/library/zlibbioc/include" -I"C:/Users/BIOCBU~1/BBS-3~1.13-/R/include" -DNDEBUG -I'C:/Users/biocbuild/bbs-3.13-bioc/R/library/preprocessCore/include' -I"c:/extsoft/include" -O2 -Wall -std=gnu99 -mfpmath=sse -msse2 -mstackrealign -c trimmed.c -o trimmed.o
C:/rtools40/mingw32/bin/gcc -shared -s -static-libgcc -o oligo.dll tmp.def DABG.o ParserGzXYS.o ParserXYS.o baseProfile.o basecontent.o chipbackground.o mas5calls.o rma2.o rma_common.o trimmed.o -lgfortran -lm -lquadmath -LC:/Users/BIOCBU~1/BBS-3~1.13-/R/bin/i386 -lRlapack -LC:/Users/BIOCBU~1/BBS-3~1.13-/R/bin/i386 -lRblas -LC:/Users/biocbuild/bbs-3.13-bioc/R/library/zlibbioc/libs/i386 -lzlib1bioc -Lc:/extsoft/lib/i386 -Lc:/extsoft/lib -LC:/Users/BIOCBU~1/BBS-3~1.13-/R/bin/i386 -lR
installing to C:/Users/biocbuild/bbs-3.13-bioc/meat/oligo.buildbin-libdir/00LOCK-oligo/00new/oligo/libs/i386
** R
** inst
** byte-compile and prepare package for lazy loading
Note: in method for 'pm<-' with signature
'object="TilingFeatureSet",subset="ANY",target="ANY",value="array"':
expanding the signature to include omitted arguments in definition:
subset = "missing", target = "missing"
Note: in method for 'mm<-' with signature
'object="TilingFeatureSet",subset="ANY",target="ANY",value="array"':
expanding the signature to include omitted arguments in definition:
subset = "missing", target = "missing"
** help
*** installing help indices
converting help for package 'oligo'
finding HTML links ... done
Index-methods html
IntensityMatrix-methods html
MAplot-methods html
Sequences-methods html
basecontent html
basicPLM html
basicRMA html
boxplot html
chromosome html
colors html
coordinates html
crlmm html
fitProbeLevelModel html
getAffinitySplineCoefficients html
getBaseProfile html
getContainer html
getCrlmmSummaries html
getNetAffx html
getNgsColorsInfo html
getPlatformDesign html
getProbeInfo html
hist html
image html
justSNPRMA html
list.xysfiles html
oligo-package html
oligoDefunct html
oligoPLM-class html
paCalls html
plotM-methods html
pmAllele html
pmFragmentLength html
pmPosition html
pmStrand html
preprocessTools html
probeNames html
read.celfiles html
read.xysfiles html
readSummaries html
rma-methods html
runDate html
sequenceDesignMatrix html
snprma html
** building package indices
** installing vignettes
** testing if installed package can be loaded from temporary location
** testing if installed package can be loaded from final location
** testing if installed package keeps a record of temporary installation path
install for x64
* installing *source* package 'oligo' ...
** libs
"C:/rtools40/mingw64/bin/"gcc -I"C:/Users/biocbuild/bbs-3.13-bioc/R/library/zlibbioc/include" -I"C:/Users/BIOCBU~1/BBS-3~1.13-/R/include" -DNDEBUG -I'C:/Users/biocbuild/bbs-3.13-bioc/R/library/preprocessCore/include' -I"C:/extsoft/include" -O2 -Wall -std=gnu99 -mfpmath=sse -msse2 -mstackrealign -c DABG.c -o DABG.o
"C:/rtools40/mingw64/bin/"gcc -I"C:/Users/biocbuild/bbs-3.13-bioc/R/library/zlibbioc/include" -I"C:/Users/BIOCBU~1/BBS-3~1.13-/R/include" -DNDEBUG -I'C:/Users/biocbuild/bbs-3.13-bioc/R/library/preprocessCore/include' -I"C:/extsoft/include" -O2 -Wall -std=gnu99 -mfpmath=sse -msse2 -mstackrealign -c ParserGzXYS.c -o ParserGzXYS.o
"C:/rtools40/mingw64/bin/"gcc -I"C:/Users/biocbuild/bbs-3.13-bioc/R/library/zlibbioc/include" -I"C:/Users/BIOCBU~1/BBS-3~1.13-/R/include" -DNDEBUG -I'C:/Users/biocbuild/bbs-3.13-bioc/R/library/preprocessCore/include' -I"C:/extsoft/include" -O2 -Wall -std=gnu99 -mfpmath=sse -msse2 -mstackrealign -c ParserXYS.c -o ParserXYS.o
"C:/rtools40/mingw64/bin/"gcc -I"C:/Users/biocbuild/bbs-3.13-bioc/R/library/zlibbioc/include" -I"C:/Users/BIOCBU~1/BBS-3~1.13-/R/include" -DNDEBUG -I'C:/Users/biocbuild/bbs-3.13-bioc/R/library/preprocessCore/include' -I"C:/extsoft/include" -O2 -Wall -std=gnu99 -mfpmath=sse -msse2 -mstackrealign -c baseProfile.c -o baseProfile.o
"C:/rtools40/mingw64/bin/"gcc -I"C:/Users/biocbuild/bbs-3.13-bioc/R/library/zlibbioc/include" -I"C:/Users/BIOCBU~1/BBS-3~1.13-/R/include" -DNDEBUG -I'C:/Users/biocbuild/bbs-3.13-bioc/R/library/preprocessCore/include' -I"C:/extsoft/include" -O2 -Wall -std=gnu99 -mfpmath=sse -msse2 -mstackrealign -c basecontent.c -o basecontent.o
"C:/rtools40/mingw64/bin/"gcc -I"C:/Users/biocbuild/bbs-3.13-bioc/R/library/zlibbioc/include" -I"C:/Users/BIOCBU~1/BBS-3~1.13-/R/include" -DNDEBUG -I'C:/Users/biocbuild/bbs-3.13-bioc/R/library/preprocessCore/include' -I"C:/extsoft/include" -O2 -Wall -std=gnu99 -mfpmath=sse -msse2 -mstackrealign -c chipbackground.c -o chipbackground.o
"C:/rtools40/mingw64/bin/"gcc -I"C:/Users/biocbuild/bbs-3.13-bioc/R/library/zlibbioc/include" -I"C:/Users/BIOCBU~1/BBS-3~1.13-/R/include" -DNDEBUG -I'C:/Users/biocbuild/bbs-3.13-bioc/R/library/preprocessCore/include' -I"C:/extsoft/include" -O2 -Wall -std=gnu99 -mfpmath=sse -msse2 -mstackrealign -c mas5calls.c -o mas5calls.o
"C:/rtools40/mingw64/bin/"gcc -I"C:/Users/biocbuild/bbs-3.13-bioc/R/library/zlibbioc/include" -I"C:/Users/BIOCBU~1/BBS-3~1.13-/R/include" -DNDEBUG -I'C:/Users/biocbuild/bbs-3.13-bioc/R/library/preprocessCore/include' -I"C:/extsoft/include" -O2 -Wall -std=gnu99 -mfpmath=sse -msse2 -mstackrealign -c rma2.c -o rma2.o
"C:/rtools40/mingw64/bin/"gcc -I"C:/Users/biocbuild/bbs-3.13-bioc/R/library/zlibbioc/include" -I"C:/Users/BIOCBU~1/BBS-3~1.13-/R/include" -DNDEBUG -I'C:/Users/biocbuild/bbs-3.13-bioc/R/library/preprocessCore/include' -I"C:/extsoft/include" -O2 -Wall -std=gnu99 -mfpmath=sse -msse2 -mstackrealign -c rma_common.c -o rma_common.o
"C:/rtools40/mingw64/bin/"gcc -I"C:/Users/biocbuild/bbs-3.13-bioc/R/library/zlibbioc/include" -I"C:/Users/BIOCBU~1/BBS-3~1.13-/R/include" -DNDEBUG -I'C:/Users/biocbuild/bbs-3.13-bioc/R/library/preprocessCore/include' -I"C:/extsoft/include" -O2 -Wall -std=gnu99 -mfpmath=sse -msse2 -mstackrealign -c trimmed.c -o trimmed.o
C:/rtools40/mingw64/bin/gcc -shared -s -static-libgcc -o oligo.dll tmp.def DABG.o ParserGzXYS.o ParserXYS.o baseProfile.o basecontent.o chipbackground.o mas5calls.o rma2.o rma_common.o trimmed.o -lgfortran -lm -lquadmath -LC:/Users/BIOCBU~1/BBS-3~1.13-/R/bin/x64 -lRlapack -LC:/Users/BIOCBU~1/BBS-3~1.13-/R/bin/x64 -lRblas -LC:/Users/biocbuild/bbs-3.13-bioc/R/library/zlibbioc/libs/x64 -lzlib1bioc -LC:/extsoft/lib/x64 -LC:/extsoft/lib -LC:/Users/BIOCBU~1/BBS-3~1.13-/R/bin/x64 -lR
installing to C:/Users/biocbuild/bbs-3.13-bioc/meat/oligo.buildbin-libdir/oligo/libs/x64
** testing if installed package can be loaded
* MD5 sums
packaged installation of 'oligo' as oligo_1.56.0.zip
* DONE (oligo)