| Back to Multiple platform build/check report for BioC 3.13 |
|
This page was generated on 2021-10-15 15:06:14 -0400 (Fri, 15 Oct 2021).
|
To the developers/maintainers of the netprioR package: - Please allow up to 24 hours (and sometimes 48 hours) for your latest push to git@git.bioconductor.org:packages/netprioR.git to reflect on this report. See How and When does the builder pull? When will my changes propagate? here for more information. - Make sure to use the following settings in order to reproduce any error or warning you see on this page. |
| Package 1266/2041 | Hostname | OS / Arch | INSTALL | BUILD | CHECK | BUILD BIN | ||||||||
| netprioR 1.18.0 (landing page) Fabian Schmich
| nebbiolo1 | Linux (Ubuntu 20.04.2 LTS) / x86_64 | OK | OK | OK | |||||||||
| tokay2 | Windows Server 2012 R2 Standard / x64 | OK | OK | OK | OK | |||||||||
| machv2 | macOS 10.14.6 Mojave / x86_64 | OK | OK | OK | OK | |||||||||
| Package: netprioR |
| Version: 1.18.0 |
| Command: rm -rf netprioR.buildbin-libdir && mkdir netprioR.buildbin-libdir && C:\Users\biocbuild\bbs-3.13-bioc\R\bin\R.exe CMD INSTALL --merge-multiarch --build --library=netprioR.buildbin-libdir netprioR_1.18.0.tar.gz |
| StartedAt: 2021-10-15 10:41:50 -0400 (Fri, 15 Oct 2021) |
| EndedAt: 2021-10-15 10:43:07 -0400 (Fri, 15 Oct 2021) |
| EllapsedTime: 76.8 seconds |
| RetCode: 0 |
| Status: OK |
| PackageFile: netprioR_1.18.0.zip |
| PackageFileSize: 609.6 KiB |
##############################################################################
##############################################################################
###
### Running command:
###
### rm -rf netprioR.buildbin-libdir && mkdir netprioR.buildbin-libdir && C:\Users\biocbuild\bbs-3.13-bioc\R\bin\R.exe CMD INSTALL --merge-multiarch --build --library=netprioR.buildbin-libdir netprioR_1.18.0.tar.gz
###
##############################################################################
##############################################################################
install for i386
* installing *source* package 'netprioR' ...
** using staged installation
** R
** data
*** moving datasets to lazyload DB
** inst
** byte-compile and prepare package for lazy loading
** help
*** installing help indices
converting help for package 'netprioR'
finding HTML links ... done
ROC-methods html
bandwidth html
cmn html
conjugate_gradient html
cuthill_mckee html
fit-methods html
laplacian html
learn html
netprioR-class html
netprioR-package html
norm_kern html
plot.netprioR html
ranks-methods html
simulate_labels html
simulate_network_random html
simulate_network_scalefree html
simulate_phenotype html
simulation html
weights-methods html
** building package indices
** installing vignettes
** testing if installed package can be loaded from temporary location
** testing if installed package can be loaded from final location
** testing if installed package keeps a record of temporary installation path
install for x64
* installing *source* package 'netprioR' ...
** testing if installed package can be loaded
* MD5 sums
packaged installation of 'netprioR' as netprioR_1.18.0.zip
* DONE (netprioR)