| Back to Multiple platform build/check report for BioC 3.13 |
|
This page was generated on 2021-10-15 15:05:45 -0400 (Fri, 15 Oct 2021).
|
To the developers/maintainers of the mixOmics package: - Please allow up to 24 hours (and sometimes 48 hours) for your latest push to git@git.bioconductor.org:packages/mixOmics.git to reflect on this report. See How and When does the builder pull? When will my changes propagate? here for more information. - Make sure to use the following settings in order to reproduce any error or warning you see on this page. |
| Package 1161/2041 | Hostname | OS / Arch | INSTALL | BUILD | CHECK | BUILD BIN | ||||||||
| mixOmics 6.16.3 (landing page) Al J Abadi
| nebbiolo1 | Linux (Ubuntu 20.04.2 LTS) / x86_64 | OK | OK | OK | |||||||||
| tokay2 | Windows Server 2012 R2 Standard / x64 | OK | OK | OK | OK | |||||||||
| machv2 | macOS 10.14.6 Mojave / x86_64 | OK | OK | OK | OK | |||||||||
| Package: mixOmics |
| Version: 6.16.3 |
| Command: /home/biocbuild/bbs-3.13-bioc/R/bin/R CMD check --install=check:mixOmics.install-out.txt --library=/home/biocbuild/bbs-3.13-bioc/R/library --no-vignettes --timings mixOmics_6.16.3.tar.gz |
| StartedAt: 2021-10-14 10:38:59 -0400 (Thu, 14 Oct 2021) |
| EndedAt: 2021-10-14 10:42:29 -0400 (Thu, 14 Oct 2021) |
| EllapsedTime: 210.1 seconds |
| RetCode: 0 |
| Status: OK |
| CheckDir: mixOmics.Rcheck |
| Warnings: 0 |
##############################################################################
##############################################################################
###
### Running command:
###
### /home/biocbuild/bbs-3.13-bioc/R/bin/R CMD check --install=check:mixOmics.install-out.txt --library=/home/biocbuild/bbs-3.13-bioc/R/library --no-vignettes --timings mixOmics_6.16.3.tar.gz
###
##############################################################################
##############################################################################
* using log directory ‘/home/biocbuild/bbs-3.13-bioc/meat/mixOmics.Rcheck’
* using R version 4.1.1 (2021-08-10)
* using platform: x86_64-pc-linux-gnu (64-bit)
* using session charset: UTF-8
* using option ‘--no-vignettes’
* checking for file ‘mixOmics/DESCRIPTION’ ... OK
* checking extension type ... Package
* this is package ‘mixOmics’ version ‘6.16.3’
* package encoding: UTF-8
* checking package namespace information ... OK
* checking package dependencies ... OK
* checking if this is a source package ... OK
* checking if there is a namespace ... OK
* checking for hidden files and directories ... OK
* checking for portable file names ... OK
* checking for sufficient/correct file permissions ... OK
* checking whether package ‘mixOmics’ can be installed ... OK
* checking installed package size ... NOTE
installed size is 5.2Mb
sub-directories of 1Mb or more:
R 1.2Mb
data 3.4Mb
* checking package directory ... OK
* checking ‘build’ directory ... OK
* checking DESCRIPTION meta-information ...It is recommended to use ‘given’ instead of ‘middle’.
OK
* checking top-level files ... OK
* checking for left-over files ... OK
* checking index information ... OK
* checking package subdirectories ... OK
* checking R files for non-ASCII characters ... OK
* checking R files for syntax errors ... OK
* checking whether the package can be loaded ... OK
* checking whether the package can be loaded with stated dependencies ... OK
* checking whether the package can be unloaded cleanly ... OK
* checking whether the namespace can be loaded with stated dependencies ... OK
* checking whether the namespace can be unloaded cleanly ... OK
* checking dependencies in R code ... OK
* checking S3 generic/method consistency ... OK
* checking replacement functions ... OK
* checking foreign function calls ... OK
* checking R code for possible problems ... OK
* checking Rd files ... OK
* checking Rd metadata ... OK
* checking Rd cross-references ... OK
* checking for missing documentation entries ... OK
* checking for code/documentation mismatches ... OK
* checking Rd \usage sections ... OK
* checking Rd contents ... OK
* checking for unstated dependencies in examples ... OK
* checking contents of ‘data’ directory ... OK
* checking data for non-ASCII characters ... OK
* checking data for ASCII and uncompressed saves ... OK
* checking files in ‘vignettes’ ... OK
* checking examples ... OK
Examples with CPU (user + system) or elapsed time > 5s
user system elapsed
biplot 13.195 0.268 13.465
background.predict 5.855 0.067 5.923
* checking for unstated dependencies in ‘tests’ ... OK
* checking tests ...
Running ‘testthat.R’
OK
* checking for unstated dependencies in vignettes ... OK
* checking package vignettes in ‘inst/doc’ ... OK
* checking running R code from vignettes ... SKIPPED
* checking re-building of vignette outputs ... SKIPPED
* checking PDF version of manual ... OK
* DONE
Status: 1 NOTE
See
‘/home/biocbuild/bbs-3.13-bioc/meat/mixOmics.Rcheck/00check.log’
for details.
mixOmics.Rcheck/00install.out
############################################################################## ############################################################################## ### ### Running command: ### ### /home/biocbuild/bbs-3.13-bioc/R/bin/R CMD INSTALL mixOmics ### ############################################################################## ############################################################################## * installing to library ‘/home/biocbuild/bbs-3.13-bioc/R/library’ * installing *source* package ‘mixOmics’ ... ** using staged installation It is recommended to use ‘given’ instead of ‘middle’. It is recommended to use ‘given’ instead of ‘middle’. ** R ** data ** inst ** byte-compile and prepare package for lazy loading ** help *** installing help indices ** building package indices ** installing vignettes ** testing if installed package can be loaded from temporary location ** testing if installed package can be loaded from final location ** testing if installed package keeps a record of temporary installation path * DONE (mixOmics)
mixOmics.Rcheck/tests/testthat.Rout
R version 4.1.1 (2021-08-10) -- "Kick Things"
Copyright (C) 2021 The R Foundation for Statistical Computing
Platform: x86_64-pc-linux-gnu (64-bit)
R is free software and comes with ABSOLUTELY NO WARRANTY.
You are welcome to redistribute it under certain conditions.
Type 'license()' or 'licence()' for distribution details.
R is a collaborative project with many contributors.
Type 'contributors()' for more information and
'citation()' on how to cite R or R packages in publications.
Type 'demo()' for some demos, 'help()' for on-line help, or
'help.start()' for an HTML browser interface to help.
Type 'q()' to quit R.
> library(testthat)
> library(mixOmics)
Loading required package: MASS
Loading required package: lattice
Loading required package: ggplot2
Loaded mixOmics 6.16.3
Thank you for using mixOmics!
Tutorials: http://mixomics.org
Bookdown vignette: https://mixomicsteam.github.io/Bookdown
Questions, issues: Follow the prompts at http://mixomics.org/contact-us
Cite us: citation('mixOmics')
>
> test_check("mixOmics")
$Comp1
AUC p-value
AF vs BE 0.863 2.473e-05
$Comp2
AUC p-value
AF vs BE 0.9981 7.124e-09
Performing repeated cross-validation with nrepeat = 3...
|
| | 0%
|
|======================= | 33%
|
|=============================================== | 67%
|
|======================================================================| 100%
Performing repeated cross-validation with nrepeat = 3...
|
| | 0%[ FAIL 0 | WARN 2 | SKIP 0 | PASS 136 ]
>
> proc.time()
user system elapsed
42.684 2.349 42.882
mixOmics.Rcheck/mixOmics-Ex.timings
| name | user | system | elapsed | |
| S3methods-print | 0.017 | 0.001 | 0.017 | |
| auroc | 0.525 | 0.000 | 0.526 | |
| background.predict | 5.855 | 0.067 | 5.923 | |
| biplot | 13.195 | 0.268 | 13.465 | |
| block.pls | 0.408 | 0.036 | 0.444 | |
| block.plsda | 0.611 | 0.008 | 0.619 | |
| block.spls | 0.406 | 0.008 | 0.415 | |
| block.splsda | 0.755 | 0.076 | 0.831 | |
| cim | 0.023 | 0.004 | 0.027 | |
| cimDiablo | 0.103 | 0.004 | 0.107 | |
| circosPlot | 0.808 | 0.004 | 0.812 | |
| colors | 0.02 | 0.00 | 0.02 | |
| explained_variance | 0.082 | 0.016 | 0.097 | |
| get.confusion_matrix | 0.134 | 0.000 | 0.133 | |
| image.tune.rcc | 1.600 | 0.016 | 1.616 | |
| imgCor | 0.069 | 0.003 | 0.072 | |
| impute.nipals | 0.013 | 0.000 | 0.014 | |
| ipca | 0.640 | 0.004 | 0.644 | |
| logratio-transformations | 0.049 | 0.004 | 0.053 | |
| map | 0.005 | 0.000 | 0.004 | |
| mat.rank | 0.002 | 0.000 | 0.002 | |
| mint.block.pls | 0.121 | 0.000 | 0.121 | |
| mint.block.plsda | 0.100 | 0.002 | 0.100 | |
| mint.block.spls | 0.138 | 0.002 | 0.141 | |
| mint.block.splsda | 0.116 | 0.000 | 0.116 | |
| mint.pca | 0.308 | 0.000 | 0.308 | |
| mint.pls | 0.398 | 0.000 | 0.398 | |
| mint.plsda | 0.481 | 0.000 | 0.480 | |
| mint.spls | 0.403 | 0.000 | 0.402 | |
| mint.splsda | 0.737 | 0.004 | 0.741 | |
| mixOmics | 0.244 | 0.008 | 0.252 | |
| nearZeroVar | 0.875 | 0.000 | 0.875 | |
| network | 0.008 | 0.004 | 0.011 | |
| pca | 3.684 | 0.004 | 3.689 | |
| perf | 2.593 | 0.004 | 2.598 | |
| plot.rcc | 0.013 | 0.000 | 0.013 | |
| plot.tune | 0.000 | 0.002 | 0.001 | |
| plotArrow | 2.544 | 0.009 | 2.554 | |
| plotDiablo | 0.158 | 0.004 | 0.162 | |
| plotIndiv | 0.243 | 0.004 | 0.246 | |
| plotLoadings | 0.102 | 0.004 | 0.106 | |
| plotVar | 0.466 | 0.000 | 0.466 | |
| pls | 0.007 | 0.000 | 0.007 | |
| plsda | 0.283 | 0.008 | 0.291 | |
| predict | 0.151 | 0.002 | 0.153 | |
| rcc | 0.001 | 0.001 | 0.003 | |
| selectVar | 0.357 | 0.003 | 0.361 | |
| sipca | 0.473 | 0.000 | 0.474 | |
| spca | 2.784 | 0.012 | 2.796 | |
| spls | 0.429 | 0.008 | 0.437 | |
| splsda | 0.270 | 0.004 | 0.275 | |
| study_split | 0.006 | 0.000 | 0.005 | |
| summary | 0.013 | 0.000 | 0.014 | |
| tune | 3.734 | 0.021 | 3.753 | |
| tune.block.splsda | 0.001 | 0.000 | 0.001 | |
| tune.mint.splsda | 2.710 | 0.001 | 2.710 | |
| tune.pca | 0.158 | 0.000 | 0.158 | |
| tune.rcc | 1.641 | 0.000 | 1.642 | |
| tune.spca | 0.489 | 0.008 | 0.497 | |
| tune.spls | 0 | 0 | 0 | |
| tune.splsda | 3.933 | 0.013 | 3.964 | |
| tune.splslevel | 0.691 | 0.017 | 0.707 | |
| unmap | 0.006 | 0.000 | 0.006 | |
| vip | 0.005 | 0.004 | 0.009 | |
| withinVariation | 0.65 | 0.00 | 0.65 | |
| wrapper.rgcca | 0.058 | 0.000 | 0.058 | |
| wrapper.sgcca | 0.108 | 0.002 | 0.110 | |