| Back to Multiple platform build/check report for BioC 3.13 |
|
This page was generated on 2021-10-15 15:06:12 -0400 (Fri, 15 Oct 2021).
|
To the developers/maintainers of the mitch package: - Please allow up to 24 hours (and sometimes 48 hours) for your latest push to git@git.bioconductor.org:packages/mitch.git to reflect on this report. See How and When does the builder pull? When will my changes propagate? here for more information. - Make sure to use the following settings in order to reproduce any error or warning you see on this page. |
| Package 1160/2041 | Hostname | OS / Arch | INSTALL | BUILD | CHECK | BUILD BIN | ||||||||
| mitch 1.4.1 (landing page) Mark Ziemann
| nebbiolo1 | Linux (Ubuntu 20.04.2 LTS) / x86_64 | OK | OK | OK | |||||||||
| tokay2 | Windows Server 2012 R2 Standard / x64 | OK | OK | OK | OK | |||||||||
| machv2 | macOS 10.14.6 Mojave / x86_64 | OK | OK | OK | OK | |||||||||
| Package: mitch |
| Version: 1.4.1 |
| Command: C:\Users\biocbuild\bbs-3.13-bioc\R\bin\R.exe CMD check --force-multiarch --install=check:mitch.install-out.txt --library=C:\Users\biocbuild\bbs-3.13-bioc\R\library --no-vignettes --timings mitch_1.4.1.tar.gz |
| StartedAt: 2021-10-15 02:06:24 -0400 (Fri, 15 Oct 2021) |
| EndedAt: 2021-10-15 02:12:50 -0400 (Fri, 15 Oct 2021) |
| EllapsedTime: 386.9 seconds |
| RetCode: 0 |
| Status: OK |
| CheckDir: mitch.Rcheck |
| Warnings: 0 |
##############################################################################
##############################################################################
###
### Running command:
###
### C:\Users\biocbuild\bbs-3.13-bioc\R\bin\R.exe CMD check --force-multiarch --install=check:mitch.install-out.txt --library=C:\Users\biocbuild\bbs-3.13-bioc\R\library --no-vignettes --timings mitch_1.4.1.tar.gz
###
##############################################################################
##############################################################################
* using log directory 'C:/Users/biocbuild/bbs-3.13-bioc/meat/mitch.Rcheck'
* using R version 4.1.1 (2021-08-10)
* using platform: x86_64-w64-mingw32 (64-bit)
* using session charset: ISO8859-1
* using option '--no-vignettes'
* checking for file 'mitch/DESCRIPTION' ... OK
* this is package 'mitch' version '1.4.1'
* package encoding: UTF-8
* checking package namespace information ... OK
* checking package dependencies ... OK
* checking if this is a source package ... OK
* checking if there is a namespace ... OK
* checking for hidden files and directories ... OK
* checking for portable file names ... OK
* checking whether package 'mitch' can be installed ... OK
* checking installed package size ... OK
* checking package directory ... OK
* checking 'build' directory ... OK
* checking DESCRIPTION meta-information ... OK
* checking top-level files ... OK
* checking for left-over files ... OK
* checking index information ... OK
* checking package subdirectories ... OK
* checking R files for non-ASCII characters ... OK
* checking R files for syntax errors ... OK
* loading checks for arch 'i386'
** checking whether the package can be loaded ... OK
** checking whether the package can be loaded with stated dependencies ... OK
** checking whether the package can be unloaded cleanly ... OK
** checking whether the namespace can be loaded with stated dependencies ... OK
** checking whether the namespace can be unloaded cleanly ... OK
* loading checks for arch 'x64'
** checking whether the package can be loaded ... OK
** checking whether the package can be loaded with stated dependencies ... OK
** checking whether the package can be unloaded cleanly ... OK
** checking whether the namespace can be loaded with stated dependencies ... OK
** checking whether the namespace can be unloaded cleanly ... OK
* checking dependencies in R code ... OK
* checking S3 generic/method consistency ... OK
* checking replacement functions ... OK
* checking foreign function calls ... OK
* checking R code for possible problems ... OK
* checking Rd files ... OK
* checking Rd metadata ... OK
* checking Rd cross-references ... OK
* checking for missing documentation entries ... OK
* checking for code/documentation mismatches ... OK
* checking Rd \usage sections ... OK
* checking Rd contents ... OK
* checking for unstated dependencies in examples ... OK
* checking contents of 'data' directory ... OK
* checking data for non-ASCII characters ... OK
* checking data for ASCII and uncompressed saves ... OK
* checking files in 'vignettes' ... OK
* checking examples ...
** running examples for arch 'i386' ... OK
Examples with CPU (user + system) or elapsed time > 5s
user system elapsed
mitch 39.42 1.89 42.91
mitch_report 20.42 2.01 23.75
mitch_plots 15.38 0.11 15.49
** running examples for arch 'x64' ... OK
Examples with CPU (user + system) or elapsed time > 5s
user system elapsed
mitch 48.24 2.40 52.22
mitch_report 25.61 2.17 29.11
mitch_plots 19.29 0.05 19.32
* checking for unstated dependencies in 'tests' ... OK
* checking tests ...
** running tests for arch 'i386' ...
Running 'test-mitch.R'
OK
** running tests for arch 'x64' ...
Running 'test-mitch.R'
OK
* checking for unstated dependencies in vignettes ... OK
* checking package vignettes in 'inst/doc' ... OK
* checking running R code from vignettes ... SKIPPED
* checking re-building of vignette outputs ... SKIPPED
* checking PDF version of manual ... OK
* DONE
Status: OK
mitch.Rcheck/00install.out
##############################################################################
##############################################################################
###
### Running command:
###
### C:\cygwin\bin\curl.exe -O http://155.52.207.165/BBS/3.13/bioc/src/contrib/mitch_1.4.1.tar.gz && rm -rf mitch.buildbin-libdir && mkdir mitch.buildbin-libdir && C:\Users\biocbuild\bbs-3.13-bioc\R\bin\R.exe CMD INSTALL --merge-multiarch --build --library=mitch.buildbin-libdir mitch_1.4.1.tar.gz && C:\Users\biocbuild\bbs-3.13-bioc\R\bin\R.exe CMD INSTALL mitch_1.4.1.zip && rm mitch_1.4.1.tar.gz mitch_1.4.1.zip
###
##############################################################################
##############################################################################
% Total % Received % Xferd Average Speed Time Time Time Current
Dload Upload Total Spent Left Speed
0 0 0 0 0 0 0 0 --:--:-- --:--:-- --:--:-- 0
100 381k 100 381k 0 0 1258k 0 --:--:-- --:--:-- --:--:-- 1263k
install for i386
* installing *source* package 'mitch' ...
** using staged installation
** R
** data
** inst
** byte-compile and prepare package for lazy loading
** help
*** installing help indices
converting help for package 'mitch'
finding HTML links ... done
genesetsExample html
gmt_import html
k36a html
k9a html
mitch html
mitch_calc html
mitch_import html
mitch_plots html
mitch_report html
myImportedData html
myList html
resExample html
rna html
** building package indices
** installing vignettes
** testing if installed package can be loaded from temporary location
** testing if installed package can be loaded from final location
** testing if installed package keeps a record of temporary installation path
install for x64
* installing *source* package 'mitch' ...
** testing if installed package can be loaded
* MD5 sums
packaged installation of 'mitch' as mitch_1.4.1.zip
* DONE (mitch)
* installing to library 'C:/Users/biocbuild/bbs-3.13-bioc/R/library'
package 'mitch' successfully unpacked and MD5 sums checked
|
mitch.Rcheck/tests_i386/test-mitch.Rout
R version 4.1.1 (2021-08-10) -- "Kick Things"
Copyright (C) 2021 The R Foundation for Statistical Computing
Platform: i386-w64-mingw32/i386 (32-bit)
R is free software and comes with ABSOLUTELY NO WARRANTY.
You are welcome to redistribute it under certain conditions.
Type 'license()' or 'licence()' for distribution details.
R is a collaborative project with many contributors.
Type 'contributors()' for more information and
'citation()' on how to cite R or R packages in publications.
Type 'demo()' for some demos, 'help()' for on-line help, or
'help.start()' for an HTML browser interface to help.
Type 'q()' to quit R.
> library("mitch")
> library("testthat")
>
> test_that("multiplication works", {
+ expect_equal(2 * 2, 4)
+ })
Test passed
>
> # 1d
> data(rna,genesetsExample)
> y<-mitch_import(rna,DEtype="edgeR")
The input is a single dataframe; one contrast only. Converting
it to a list for you.
Note: Mean no. genes in input = 1000
Note: no. genes in output = 1000
Note: estimated proportion of input genes in output = 1
> res<-mitch_calc(y,genesetsExample,cores=2)
Note: When prioritising by significance (ie: small
p-values), large effect sizes might be missed.
> mitch_plots(res,outfile="1d.pdf")
null device
1
> if (file.exists("1d.html")) { unlink("1d.html") }
> mitch_report(res,"1d.html")
Dataset saved as " C:\Users\biocbuild\bbs-3.13-bioc\tmpdir\RtmpG03oh2/1d.rds ".
processing file: mitch.Rmd
inline R code fragments
label: checklibraries (with options)
List of 1
$ echo: logi FALSE
ordinary text without R code
label: peek (with options)
List of 1
$ echo: logi FALSE
ordinary text without R code
label: metrics (with options)
List of 1
$ echo: logi FALSE
ordinary text without R code
label: scatterplot (with options)
List of 5
$ echo : logi FALSE
$ fig.height: num 6
$ fig.width : num 6.5
$ message : logi FALSE
$ warning : logi FALSE
ordinary text without R code
label: contourplot (with options)
List of 5
$ echo : logi FALSE
$ fig.height: num 6
$ fig.width : num 6.5
$ warning : logi FALSE
$ message : logi FALSE
Contour plot does not apply to unidimensional analysis.
ordinary text without R code
label: input_geneset_metrics1 (with options)
List of 2
$ results: chr "asis"
$ echo : logi FALSE
ordinary text without R code
label: input_geneset_metrics2 (with options)
List of 5
$ results : chr "asis"
$ echo : logi FALSE
$ fig.height: num 7
$ fig.width : num 7
$ fig.show : chr "all"
ordinary text without R code
label: input_geneset_metrics3 (with options)
List of 5
$ results : chr "asis"
$ echo : logi FALSE
$ message : logi FALSE
$ fig.height: num 7
$ fig.width : num 7
ordinary text without R code
label: echart1d (with options)
List of 6
$ results : chr "asis"
$ echo : logi FALSE
$ fig.height: num 7
$ fig.width : num 7
$ fig.show : chr "all"
$ message : logi FALSE
label: echart2d (with options)
List of 6
$ results : chr "asis"
$ echo : logi FALSE
$ fig.height: num 7
$ fig.width : num 7
$ fig.show : chr "all"
$ message : logi FALSE
ordinary text without R code
label: heatmap (with options)
List of 6
$ results : chr "asis"
$ echo : logi FALSE
$ fig.height: num 10
$ fig.width : num 7
$ fig.show : chr "all"
$ message : logi FALSE
ordinary text without R code
label: effectsize (with options)
List of 6
$ results : chr "asis"
$ echo : logi FALSE
$ fig.height: num 7
$ fig.width : num 7
$ fig.show : chr "all"
$ message : logi FALSE
ordinary text without R code
label: results_table (with options)
List of 2
$ results: chr "asis"
$ echo : logi FALSE
ordinary text without R code
label: results_table_complete (with options)
List of 2
$ results: chr "asis"
$ echo : logi FALSE
ordinary text without R code
label: detailed_geneset_reports1d (with options)
List of 7
$ results : chr "asis"
$ echo : logi FALSE
$ fig.height: num 6
$ fig.width : num 6
$ out.width : chr "80%"
$ comment : logi NA
$ message : logi FALSE
ordinary text without R code
label: detailed_geneset_reports2d (with options)
List of 7
$ results : chr "asis"
$ echo : logi FALSE
$ fig.height: num 5
$ fig.width : num 6
$ out.width : chr "80%"
$ comment : logi NA
$ message : logi FALSE
ordinary text without R code
label: session_info (with options)
List of 3
$ include: logi TRUE
$ echo : logi TRUE
$ results: chr "markup"
ordinary text without R code
output file: C:/Users/biocbuild/bbs-3.13-bioc/meat/mitch.Rcheck/tests_i386/mitch.knit.md
"C:/PROGRA~1/Pandoc/pandoc" +RTS -K512m -RTS "C:/Users/biocbuild/bbs-3.13-bioc/meat/mitch.Rcheck/tests_i386/mitch.knit.md" --to html4 --from markdown+autolink_bare_uris+tex_math_single_backslash --output pandoca414cd357a0.html --lua-filter "C:\Users\biocbuild\bbs-3.13-bioc\R\library\rmarkdown\rmarkdown\lua\pagebreak.lua" --lua-filter "C:\Users\biocbuild\bbs-3.13-bioc\R\library\rmarkdown\rmarkdown\lua\latex-div.lua" --self-contained --variable bs3=TRUE --standalone --section-divs --template "C:\Users\biocbuild\bbs-3.13-bioc\R\library\rmarkdown\rmd\h\default.html" --no-highlight --variable highlightjs=1 --variable theme=bootstrap --include-in-header "C:\Users\biocbuild\bbs-3.13-bioc\tmpdir\RtmpG03oh2\rmarkdown-stra414712247ef.html" --mathjax --variable "mathjax-url:https://mathjax.rstudio.com/latest/MathJax.js?config=TeX-AMS-MML_HTMLorMML"
Output created: C:\Users\biocbuild\bbs-3.13-bioc\tmpdir\RtmpG03oh2/mitch_report.html
[1] TRUE
>
> test_that("1d works", {
+ expect_equal( length(which(res$enrichment_result$p.adjustANOVA<0.1)) ,1)
+ expect_true(file.info("1d.pdf")$size>10000)
+ expect_true(file.info("1d.html")$size>1000000)
+ })
Test passed
>
> unlink("1d.html")
> unlink("1d.pdf")
>
>
> # 1d part 2 to make sure that saving files at a different location works
> MYPATH=paste(getwd(),"/1d.html",sep="")
> if (file.exists("1d.html")) { unlink("1d.html") }
> mitch_report(res,MYPATH)
Dataset saved as " C:\Users\biocbuild\bbs-3.13-bioc\tmpdir\RtmpG03oh2/1d.rds ".
processing file: mitch.Rmd
inline R code fragments
label: checklibraries (with options)
List of 1
$ echo: logi FALSE
ordinary text without R code
label: peek (with options)
List of 1
$ echo: logi FALSE
ordinary text without R code
label: metrics (with options)
List of 1
$ echo: logi FALSE
ordinary text without R code
label: scatterplot (with options)
List of 5
$ echo : logi FALSE
$ fig.height: num 6
$ fig.width : num 6.5
$ message : logi FALSE
$ warning : logi FALSE
ordinary text without R code
label: contourplot (with options)
List of 5
$ echo : logi FALSE
$ fig.height: num 6
$ fig.width : num 6.5
$ warning : logi FALSE
$ message : logi FALSE
Contour plot does not apply to unidimensional analysis.
ordinary text without R code
label: input_geneset_metrics1 (with options)
List of 2
$ results: chr "asis"
$ echo : logi FALSE
ordinary text without R code
label: input_geneset_metrics2 (with options)
List of 5
$ results : chr "asis"
$ echo : logi FALSE
$ fig.height: num 7
$ fig.width : num 7
$ fig.show : chr "all"
ordinary text without R code
label: input_geneset_metrics3 (with options)
List of 5
$ results : chr "asis"
$ echo : logi FALSE
$ message : logi FALSE
$ fig.height: num 7
$ fig.width : num 7
ordinary text without R code
label: echart1d (with options)
List of 6
$ results : chr "asis"
$ echo : logi FALSE
$ fig.height: num 7
$ fig.width : num 7
$ fig.show : chr "all"
$ message : logi FALSE
label: echart2d (with options)
List of 6
$ results : chr "asis"
$ echo : logi FALSE
$ fig.height: num 7
$ fig.width : num 7
$ fig.show : chr "all"
$ message : logi FALSE
ordinary text without R code
label: heatmap (with options)
List of 6
$ results : chr "asis"
$ echo : logi FALSE
$ fig.height: num 10
$ fig.width : num 7
$ fig.show : chr "all"
$ message : logi FALSE
ordinary text without R code
label: effectsize (with options)
List of 6
$ results : chr "asis"
$ echo : logi FALSE
$ fig.height: num 7
$ fig.width : num 7
$ fig.show : chr "all"
$ message : logi FALSE
ordinary text without R code
label: results_table (with options)
List of 2
$ results: chr "asis"
$ echo : logi FALSE
ordinary text without R code
label: results_table_complete (with options)
List of 2
$ results: chr "asis"
$ echo : logi FALSE
ordinary text without R code
label: detailed_geneset_reports1d (with options)
List of 7
$ results : chr "asis"
$ echo : logi FALSE
$ fig.height: num 6
$ fig.width : num 6
$ out.width : chr "80%"
$ comment : logi NA
$ message : logi FALSE
ordinary text without R code
label: detailed_geneset_reports2d (with options)
List of 7
$ results : chr "asis"
$ echo : logi FALSE
$ fig.height: num 5
$ fig.width : num 6
$ out.width : chr "80%"
$ comment : logi NA
$ message : logi FALSE
ordinary text without R code
label: session_info (with options)
List of 3
$ include: logi TRUE
$ echo : logi TRUE
$ results: chr "markup"
ordinary text without R code
output file: C:/Users/biocbuild/bbs-3.13-bioc/meat/mitch.Rcheck/tests_i386/mitch.knit.md
"C:/PROGRA~1/Pandoc/pandoc" +RTS -K512m -RTS "C:/Users/biocbuild/bbs-3.13-bioc/meat/mitch.Rcheck/tests_i386/mitch.knit.md" --to html4 --from markdown+autolink_bare_uris+tex_math_single_backslash --output pandoca41422f8315.html --lua-filter "C:\Users\biocbuild\bbs-3.13-bioc\R\library\rmarkdown\rmarkdown\lua\pagebreak.lua" --lua-filter "C:\Users\biocbuild\bbs-3.13-bioc\R\library\rmarkdown\rmarkdown\lua\latex-div.lua" --self-contained --variable bs3=TRUE --standalone --section-divs --template "C:\Users\biocbuild\bbs-3.13-bioc\R\library\rmarkdown\rmd\h\default.html" --no-highlight --variable highlightjs=1 --variable theme=bootstrap --include-in-header "C:\Users\biocbuild\bbs-3.13-bioc\tmpdir\RtmpG03oh2\rmarkdown-stra414dc61740.html" --mathjax --variable "mathjax-url:https://mathjax.rstudio.com/latest/MathJax.js?config=TeX-AMS-MML_HTMLorMML"
Output created: C:\Users\biocbuild\bbs-3.13-bioc\tmpdir\RtmpG03oh2/mitch_report.html
[1] TRUE
>
> test_that("1d works", {
+ expect_true(file.info("1d.html")$size>1000000)
+ })
Test passed
>
> unlink("1d.html")
>
>
>
> # 2d
> data(rna,k9a,genesetsExample)
> x<-list("rna"=rna,"k9a"=k9a)
> y<-mitch_import(x,DEtype="edgeR")
Note: Mean no. genes in input = 1000
Note: no. genes in output = 1000
Note: estimated proportion of input genes in output = 1
> res<-mitch_calc(y,genesetsExample,cores=2)
Note: When prioritising by significance (ie: small
p-values), large effect sizes might be missed.
> mitch_plots(res,outfile="2d.pdf")
null device
1
> if (file.exists("2d.html")) { unlink("2d.html") }
> mitch_report(res,"2d.html")
Dataset saved as " C:\Users\biocbuild\bbs-3.13-bioc\tmpdir\RtmpG03oh2/2d.rds ".
processing file: mitch.Rmd
inline R code fragments
label: checklibraries (with options)
List of 1
$ echo: logi FALSE
ordinary text without R code
label: peek (with options)
List of 1
$ echo: logi FALSE
ordinary text without R code
label: metrics (with options)
List of 1
$ echo: logi FALSE
ordinary text without R code
label: scatterplot (with options)
List of 5
$ echo : logi FALSE
$ fig.height: num 6
$ fig.width : num 6.5
$ message : logi FALSE
$ warning : logi FALSE
ordinary text without R code
label: contourplot (with options)
List of 5
$ echo : logi FALSE
$ fig.height: num 6
$ fig.width : num 6.5
$ warning : logi FALSE
$ message : logi FALSE
ordinary text without R code
label: input_geneset_metrics1 (with options)
List of 2
$ results: chr "asis"
$ echo : logi FALSE
ordinary text without R code
label: input_geneset_metrics2 (with options)
List of 5
$ results : chr "asis"
$ echo : logi FALSE
$ fig.height: num 7
$ fig.width : num 7
$ fig.show : chr "all"
ordinary text without R code
label: input_geneset_metrics3 (with options)
List of 5
$ results : chr "asis"
$ echo : logi FALSE
$ message : logi FALSE
$ fig.height: num 7
$ fig.width : num 7
ordinary text without R code
label: echart1d (with options)
List of 6
$ results : chr "asis"
$ echo : logi FALSE
$ fig.height: num 7
$ fig.width : num 7
$ fig.show : chr "all"
$ message : logi FALSE
label: echart2d (with options)
List of 6
$ results : chr "asis"
$ echo : logi FALSE
$ fig.height: num 7
$ fig.width : num 7
$ fig.show : chr "all"
$ message : logi FALSE
ordinary text without R code
label: heatmap (with options)
List of 6
$ results : chr "asis"
$ echo : logi FALSE
$ fig.height: num 10
$ fig.width : num 7
$ fig.show : chr "all"
$ message : logi FALSE
ordinary text without R code
label: effectsize (with options)
List of 6
$ results : chr "asis"
$ echo : logi FALSE
$ fig.height: num 7
$ fig.width : num 7
$ fig.show : chr "all"
$ message : logi FALSE
ordinary text without R code
label: results_table (with options)
List of 2
$ results: chr "asis"
$ echo : logi FALSE
ordinary text without R code
label: results_table_complete (with options)
List of 2
$ results: chr "asis"
$ echo : logi FALSE
ordinary text without R code
label: detailed_geneset_reports1d (with options)
List of 7
$ results : chr "asis"
$ echo : logi FALSE
$ fig.height: num 6
$ fig.width : num 6
$ out.width : chr "80%"
$ comment : logi NA
$ message : logi FALSE
ordinary text without R code
label: detailed_geneset_reports2d (with options)
List of 7
$ results : chr "asis"
$ echo : logi FALSE
$ fig.height: num 5
$ fig.width : num 6
$ out.width : chr "80%"
$ comment : logi NA
$ message : logi FALSE
ordinary text without R code
label: session_info (with options)
List of 3
$ include: logi TRUE
$ echo : logi TRUE
$ results: chr "markup"
ordinary text without R code
output file: C:/Users/biocbuild/bbs-3.13-bioc/meat/mitch.Rcheck/tests_i386/mitch.knit.md
"C:/PROGRA~1/Pandoc/pandoc" +RTS -K512m -RTS "C:/Users/biocbuild/bbs-3.13-bioc/meat/mitch.Rcheck/tests_i386/mitch.knit.md" --to html4 --from markdown+autolink_bare_uris+tex_math_single_backslash --output pandoca414175fffe.html --lua-filter "C:\Users\biocbuild\bbs-3.13-bioc\R\library\rmarkdown\rmarkdown\lua\pagebreak.lua" --lua-filter "C:\Users\biocbuild\bbs-3.13-bioc\R\library\rmarkdown\rmarkdown\lua\latex-div.lua" --self-contained --variable bs3=TRUE --standalone --section-divs --template "C:\Users\biocbuild\bbs-3.13-bioc\R\library\rmarkdown\rmd\h\default.html" --no-highlight --variable highlightjs=1 --variable theme=bootstrap --include-in-header "C:\Users\biocbuild\bbs-3.13-bioc\tmpdir\RtmpG03oh2\rmarkdown-stra414136a1bf5.html" --mathjax --variable "mathjax-url:https://mathjax.rstudio.com/latest/MathJax.js?config=TeX-AMS-MML_HTMLorMML"
Output created: C:\Users\biocbuild\bbs-3.13-bioc\tmpdir\RtmpG03oh2/mitch_report.html
[1] TRUE
>
> test_that("2d works", {
+ expect_equal( length(which(res$enrichment_result$p.adjustMANOVA<0.1)) ,1)
+ expect_true(file.info("2d.pdf")$size>100000)
+ expect_true(file.info("2d.html")$size>1000000)
+ })
Test passed
>
> unlink("2d.html")
> unlink("2d.pdf")
>
> # 3d
> data(rna,k9a,k36a,genesetsExample)
> x<-list("rna"=rna,"k9a"=k9a,"k36a"=k36a)
> y<-mitch_import(x,DEtype="edgeR")
Note: Mean no. genes in input = 1000
Note: no. genes in output = 1000
Note: estimated proportion of input genes in output = 1
> res<-mitch_calc(y,genesetsExample,cores=2)
Note: When prioritising by significance (ie: small
p-values), large effect sizes might be missed.
> mitch_plots(res,outfile="3d.pdf")
null device
1
> if (file.exists("3d.html")) { unlink("3d.html") }
> mitch_report(res,"3d.html")
Dataset saved as " C:\Users\biocbuild\bbs-3.13-bioc\tmpdir\RtmpG03oh2/3d.rds ".
processing file: mitch.Rmd
inline R code fragments
label: checklibraries (with options)
List of 1
$ echo: logi FALSE
ordinary text without R code
label: peek (with options)
List of 1
$ echo: logi FALSE
ordinary text without R code
label: metrics (with options)
List of 1
$ echo: logi FALSE
ordinary text without R code
label: scatterplot (with options)
List of 5
$ echo : logi FALSE
$ fig.height: num 6
$ fig.width : num 6.5
$ message : logi FALSE
$ warning : logi FALSE
ordinary text without R code
label: contourplot (with options)
List of 5
$ echo : logi FALSE
$ fig.height: num 6
$ fig.width : num 6.5
$ warning : logi FALSE
$ message : logi FALSE
ordinary text without R code
label: input_geneset_metrics1 (with options)
List of 2
$ results: chr "asis"
$ echo : logi FALSE
ordinary text without R code
label: input_geneset_metrics2 (with options)
List of 5
$ results : chr "asis"
$ echo : logi FALSE
$ fig.height: num 7
$ fig.width : num 7
$ fig.show : chr "all"
ordinary text without R code
label: input_geneset_metrics3 (with options)
List of 5
$ results : chr "asis"
$ echo : logi FALSE
$ message : logi FALSE
$ fig.height: num 7
$ fig.width : num 7
ordinary text without R code
label: echart1d (with options)
List of 6
$ results : chr "asis"
$ echo : logi FALSE
$ fig.height: num 7
$ fig.width : num 7
$ fig.show : chr "all"
$ message : logi FALSE
label: echart2d (with options)
List of 6
$ results : chr "asis"
$ echo : logi FALSE
$ fig.height: num 7
$ fig.width : num 7
$ fig.show : chr "all"
$ message : logi FALSE
No significant enrichments found.
ordinary text without R code
label: heatmap (with options)
List of 6
$ results : chr "asis"
$ echo : logi FALSE
$ fig.height: num 10
$ fig.width : num 7
$ fig.show : chr "all"
$ message : logi FALSE
ordinary text without R code
label: effectsize (with options)
List of 6
$ results : chr "asis"
$ echo : logi FALSE
$ fig.height: num 7
$ fig.width : num 7
$ fig.show : chr "all"
$ message : logi FALSE
ordinary text without R code
label: results_table (with options)
List of 2
$ results: chr "asis"
$ echo : logi FALSE
ordinary text without R code
label: results_table_complete (with options)
List of 2
$ results: chr "asis"
$ echo : logi FALSE
ordinary text without R code
label: detailed_geneset_reports1d (with options)
List of 7
$ results : chr "asis"
$ echo : logi FALSE
$ fig.height: num 6
$ fig.width : num 6
$ out.width : chr "80%"
$ comment : logi NA
$ message : logi FALSE
ordinary text without R code
label: detailed_geneset_reports2d (with options)
List of 7
$ results : chr "asis"
$ echo : logi FALSE
$ fig.height: num 5
$ fig.width : num 6
$ out.width : chr "80%"
$ comment : logi NA
$ message : logi FALSE
ordinary text without R code
label: session_info (with options)
List of 3
$ include: logi TRUE
$ echo : logi TRUE
$ results: chr "markup"
ordinary text without R code
output file: C:/Users/biocbuild/bbs-3.13-bioc/meat/mitch.Rcheck/tests_i386/mitch.knit.md
"C:/PROGRA~1/Pandoc/pandoc" +RTS -K512m -RTS "C:/Users/biocbuild/bbs-3.13-bioc/meat/mitch.Rcheck/tests_i386/mitch.knit.md" --to html4 --from markdown+autolink_bare_uris+tex_math_single_backslash --output pandoca41459b425a3.html --lua-filter "C:\Users\biocbuild\bbs-3.13-bioc\R\library\rmarkdown\rmarkdown\lua\pagebreak.lua" --lua-filter "C:\Users\biocbuild\bbs-3.13-bioc\R\library\rmarkdown\rmarkdown\lua\latex-div.lua" --self-contained --variable bs3=TRUE --standalone --section-divs --template "C:\Users\biocbuild\bbs-3.13-bioc\R\library\rmarkdown\rmd\h\default.html" --no-highlight --variable highlightjs=1 --variable theme=bootstrap --include-in-header "C:\Users\biocbuild\bbs-3.13-bioc\tmpdir\RtmpG03oh2\rmarkdown-stra41447525e61.html" --mathjax --variable "mathjax-url:https://mathjax.rstudio.com/latest/MathJax.js?config=TeX-AMS-MML_HTMLorMML"
Output created: C:\Users\biocbuild\bbs-3.13-bioc\tmpdir\RtmpG03oh2/mitch_report.html
[1] TRUE
>
> test_that("3d works", {
+ expect_equal( length(which(res$enrichment_result$p.adjustMANOVA<0.1)) ,1)
+ expect_true(file.info("3d.pdf")$size>100000)
+ expect_true(file.info("3d.html")$size>1000000)
+ })
Test passed
>
> unlink("3d.html")
> unlink("3d.pdf")
>
>
>
> proc.time()
user system elapsed
54.23 5.34 65.23
|
mitch.Rcheck/tests_x64/test-mitch.Rout
R version 4.1.1 (2021-08-10) -- "Kick Things"
Copyright (C) 2021 The R Foundation for Statistical Computing
Platform: x86_64-w64-mingw32/x64 (64-bit)
R is free software and comes with ABSOLUTELY NO WARRANTY.
You are welcome to redistribute it under certain conditions.
Type 'license()' or 'licence()' for distribution details.
R is a collaborative project with many contributors.
Type 'contributors()' for more information and
'citation()' on how to cite R or R packages in publications.
Type 'demo()' for some demos, 'help()' for on-line help, or
'help.start()' for an HTML browser interface to help.
Type 'q()' to quit R.
> library("mitch")
> library("testthat")
>
> test_that("multiplication works", {
+ expect_equal(2 * 2, 4)
+ })
Test passed
>
> # 1d
> data(rna,genesetsExample)
> y<-mitch_import(rna,DEtype="edgeR")
The input is a single dataframe; one contrast only. Converting
it to a list for you.
Note: Mean no. genes in input = 1000
Note: no. genes in output = 1000
Note: estimated proportion of input genes in output = 1
> res<-mitch_calc(y,genesetsExample,cores=2)
Note: When prioritising by significance (ie: small
p-values), large effect sizes might be missed.
> mitch_plots(res,outfile="1d.pdf")
null device
1
> if (file.exists("1d.html")) { unlink("1d.html") }
> mitch_report(res,"1d.html")
Dataset saved as " C:\Users\biocbuild\bbs-3.13-bioc\tmpdir\RtmpQLKVMi/1d.rds ".
processing file: mitch.Rmd
inline R code fragments
label: checklibraries (with options)
List of 1
$ echo: logi FALSE
ordinary text without R code
label: peek (with options)
List of 1
$ echo: logi FALSE
ordinary text without R code
label: metrics (with options)
List of 1
$ echo: logi FALSE
ordinary text without R code
label: scatterplot (with options)
List of 5
$ echo : logi FALSE
$ fig.height: num 6
$ fig.width : num 6.5
$ message : logi FALSE
$ warning : logi FALSE
ordinary text without R code
label: contourplot (with options)
List of 5
$ echo : logi FALSE
$ fig.height: num 6
$ fig.width : num 6.5
$ warning : logi FALSE
$ message : logi FALSE
Contour plot does not apply to unidimensional analysis.
ordinary text without R code
label: input_geneset_metrics1 (with options)
List of 2
$ results: chr "asis"
$ echo : logi FALSE
ordinary text without R code
label: input_geneset_metrics2 (with options)
List of 5
$ results : chr "asis"
$ echo : logi FALSE
$ fig.height: num 7
$ fig.width : num 7
$ fig.show : chr "all"
ordinary text without R code
label: input_geneset_metrics3 (with options)
List of 5
$ results : chr "asis"
$ echo : logi FALSE
$ message : logi FALSE
$ fig.height: num 7
$ fig.width : num 7
ordinary text without R code
label: echart1d (with options)
List of 6
$ results : chr "asis"
$ echo : logi FALSE
$ fig.height: num 7
$ fig.width : num 7
$ fig.show : chr "all"
$ message : logi FALSE
label: echart2d (with options)
List of 6
$ results : chr "asis"
$ echo : logi FALSE
$ fig.height: num 7
$ fig.width : num 7
$ fig.show : chr "all"
$ message : logi FALSE
ordinary text without R code
label: heatmap (with options)
List of 6
$ results : chr "asis"
$ echo : logi FALSE
$ fig.height: num 10
$ fig.width : num 7
$ fig.show : chr "all"
$ message : logi FALSE
ordinary text without R code
label: effectsize (with options)
List of 6
$ results : chr "asis"
$ echo : logi FALSE
$ fig.height: num 7
$ fig.width : num 7
$ fig.show : chr "all"
$ message : logi FALSE
ordinary text without R code
label: results_table (with options)
List of 2
$ results: chr "asis"
$ echo : logi FALSE
ordinary text without R code
label: results_table_complete (with options)
List of 2
$ results: chr "asis"
$ echo : logi FALSE
ordinary text without R code
label: detailed_geneset_reports1d (with options)
List of 7
$ results : chr "asis"
$ echo : logi FALSE
$ fig.height: num 6
$ fig.width : num 6
$ out.width : chr "80%"
$ comment : logi NA
$ message : logi FALSE
ordinary text without R code
label: detailed_geneset_reports2d (with options)
List of 7
$ results : chr "asis"
$ echo : logi FALSE
$ fig.height: num 5
$ fig.width : num 6
$ out.width : chr "80%"
$ comment : logi NA
$ message : logi FALSE
ordinary text without R code
label: session_info (with options)
List of 3
$ include: logi TRUE
$ echo : logi TRUE
$ results: chr "markup"
ordinary text without R code
output file: C:/Users/biocbuild/bbs-3.13-bioc/meat/mitch.Rcheck/tests_x64/mitch.knit.md
"C:/PROGRA~1/Pandoc/pandoc" +RTS -K512m -RTS "C:/Users/biocbuild/bbs-3.13-bioc/meat/mitch.Rcheck/tests_x64/mitch.knit.md" --to html4 --from markdown+autolink_bare_uris+tex_math_single_backslash --output pandocba1876547ff2.html --lua-filter "C:\Users\biocbuild\bbs-3.13-bioc\R\library\rmarkdown\rmarkdown\lua\pagebreak.lua" --lua-filter "C:\Users\biocbuild\bbs-3.13-bioc\R\library\rmarkdown\rmarkdown\lua\latex-div.lua" --self-contained --variable bs3=TRUE --standalone --section-divs --template "C:\Users\biocbuild\bbs-3.13-bioc\R\library\rmarkdown\rmd\h\default.html" --no-highlight --variable highlightjs=1 --variable theme=bootstrap --include-in-header "C:\Users\biocbuild\bbs-3.13-bioc\tmpdir\RtmpQLKVMi\rmarkdown-strba1847517a7b.html" --mathjax --variable "mathjax-url:https://mathjax.rstudio.com/latest/MathJax.js?config=TeX-AMS-MML_HTMLorMML"
Output created: C:\Users\biocbuild\bbs-3.13-bioc\tmpdir\RtmpQLKVMi/mitch_report.html
[1] TRUE
>
> test_that("1d works", {
+ expect_equal( length(which(res$enrichment_result$p.adjustANOVA<0.1)) ,1)
+ expect_true(file.info("1d.pdf")$size>10000)
+ expect_true(file.info("1d.html")$size>1000000)
+ })
Test passed
>
> unlink("1d.html")
> unlink("1d.pdf")
>
>
> # 1d part 2 to make sure that saving files at a different location works
> MYPATH=paste(getwd(),"/1d.html",sep="")
> if (file.exists("1d.html")) { unlink("1d.html") }
> mitch_report(res,MYPATH)
Dataset saved as " C:\Users\biocbuild\bbs-3.13-bioc\tmpdir\RtmpQLKVMi/1d.rds ".
processing file: mitch.Rmd
inline R code fragments
label: checklibraries (with options)
List of 1
$ echo: logi FALSE
ordinary text without R code
label: peek (with options)
List of 1
$ echo: logi FALSE
ordinary text without R code
label: metrics (with options)
List of 1
$ echo: logi FALSE
ordinary text without R code
label: scatterplot (with options)
List of 5
$ echo : logi FALSE
$ fig.height: num 6
$ fig.width : num 6.5
$ message : logi FALSE
$ warning : logi FALSE
ordinary text without R code
label: contourplot (with options)
List of 5
$ echo : logi FALSE
$ fig.height: num 6
$ fig.width : num 6.5
$ warning : logi FALSE
$ message : logi FALSE
Contour plot does not apply to unidimensional analysis.
ordinary text without R code
label: input_geneset_metrics1 (with options)
List of 2
$ results: chr "asis"
$ echo : logi FALSE
ordinary text without R code
label: input_geneset_metrics2 (with options)
List of 5
$ results : chr "asis"
$ echo : logi FALSE
$ fig.height: num 7
$ fig.width : num 7
$ fig.show : chr "all"
ordinary text without R code
label: input_geneset_metrics3 (with options)
List of 5
$ results : chr "asis"
$ echo : logi FALSE
$ message : logi FALSE
$ fig.height: num 7
$ fig.width : num 7
ordinary text without R code
label: echart1d (with options)
List of 6
$ results : chr "asis"
$ echo : logi FALSE
$ fig.height: num 7
$ fig.width : num 7
$ fig.show : chr "all"
$ message : logi FALSE
label: echart2d (with options)
List of 6
$ results : chr "asis"
$ echo : logi FALSE
$ fig.height: num 7
$ fig.width : num 7
$ fig.show : chr "all"
$ message : logi FALSE
ordinary text without R code
label: heatmap (with options)
List of 6
$ results : chr "asis"
$ echo : logi FALSE
$ fig.height: num 10
$ fig.width : num 7
$ fig.show : chr "all"
$ message : logi FALSE
ordinary text without R code
label: effectsize (with options)
List of 6
$ results : chr "asis"
$ echo : logi FALSE
$ fig.height: num 7
$ fig.width : num 7
$ fig.show : chr "all"
$ message : logi FALSE
ordinary text without R code
label: results_table (with options)
List of 2
$ results: chr "asis"
$ echo : logi FALSE
ordinary text without R code
label: results_table_complete (with options)
List of 2
$ results: chr "asis"
$ echo : logi FALSE
ordinary text without R code
label: detailed_geneset_reports1d (with options)
List of 7
$ results : chr "asis"
$ echo : logi FALSE
$ fig.height: num 6
$ fig.width : num 6
$ out.width : chr "80%"
$ comment : logi NA
$ message : logi FALSE
ordinary text without R code
label: detailed_geneset_reports2d (with options)
List of 7
$ results : chr "asis"
$ echo : logi FALSE
$ fig.height: num 5
$ fig.width : num 6
$ out.width : chr "80%"
$ comment : logi NA
$ message : logi FALSE
ordinary text without R code
label: session_info (with options)
List of 3
$ include: logi TRUE
$ echo : logi TRUE
$ results: chr "markup"
ordinary text without R code
output file: C:/Users/biocbuild/bbs-3.13-bioc/meat/mitch.Rcheck/tests_x64/mitch.knit.md
"C:/PROGRA~1/Pandoc/pandoc" +RTS -K512m -RTS "C:/Users/biocbuild/bbs-3.13-bioc/meat/mitch.Rcheck/tests_x64/mitch.knit.md" --to html4 --from markdown+autolink_bare_uris+tex_math_single_backslash --output pandocba185b2a6e46.html --lua-filter "C:\Users\biocbuild\bbs-3.13-bioc\R\library\rmarkdown\rmarkdown\lua\pagebreak.lua" --lua-filter "C:\Users\biocbuild\bbs-3.13-bioc\R\library\rmarkdown\rmarkdown\lua\latex-div.lua" --self-contained --variable bs3=TRUE --standalone --section-divs --template "C:\Users\biocbuild\bbs-3.13-bioc\R\library\rmarkdown\rmd\h\default.html" --no-highlight --variable highlightjs=1 --variable theme=bootstrap --include-in-header "C:\Users\biocbuild\bbs-3.13-bioc\tmpdir\RtmpQLKVMi\rmarkdown-strba1830e85ee5.html" --mathjax --variable "mathjax-url:https://mathjax.rstudio.com/latest/MathJax.js?config=TeX-AMS-MML_HTMLorMML"
Output created: C:\Users\biocbuild\bbs-3.13-bioc\tmpdir\RtmpQLKVMi/mitch_report.html
[1] TRUE
>
> test_that("1d works", {
+ expect_true(file.info("1d.html")$size>1000000)
+ })
Test passed
>
> unlink("1d.html")
>
>
>
> # 2d
> data(rna,k9a,genesetsExample)
> x<-list("rna"=rna,"k9a"=k9a)
> y<-mitch_import(x,DEtype="edgeR")
Note: Mean no. genes in input = 1000
Note: no. genes in output = 1000
Note: estimated proportion of input genes in output = 1
> res<-mitch_calc(y,genesetsExample,cores=2)
Note: When prioritising by significance (ie: small
p-values), large effect sizes might be missed.
> mitch_plots(res,outfile="2d.pdf")
null device
1
> if (file.exists("2d.html")) { unlink("2d.html") }
> mitch_report(res,"2d.html")
Dataset saved as " C:\Users\biocbuild\bbs-3.13-bioc\tmpdir\RtmpQLKVMi/2d.rds ".
processing file: mitch.Rmd
inline R code fragments
label: checklibraries (with options)
List of 1
$ echo: logi FALSE
ordinary text without R code
label: peek (with options)
List of 1
$ echo: logi FALSE
ordinary text without R code
label: metrics (with options)
List of 1
$ echo: logi FALSE
ordinary text without R code
label: scatterplot (with options)
List of 5
$ echo : logi FALSE
$ fig.height: num 6
$ fig.width : num 6.5
$ message : logi FALSE
$ warning : logi FALSE
ordinary text without R code
label: contourplot (with options)
List of 5
$ echo : logi FALSE
$ fig.height: num 6
$ fig.width : num 6.5
$ warning : logi FALSE
$ message : logi FALSE
ordinary text without R code
label: input_geneset_metrics1 (with options)
List of 2
$ results: chr "asis"
$ echo : logi FALSE
ordinary text without R code
label: input_geneset_metrics2 (with options)
List of 5
$ results : chr "asis"
$ echo : logi FALSE
$ fig.height: num 7
$ fig.width : num 7
$ fig.show : chr "all"
ordinary text without R code
label: input_geneset_metrics3 (with options)
List of 5
$ results : chr "asis"
$ echo : logi FALSE
$ message : logi FALSE
$ fig.height: num 7
$ fig.width : num 7
ordinary text without R code
label: echart1d (with options)
List of 6
$ results : chr "asis"
$ echo : logi FALSE
$ fig.height: num 7
$ fig.width : num 7
$ fig.show : chr "all"
$ message : logi FALSE
label: echart2d (with options)
List of 6
$ results : chr "asis"
$ echo : logi FALSE
$ fig.height: num 7
$ fig.width : num 7
$ fig.show : chr "all"
$ message : logi FALSE
ordinary text without R code
label: heatmap (with options)
List of 6
$ results : chr "asis"
$ echo : logi FALSE
$ fig.height: num 10
$ fig.width : num 7
$ fig.show : chr "all"
$ message : logi FALSE
ordinary text without R code
label: effectsize (with options)
List of 6
$ results : chr "asis"
$ echo : logi FALSE
$ fig.height: num 7
$ fig.width : num 7
$ fig.show : chr "all"
$ message : logi FALSE
ordinary text without R code
label: results_table (with options)
List of 2
$ results: chr "asis"
$ echo : logi FALSE
ordinary text without R code
label: results_table_complete (with options)
List of 2
$ results: chr "asis"
$ echo : logi FALSE
ordinary text without R code
label: detailed_geneset_reports1d (with options)
List of 7
$ results : chr "asis"
$ echo : logi FALSE
$ fig.height: num 6
$ fig.width : num 6
$ out.width : chr "80%"
$ comment : logi NA
$ message : logi FALSE
ordinary text without R code
label: detailed_geneset_reports2d (with options)
List of 7
$ results : chr "asis"
$ echo : logi FALSE
$ fig.height: num 5
$ fig.width : num 6
$ out.width : chr "80%"
$ comment : logi NA
$ message : logi FALSE
ordinary text without R code
label: session_info (with options)
List of 3
$ include: logi TRUE
$ echo : logi TRUE
$ results: chr "markup"
ordinary text without R code
output file: C:/Users/biocbuild/bbs-3.13-bioc/meat/mitch.Rcheck/tests_x64/mitch.knit.md
"C:/PROGRA~1/Pandoc/pandoc" +RTS -K512m -RTS "C:/Users/biocbuild/bbs-3.13-bioc/meat/mitch.Rcheck/tests_x64/mitch.knit.md" --to html4 --from markdown+autolink_bare_uris+tex_math_single_backslash --output pandocba184591353c.html --lua-filter "C:\Users\biocbuild\bbs-3.13-bioc\R\library\rmarkdown\rmarkdown\lua\pagebreak.lua" --lua-filter "C:\Users\biocbuild\bbs-3.13-bioc\R\library\rmarkdown\rmarkdown\lua\latex-div.lua" --self-contained --variable bs3=TRUE --standalone --section-divs --template "C:\Users\biocbuild\bbs-3.13-bioc\R\library\rmarkdown\rmd\h\default.html" --no-highlight --variable highlightjs=1 --variable theme=bootstrap --include-in-header "C:\Users\biocbuild\bbs-3.13-bioc\tmpdir\RtmpQLKVMi\rmarkdown-strba1865035191.html" --mathjax --variable "mathjax-url:https://mathjax.rstudio.com/latest/MathJax.js?config=TeX-AMS-MML_HTMLorMML"
Output created: C:\Users\biocbuild\bbs-3.13-bioc\tmpdir\RtmpQLKVMi/mitch_report.html
[1] TRUE
>
> test_that("2d works", {
+ expect_equal( length(which(res$enrichment_result$p.adjustMANOVA<0.1)) ,1)
+ expect_true(file.info("2d.pdf")$size>100000)
+ expect_true(file.info("2d.html")$size>1000000)
+ })
Test passed
>
> unlink("2d.html")
> unlink("2d.pdf")
>
> # 3d
> data(rna,k9a,k36a,genesetsExample)
> x<-list("rna"=rna,"k9a"=k9a,"k36a"=k36a)
> y<-mitch_import(x,DEtype="edgeR")
Note: Mean no. genes in input = 1000
Note: no. genes in output = 1000
Note: estimated proportion of input genes in output = 1
> res<-mitch_calc(y,genesetsExample,cores=2)
Note: When prioritising by significance (ie: small
p-values), large effect sizes might be missed.
> mitch_plots(res,outfile="3d.pdf")
null device
1
> if (file.exists("3d.html")) { unlink("3d.html") }
> mitch_report(res,"3d.html")
Dataset saved as " C:\Users\biocbuild\bbs-3.13-bioc\tmpdir\RtmpQLKVMi/3d.rds ".
processing file: mitch.Rmd
inline R code fragments
label: checklibraries (with options)
List of 1
$ echo: logi FALSE
ordinary text without R code
label: peek (with options)
List of 1
$ echo: logi FALSE
ordinary text without R code
label: metrics (with options)
List of 1
$ echo: logi FALSE
ordinary text without R code
label: scatterplot (with options)
List of 5
$ echo : logi FALSE
$ fig.height: num 6
$ fig.width : num 6.5
$ message : logi FALSE
$ warning : logi FALSE
ordinary text without R code
label: contourplot (with options)
List of 5
$ echo : logi FALSE
$ fig.height: num 6
$ fig.width : num 6.5
$ warning : logi FALSE
$ message : logi FALSE
ordinary text without R code
label: input_geneset_metrics1 (with options)
List of 2
$ results: chr "asis"
$ echo : logi FALSE
ordinary text without R code
label: input_geneset_metrics2 (with options)
List of 5
$ results : chr "asis"
$ echo : logi FALSE
$ fig.height: num 7
$ fig.width : num 7
$ fig.show : chr "all"
ordinary text without R code
label: input_geneset_metrics3 (with options)
List of 5
$ results : chr "asis"
$ echo : logi FALSE
$ message : logi FALSE
$ fig.height: num 7
$ fig.width : num 7
ordinary text without R code
label: echart1d (with options)
List of 6
$ results : chr "asis"
$ echo : logi FALSE
$ fig.height: num 7
$ fig.width : num 7
$ fig.show : chr "all"
$ message : logi FALSE
label: echart2d (with options)
List of 6
$ results : chr "asis"
$ echo : logi FALSE
$ fig.height: num 7
$ fig.width : num 7
$ fig.show : chr "all"
$ message : logi FALSE
No significant enrichments found.
ordinary text without R code
label: heatmap (with options)
List of 6
$ results : chr "asis"
$ echo : logi FALSE
$ fig.height: num 10
$ fig.width : num 7
$ fig.show : chr "all"
$ message : logi FALSE
ordinary text without R code
label: effectsize (with options)
List of 6
$ results : chr "asis"
$ echo : logi FALSE
$ fig.height: num 7
$ fig.width : num 7
$ fig.show : chr "all"
$ message : logi FALSE
ordinary text without R code
label: results_table (with options)
List of 2
$ results: chr "asis"
$ echo : logi FALSE
ordinary text without R code
label: results_table_complete (with options)
List of 2
$ results: chr "asis"
$ echo : logi FALSE
ordinary text without R code
label: detailed_geneset_reports1d (with options)
List of 7
$ results : chr "asis"
$ echo : logi FALSE
$ fig.height: num 6
$ fig.width : num 6
$ out.width : chr "80%"
$ comment : logi NA
$ message : logi FALSE
ordinary text without R code
label: detailed_geneset_reports2d (with options)
List of 7
$ results : chr "asis"
$ echo : logi FALSE
$ fig.height: num 5
$ fig.width : num 6
$ out.width : chr "80%"
$ comment : logi NA
$ message : logi FALSE
ordinary text without R code
label: session_info (with options)
List of 3
$ include: logi TRUE
$ echo : logi TRUE
$ results: chr "markup"
ordinary text without R code
output file: C:/Users/biocbuild/bbs-3.13-bioc/meat/mitch.Rcheck/tests_x64/mitch.knit.md
"C:/PROGRA~1/Pandoc/pandoc" +RTS -K512m -RTS "C:/Users/biocbuild/bbs-3.13-bioc/meat/mitch.Rcheck/tests_x64/mitch.knit.md" --to html4 --from markdown+autolink_bare_uris+tex_math_single_backslash --output pandocba186f721e6a.html --lua-filter "C:\Users\biocbuild\bbs-3.13-bioc\R\library\rmarkdown\rmarkdown\lua\pagebreak.lua" --lua-filter "C:\Users\biocbuild\bbs-3.13-bioc\R\library\rmarkdown\rmarkdown\lua\latex-div.lua" --self-contained --variable bs3=TRUE --standalone --section-divs --template "C:\Users\biocbuild\bbs-3.13-bioc\R\library\rmarkdown\rmd\h\default.html" --no-highlight --variable highlightjs=1 --variable theme=bootstrap --include-in-header "C:\Users\biocbuild\bbs-3.13-bioc\tmpdir\RtmpQLKVMi\rmarkdown-strba1871ac5ded.html" --mathjax --variable "mathjax-url:https://mathjax.rstudio.com/latest/MathJax.js?config=TeX-AMS-MML_HTMLorMML"
Output created: C:\Users\biocbuild\bbs-3.13-bioc\tmpdir\RtmpQLKVMi/mitch_report.html
[1] TRUE
>
> test_that("3d works", {
+ expect_equal( length(which(res$enrichment_result$p.adjustMANOVA<0.1)) ,1)
+ expect_true(file.info("3d.pdf")$size>100000)
+ expect_true(file.info("3d.html")$size>1000000)
+ })
Test passed
>
> unlink("3d.html")
> unlink("3d.pdf")
>
>
>
> proc.time()
user system elapsed
56.23 4.75 66.00
|
|
mitch.Rcheck/examples_i386/mitch-Ex.timings
|
mitch.Rcheck/examples_x64/mitch-Ex.timings
|