| Back to Multiple platform build/check report for BioC 3.13 |
|
This page was generated on 2021-10-15 15:06:12 -0400 (Fri, 15 Oct 2021).
|
To the developers/maintainers of the missRows package: - Please allow up to 24 hours (and sometimes 48 hours) for your latest push to git@git.bioconductor.org:packages/missRows.git to reflect on this report. See How and When does the builder pull? When will my changes propagate? here for more information. - Make sure to use the following settings in order to reproduce any error or warning you see on this page. |
| Package 1158/2041 | Hostname | OS / Arch | INSTALL | BUILD | CHECK | BUILD BIN | ||||||||
| missRows 1.12.0 (landing page) Gonzalez Ignacio
| nebbiolo1 | Linux (Ubuntu 20.04.2 LTS) / x86_64 | OK | OK | OK | |||||||||
| tokay2 | Windows Server 2012 R2 Standard / x64 | OK | OK | OK | OK | |||||||||
| machv2 | macOS 10.14.6 Mojave / x86_64 | OK | OK | OK | OK | |||||||||
| Package: missRows |
| Version: 1.12.0 |
| Command: rm -rf missRows.buildbin-libdir && mkdir missRows.buildbin-libdir && C:\Users\biocbuild\bbs-3.13-bioc\R\bin\R.exe CMD INSTALL --merge-multiarch --build --library=missRows.buildbin-libdir missRows_1.12.0.tar.gz |
| StartedAt: 2021-10-15 10:27:49 -0400 (Fri, 15 Oct 2021) |
| EndedAt: 2021-10-15 10:29:14 -0400 (Fri, 15 Oct 2021) |
| EllapsedTime: 84.8 seconds |
| RetCode: 0 |
| Status: OK |
| PackageFile: missRows_1.12.0.zip |
| PackageFileSize: 900.7 KiB |
##############################################################################
##############################################################################
###
### Running command:
###
### rm -rf missRows.buildbin-libdir && mkdir missRows.buildbin-libdir && C:\Users\biocbuild\bbs-3.13-bioc\R\bin\R.exe CMD INSTALL --merge-multiarch --build --library=missRows.buildbin-libdir missRows_1.12.0.tar.gz
###
##############################################################################
##############################################################################
install for i386
* installing *source* package 'missRows' ...
** using staged installation
** R
** data
** inst
** byte-compile and prepare package for lazy loading
** help
*** installing help indices
converting help for package 'missRows'
finding HTML links ... done
MFA html
MIDTList html
finding level-2 HTML links ... done
MIMFA html
NCI60 html
RVcoeff html
STATIS html
eigenvalue html
estimNC html
imputeDataMFA html
imputedData html
missPattern html
missRows-package html
plotInd html
plotVar html
searchsComb html
tuneM html
wrapperSVD html
** building package indices
** installing vignettes
** testing if installed package can be loaded from temporary location
** testing if installed package can be loaded from final location
** testing if installed package keeps a record of temporary installation path
install for x64
* installing *source* package 'missRows' ...
** testing if installed package can be loaded
* MD5 sums
packaged installation of 'missRows' as missRows_1.12.0.zip
* DONE (missRows)