| Back to Multiple platform build/check report for BioC 3.13 |
|
This page was generated on 2021-10-15 15:06:12 -0400 (Fri, 15 Oct 2021).
|
To the developers/maintainers of the missMethyl package: - Please allow up to 24 hours (and sometimes 48 hours) for your latest push to git@git.bioconductor.org:packages/missMethyl.git to reflect on this report. See How and When does the builder pull? When will my changes propagate? here for more information. - Make sure to use the following settings in order to reproduce any error or warning you see on this page. |
| Package 1157/2041 | Hostname | OS / Arch | INSTALL | BUILD | CHECK | BUILD BIN | ||||||||
| missMethyl 1.26.1 (landing page) Belinda Phipson
| nebbiolo1 | Linux (Ubuntu 20.04.2 LTS) / x86_64 | OK | OK | OK | |||||||||
| tokay2 | Windows Server 2012 R2 Standard / x64 | OK | OK | OK | OK | |||||||||
| machv2 | macOS 10.14.6 Mojave / x86_64 | OK | OK | OK | OK | |||||||||
| Package: missMethyl |
| Version: 1.26.1 |
| Command: rm -rf missMethyl.buildbin-libdir && mkdir missMethyl.buildbin-libdir && C:\Users\biocbuild\bbs-3.13-bioc\R\bin\R.exe CMD INSTALL --merge-multiarch --build --library=missMethyl.buildbin-libdir missMethyl_1.26.1.tar.gz |
| StartedAt: 2021-10-15 10:27:41 -0400 (Fri, 15 Oct 2021) |
| EndedAt: 2021-10-15 10:32:12 -0400 (Fri, 15 Oct 2021) |
| EllapsedTime: 270.8 seconds |
| RetCode: 0 |
| Status: OK |
| PackageFile: missMethyl_1.26.1.zip |
| PackageFileSize: 767.1 KiB |
##############################################################################
##############################################################################
###
### Running command:
###
### rm -rf missMethyl.buildbin-libdir && mkdir missMethyl.buildbin-libdir && C:\Users\biocbuild\bbs-3.13-bioc\R\bin\R.exe CMD INSTALL --merge-multiarch --build --library=missMethyl.buildbin-libdir missMethyl_1.26.1.tar.gz
###
##############################################################################
##############################################################################
install for i386
* installing *source* package 'missMethyl' ...
** using staged installation
** R
** inst
** byte-compile and prepare package for lazy loading
** help
*** installing help indices
converting help for package 'missMethyl'
finding HTML links ... done
RUVadj html
finding level-2 HTML links ... done
RUVfit html
SWAN html
contrasts.varFit html
densityByProbeType html
getAdj html
getINCs html
getLeveneResiduals html
getMappedEntrezIDs html
gometh html
goregion html
gsameth html
gsaregion html
gsaseq html
missMethyl-package html
topGSA html
topRUV html
topVar html
varFit html
** building package indices
** installing vignettes
** testing if installed package can be loaded from temporary location
** testing if installed package can be loaded from final location
** testing if installed package keeps a record of temporary installation path
install for x64
* installing *source* package 'missMethyl' ...
** testing if installed package can be loaded
* MD5 sums
packaged installation of 'missMethyl' as missMethyl_1.26.1.zip
* DONE (missMethyl)