| Back to Multiple platform build/check report for BioC 3.13 |
|
This page was generated on 2021-10-15 15:06:12 -0400 (Fri, 15 Oct 2021).
|
To the developers/maintainers of the mirTarRnaSeq package: - Please allow up to 24 hours (and sometimes 48 hours) for your latest push to git@git.bioconductor.org:packages/mirTarRnaSeq.git to reflect on this report. See How and When does the builder pull? When will my changes propagate? here for more information. - Make sure to use the following settings in order to reproduce any error or warning you see on this page. |
| Package 1156/2041 | Hostname | OS / Arch | INSTALL | BUILD | CHECK | BUILD BIN | ||||||||
| mirTarRnaSeq 1.0.0 (landing page) Mercedeh Movassagh
| nebbiolo1 | Linux (Ubuntu 20.04.2 LTS) / x86_64 | OK | OK | OK | |||||||||
| tokay2 | Windows Server 2012 R2 Standard / x64 | OK | OK | OK | OK | |||||||||
| machv2 | macOS 10.14.6 Mojave / x86_64 | OK | OK | OK | OK | |||||||||
| Package: mirTarRnaSeq |
| Version: 1.0.0 |
| Command: C:\cygwin\bin\curl.exe -O http://155.52.207.165/BBS/3.13/bioc/src/contrib/mirTarRnaSeq_1.0.0.tar.gz && rm -rf mirTarRnaSeq.buildbin-libdir && mkdir mirTarRnaSeq.buildbin-libdir && C:\Users\biocbuild\bbs-3.13-bioc\R\bin\R.exe CMD INSTALL --merge-multiarch --build --library=mirTarRnaSeq.buildbin-libdir mirTarRnaSeq_1.0.0.tar.gz && C:\Users\biocbuild\bbs-3.13-bioc\R\bin\R.exe CMD INSTALL mirTarRnaSeq_1.0.0.zip && rm mirTarRnaSeq_1.0.0.tar.gz mirTarRnaSeq_1.0.0.zip |
| StartedAt: 2021-10-14 08:18:17 -0400 (Thu, 14 Oct 2021) |
| EndedAt: 2021-10-14 08:20:04 -0400 (Thu, 14 Oct 2021) |
| EllapsedTime: 106.8 seconds |
| RetCode: 0 |
| Status: OK |
##############################################################################
##############################################################################
###
### Running command:
###
### C:\cygwin\bin\curl.exe -O http://155.52.207.165/BBS/3.13/bioc/src/contrib/mirTarRnaSeq_1.0.0.tar.gz && rm -rf mirTarRnaSeq.buildbin-libdir && mkdir mirTarRnaSeq.buildbin-libdir && C:\Users\biocbuild\bbs-3.13-bioc\R\bin\R.exe CMD INSTALL --merge-multiarch --build --library=mirTarRnaSeq.buildbin-libdir mirTarRnaSeq_1.0.0.tar.gz && C:\Users\biocbuild\bbs-3.13-bioc\R\bin\R.exe CMD INSTALL mirTarRnaSeq_1.0.0.zip && rm mirTarRnaSeq_1.0.0.tar.gz mirTarRnaSeq_1.0.0.zip
###
##############################################################################
##############################################################################
% Total % Received % Xferd Average Speed Time Time Time Current
Dload Upload Total Spent Left Speed
0 0 0 0 0 0 0 0 --:--:-- --:--:-- --:--:-- 0
62 4037k 62 2527k 0 0 3056k 0 0:00:01 --:--:-- 0:00:01 3055k
100 4037k 100 4037k 0 0 3473k 0 0:00:01 0:00:01 --:--:-- 3477k
install for i386
* installing *source* package 'mirTarRnaSeq' ...
** using staged installation
** R
** data
*** moving datasets to lazyload DB
** inst
** byte-compile and prepare package for lazy loading
** help
*** installing help indices
converting help for package 'mirTarRnaSeq'
finding HTML links ... done
Combine html
canonicalModel_ html
combiner html
corMirnaRna html
corMirnaRnaMiranda html
corr_0 html
downloadMirandaFile html
drawCorPlot html
drawInterPlots html
fdrSig html
finInterResult html
final_results html
geneVari html
geneVariant html
getInputSpecies html
glm_gaussian html
glm_multi html
glm_nb html
glm_poisson html
glm_zeroinfl html
glm_zeroinfl_negbin html
glm_zeroinfl_poisson html
importMirandaFile html
inter0 html
mRNA html
mRNA0_2 html
mRNA0_5 html
mRNA2_5 html
mRNA_fc html
mRNA_fc2 html
makeFormulaRightSide html
miRNA html
miRNA0_2 html
miRNA0_5 html
miRNA2_5 html
miRNA_fc html
miRNA_fc2 html
miRanComp html
miRanda html
miRandaIntersect html
miRandaM html
mirRnaDensityCor html
mirRnaDensityInter html
mirRnaHeatmap html
mirRnaHeatmapDiff html
mirandaIntersectInter html
modelAIC html
modelCoefficients html
modelData html
modelModelName html
modelModelPvalue html
modelTermPvalues html
modelsFilter html
one2OneRnaMiRNA html
outs html
outs2 html
plotFit html
plotResiduals html
plotTerms html
results html
runAllMirnaModels html
runModel html
runModels html
sampCorRnaMirna html
sig_InterR html
sig_corrs html
some_model html
threshSig html
threshSigInter html
twoTimePoint html
twoTimePointSamp html
tzTrans html
** building package indices
** installing vignettes
'mirTarRnaSeq.Rmd' using 'UTF-8'
** testing if installed package can be loaded from temporary location
** testing if installed package can be loaded from final location
** testing if installed package keeps a record of temporary installation path
install for x64
* installing *source* package 'mirTarRnaSeq' ...
** testing if installed package can be loaded
* MD5 sums
packaged installation of 'mirTarRnaSeq' as mirTarRnaSeq_1.0.0.zip
* DONE (mirTarRnaSeq)
* installing to library 'C:/Users/biocbuild/bbs-3.13-bioc/R/library'
package 'mirTarRnaSeq' successfully unpacked and MD5 sums checked