| Back to Multiple platform build/check report for BioC 3.13 |
|
This page was generated on 2021-10-15 15:06:11 -0400 (Fri, 15 Oct 2021).
|
To the developers/maintainers of the miloR package: - Please allow up to 24 hours (and sometimes 48 hours) for your latest push to git@git.bioconductor.org:packages/miloR.git to reflect on this report. See How and When does the builder pull? When will my changes propagate? here for more information. - Make sure to use the following settings in order to reproduce any error or warning you see on this page. |
| Package 1134/2041 | Hostname | OS / Arch | INSTALL | BUILD | CHECK | BUILD BIN | ||||||||
| miloR 1.0.0 (landing page) Mike Morgan
| nebbiolo1 | Linux (Ubuntu 20.04.2 LTS) / x86_64 | OK | OK | OK | |||||||||
| tokay2 | Windows Server 2012 R2 Standard / x64 | OK | OK | OK | OK | |||||||||
| machv2 | macOS 10.14.6 Mojave / x86_64 | OK | OK | OK | OK | |||||||||
| Package: miloR |
| Version: 1.0.0 |
| Command: C:\cygwin\bin\curl.exe -O http://155.52.207.165/BBS/3.13/bioc/src/contrib/miloR_1.0.0.tar.gz && rm -rf miloR.buildbin-libdir && mkdir miloR.buildbin-libdir && C:\Users\biocbuild\bbs-3.13-bioc\R\bin\R.exe CMD INSTALL --merge-multiarch --build --library=miloR.buildbin-libdir miloR_1.0.0.tar.gz && C:\Users\biocbuild\bbs-3.13-bioc\R\bin\R.exe CMD INSTALL miloR_1.0.0.zip && rm miloR_1.0.0.tar.gz miloR_1.0.0.zip |
| StartedAt: 2021-10-14 09:29:02 -0400 (Thu, 14 Oct 2021) |
| EndedAt: 2021-10-14 09:30:46 -0400 (Thu, 14 Oct 2021) |
| EllapsedTime: 103.9 seconds |
| RetCode: 0 |
| Status: OK |
##############################################################################
##############################################################################
###
### Running command:
###
### C:\cygwin\bin\curl.exe -O http://155.52.207.165/BBS/3.13/bioc/src/contrib/miloR_1.0.0.tar.gz && rm -rf miloR.buildbin-libdir && mkdir miloR.buildbin-libdir && C:\Users\biocbuild\bbs-3.13-bioc\R\bin\R.exe CMD INSTALL --merge-multiarch --build --library=miloR.buildbin-libdir miloR_1.0.0.tar.gz && C:\Users\biocbuild\bbs-3.13-bioc\R\bin\R.exe CMD INSTALL miloR_1.0.0.zip && rm miloR_1.0.0.tar.gz miloR_1.0.0.zip
###
##############################################################################
##############################################################################
% Total % Received % Xferd Average Speed Time Time Time Current
Dload Upload Total Spent Left Speed
0 0 0 0 0 0 0 0 --:--:-- --:--:-- --:--:-- 0
11 5819k 11 684k 0 0 1476k 0 0:00:03 --:--:-- 0:00:03 1474k
79 5819k 79 4599k 0 0 3145k 0 0:00:01 0:00:01 --:--:-- 3144k
100 5819k 100 5819k 0 0 3337k 0 0:00:01 0:00:01 --:--:-- 3336k
install for i386
* installing *source* package 'miloR' ...
** using staged installation
** R
** data
** byte-compile and prepare package for lazy loading
Creating a new generic function for 'graph' in package 'miloR'
** help
*** installing help indices
converting help for package 'miloR'
finding HTML links ... done
Milo html
finding level-2 HTML links ... done
annotateNhoods html
buildFromAdjacency html
buildGraph html
buildNhoodGraph html
calcNhoodDistance html
calcNhoodExpression html
countCells html
findNhoodGroupMarkers html
findNhoodMarkers html
graphSpatialFDR html
groupNhoods html
makeNhoods html
matrixORMatrix-class html
methods html
miloR-package html
plotDAbeeswarm html
plotNhoodExpressionDA html
plotNhoodGraph html
plotNhoodGraphDA html
plotNhoodMA html
plotNhoodSizeHist html
sim_discrete html
sim_trajectory html
testDiffExp html
testNhoods html
** building package indices
** installing vignettes
** testing if installed package can be loaded from temporary location
** testing if installed package can be loaded from final location
** testing if installed package keeps a record of temporary installation path
install for x64
* installing *source* package 'miloR' ...
** testing if installed package can be loaded
* MD5 sums
packaged installation of 'miloR' as miloR_1.0.0.zip
* DONE (miloR)
* installing to library 'C:/Users/biocbuild/bbs-3.13-bioc/R/library'
package 'miloR' successfully unpacked and MD5 sums checked