| Back to Multiple platform build/check report for BioC 3.13 |
|
This page was generated on 2021-10-15 15:06:12 -0400 (Fri, 15 Oct 2021).
|
To the developers/maintainers of the miRLAB package: - Please allow up to 24 hours (and sometimes 48 hours) for your latest push to git@git.bioconductor.org:packages/miRLAB.git to reflect on this report. See How and When does the builder pull? When will my changes propagate? here for more information. - Make sure to use the following settings in order to reproduce any error or warning you see on this page. |
| Package 1149/2041 | Hostname | OS / Arch | INSTALL | BUILD | CHECK | BUILD BIN | ||||||||
| miRLAB 1.22.0 (landing page) Vu Viet Hoang Pham
| nebbiolo1 | Linux (Ubuntu 20.04.2 LTS) / x86_64 | OK | ERROR | skipped | |||||||||
| tokay2 | Windows Server 2012 R2 Standard / x64 | OK | ERROR | skipped | skipped | |||||||||
| machv2 | macOS 10.14.6 Mojave / x86_64 | OK | ERROR | skipped | skipped | |||||||||
| Package: miRLAB |
| Version: 1.22.0 |
| Command: C:\cygwin\bin\curl.exe -O http://155.52.207.165/BBS/3.13/bioc/src/contrib/miRLAB_1.22.0.tar.gz && rm -rf miRLAB.buildbin-libdir && mkdir miRLAB.buildbin-libdir && C:\Users\biocbuild\bbs-3.13-bioc\R\bin\R.exe CMD INSTALL --merge-multiarch --build --library=miRLAB.buildbin-libdir miRLAB_1.22.0.tar.gz && C:\Users\biocbuild\bbs-3.13-bioc\R\bin\R.exe CMD INSTALL miRLAB_1.22.0.zip && rm miRLAB_1.22.0.tar.gz miRLAB_1.22.0.zip |
| StartedAt: 2021-10-14 09:46:40 -0400 (Thu, 14 Oct 2021) |
| EndedAt: 2021-10-14 09:48:31 -0400 (Thu, 14 Oct 2021) |
| EllapsedTime: 111.3 seconds |
| RetCode: 0 |
| Status: OK |
##############################################################################
##############################################################################
###
### Running command:
###
### C:\cygwin\bin\curl.exe -O http://155.52.207.165/BBS/3.13/bioc/src/contrib/miRLAB_1.22.0.tar.gz && rm -rf miRLAB.buildbin-libdir && mkdir miRLAB.buildbin-libdir && C:\Users\biocbuild\bbs-3.13-bioc\R\bin\R.exe CMD INSTALL --merge-multiarch --build --library=miRLAB.buildbin-libdir miRLAB_1.22.0.tar.gz && C:\Users\biocbuild\bbs-3.13-bioc\R\bin\R.exe CMD INSTALL miRLAB_1.22.0.zip && rm miRLAB_1.22.0.tar.gz miRLAB_1.22.0.zip
###
##############################################################################
##############################################################################
% Total % Received % Xferd Average Speed Time Time Time Current
Dload Upload Total Spent Left Speed
0 0 0 0 0 0 0 0 --:--:-- --:--:-- --:--:-- 0
100 184k 100 184k 0 0 796k 0 --:--:-- --:--:-- --:--:-- 800k
install for i386
* installing *source* package 'miRLAB' ...
** using staged installation
** R
** inst
** byte-compile and prepare package for lazy loading
** help
*** installing help indices
converting help for package 'miRLAB'
finding HTML links ... done
Borda html
BordaTopk html
Dcov html
DiffExpAnalysis html
Elastic html
Extopk html
GOBPenrichment html
Hoeffding html
ICPPam50 html
IDA html
ImputeNormData html
KEGGenrichment html
Kendall html
Lasso html
MI html
Pearson html
RDC html
Read html
ReadExtResult html
Spearman html
Standardise html
ValidateAll html
Validation html
ValidationT html
Zscore html
bRank html
convert html
experiment html
filterAndCompare html
getData html
identifymiRTargetsByEnsemble html
identifymiRTargetsByICPPam50 html
miRLAB-package html
readHeader html
** building package indices
** installing vignettes
** testing if installed package can be loaded from temporary location
** testing if installed package can be loaded from final location
** testing if installed package keeps a record of temporary installation path
install for x64
* installing *source* package 'miRLAB' ...
** testing if installed package can be loaded
* MD5 sums
packaged installation of 'miRLAB' as miRLAB_1.22.0.zip
* DONE (miRLAB)
* installing to library 'C:/Users/biocbuild/bbs-3.13-bioc/R/library'
package 'miRLAB' successfully unpacked and MD5 sums checked