| Back to Multiple platform build/check report for BioC 3.13 |
|
This page was generated on 2021-10-15 15:06:11 -0400 (Fri, 15 Oct 2021).
|
To the developers/maintainers of the mgsa package: - Please allow up to 24 hours (and sometimes 48 hours) for your latest push to git@git.bioconductor.org:packages/mgsa.git to reflect on this report. See How and When does the builder pull? When will my changes propagate? here for more information. - Make sure to use the following settings in order to reproduce any error or warning you see on this page. |
| Package 1123/2041 | Hostname | OS / Arch | INSTALL | BUILD | CHECK | BUILD BIN | ||||||||
| mgsa 1.40.0 (landing page) Sebastian Bauer
| nebbiolo1 | Linux (Ubuntu 20.04.2 LTS) / x86_64 | OK | OK | OK | |||||||||
| tokay2 | Windows Server 2012 R2 Standard / x64 | OK | OK | OK | OK | |||||||||
| machv2 | macOS 10.14.6 Mojave / x86_64 | OK | OK | OK | OK | |||||||||
| Package: mgsa |
| Version: 1.40.0 |
| Command: rm -rf mgsa.buildbin-libdir && mkdir mgsa.buildbin-libdir && C:\Users\biocbuild\bbs-3.13-bioc\R\bin\R.exe CMD INSTALL --merge-multiarch --build --library=mgsa.buildbin-libdir mgsa_1.40.0.tar.gz |
| StartedAt: 2021-10-15 10:23:02 -0400 (Fri, 15 Oct 2021) |
| EndedAt: 2021-10-15 10:24:35 -0400 (Fri, 15 Oct 2021) |
| EllapsedTime: 93.1 seconds |
| RetCode: 0 |
| Status: OK |
| PackageFile: mgsa_1.40.0.zip |
| PackageFileSize: 548.2 KiB |
##############################################################################
##############################################################################
###
### Running command:
###
### rm -rf mgsa.buildbin-libdir && mkdir mgsa.buildbin-libdir && C:\Users\biocbuild\bbs-3.13-bioc\R\bin\R.exe CMD INSTALL --merge-multiarch --build --library=mgsa.buildbin-libdir mgsa_1.40.0.tar.gz
###
##############################################################################
##############################################################################
install for i386
* installing *source* package 'mgsa' ...
** using staged installation
**********************************************
WARNING: this package has a configure script
It probably needs manual configuration
**********************************************
** libs
"C:/rtools40/mingw32/bin/"gcc -I"C:/Users/BIOCBU~1/BBS-3~1.13-/R/include" -DNDEBUG -I"c:/extsoft/include" -O2 -Wall -std=gnu99 -mfpmath=sse -msse2 -mstackrealign -c mgsa-core.c -o mgsa-core.o
mgsa-core.c: In function 'ts_R_alloc':
mgsa-core.c:56: warning: ignoring #pragma omp critical [-Wunknown-pragmas]
#pragma omp critical
"C:/rtools40/mingw32/bin/"gcc -I"C:/Users/BIOCBU~1/BBS-3~1.13-/R/include" -DNDEBUG -I"c:/extsoft/include" -O2 -Wall -std=gnu99 -mfpmath=sse -msse2 -mstackrealign -c mgsa.c -o mgsa.o
mgsa.c: In function 'mgsa_mcmc':
mgsa.c:552: warning: ignoring #pragma omp parallel [-Wunknown-pragmas]
#pragma omp parallel for
mgsa.c:558: warning: ignoring #pragma omp critical [-Wunknown-pragmas]
#pragma omp critical
"C:/rtools40/mingw32/bin/"gcc -I"C:/Users/BIOCBU~1/BBS-3~1.13-/R/include" -DNDEBUG -I"c:/extsoft/include" -O2 -Wall -std=gnu99 -mfpmath=sse -msse2 -mstackrealign -c mt.c -o mt.o
C:/rtools40/mingw32/bin/gcc -shared -s -static-libgcc -o mgsa.dll tmp.def mgsa-core.o mgsa.o mt.o -Lc:/extsoft/lib/i386 -Lc:/extsoft/lib -LC:/Users/BIOCBU~1/BBS-3~1.13-/R/bin/i386 -lR
installing to C:/Users/biocbuild/bbs-3.13-bioc/meat/mgsa.buildbin-libdir/00LOCK-mgsa/00new/mgsa/libs/i386
** R
** data
** inst
** byte-compile and prepare package for lazy loading
** help
*** installing help indices
converting help for package 'mgsa'
finding HTML links ... done
MgsaGoSets-class html
MgsaMcmcResults-class html
MgsaResults-class html
MgsaSets-class html
alphaMcmcPost-methods html
alphaPost-methods html
betaMcmcPost-methods html
betaPost-methods html
createMgsaGoSets html
example-go html
example-o html
itemAnnotations-methods html
itemIndices-methods html
length-methods html
mgsa-methods html
mgsa-package html
nsamples-methods html
pMcmcPost-methods html
pPost-methods html
plot-MgsaResults-method html
populationSize-methods html
readGAF html
restarts-methods html
setAnnotations-methods html
setsMcmcPost-methods html
setsResults-methods html
show-MgsaResults-method html
show-MgsaSets-method html
steps-methods html
studySetSizeInPopulation-methods html
subMgsaSets-methods html
** building package indices
** installing vignettes
** testing if installed package can be loaded from temporary location
** testing if installed package can be loaded from final location
** testing if installed package keeps a record of temporary installation path
install for x64
* installing *source* package 'mgsa' ...
**********************************************
WARNING: this package has a configure script
It probably needs manual configuration
**********************************************
** libs
"C:/rtools40/mingw64/bin/"gcc -I"C:/Users/BIOCBU~1/BBS-3~1.13-/R/include" -DNDEBUG -I"C:/extsoft/include" -O2 -Wall -std=gnu99 -mfpmath=sse -msse2 -mstackrealign -c mgsa-core.c -o mgsa-core.o
mgsa-core.c: In function 'ts_R_alloc':
mgsa-core.c:56: warning: ignoring #pragma omp critical [-Wunknown-pragmas]
#pragma omp critical
"C:/rtools40/mingw64/bin/"gcc -I"C:/Users/BIOCBU~1/BBS-3~1.13-/R/include" -DNDEBUG -I"C:/extsoft/include" -O2 -Wall -std=gnu99 -mfpmath=sse -msse2 -mstackrealign -c mgsa.c -o mgsa.o
mgsa.c: In function 'mgsa_mcmc':
mgsa.c:552: warning: ignoring #pragma omp parallel [-Wunknown-pragmas]
#pragma omp parallel for
mgsa.c:558: warning: ignoring #pragma omp critical [-Wunknown-pragmas]
#pragma omp critical
"C:/rtools40/mingw64/bin/"gcc -I"C:/Users/BIOCBU~1/BBS-3~1.13-/R/include" -DNDEBUG -I"C:/extsoft/include" -O2 -Wall -std=gnu99 -mfpmath=sse -msse2 -mstackrealign -c mt.c -o mt.o
C:/rtools40/mingw64/bin/gcc -shared -s -static-libgcc -o mgsa.dll tmp.def mgsa-core.o mgsa.o mt.o -LC:/extsoft/lib/x64 -LC:/extsoft/lib -LC:/Users/BIOCBU~1/BBS-3~1.13-/R/bin/x64 -lR
installing to C:/Users/biocbuild/bbs-3.13-bioc/meat/mgsa.buildbin-libdir/mgsa/libs/x64
** testing if installed package can be loaded
* MD5 sums
packaged installation of 'mgsa' as mgsa_1.40.0.zip
* DONE (mgsa)