| Back to Multiple platform build/check report for BioC 3.13 |
|
This page was generated on 2021-10-15 15:06:11 -0400 (Fri, 15 Oct 2021).
|
To the developers/maintainers of the methylSig package: - Please allow up to 24 hours (and sometimes 48 hours) for your latest push to git@git.bioconductor.org:packages/methylSig.git to reflect on this report. See How and When does the builder pull? When will my changes propagate? here for more information. - Make sure to use the following settings in order to reproduce any error or warning you see on this page. |
| Package 1115/2041 | Hostname | OS / Arch | INSTALL | BUILD | CHECK | BUILD BIN | ||||||||
| methylSig 1.4.0 (landing page) Raymond G. Cavalcante
| nebbiolo1 | Linux (Ubuntu 20.04.2 LTS) / x86_64 | OK | OK | OK | |||||||||
| tokay2 | Windows Server 2012 R2 Standard / x64 | OK | OK | OK | OK | |||||||||
| machv2 | macOS 10.14.6 Mojave / x86_64 | OK | OK | OK | OK | |||||||||
| Package: methylSig |
| Version: 1.4.0 |
| Command: C:\cygwin\bin\curl.exe -O http://155.52.207.165/BBS/3.13/bioc/src/contrib/methylSig_1.4.0.tar.gz && rm -rf methylSig.buildbin-libdir && mkdir methylSig.buildbin-libdir && C:\Users\biocbuild\bbs-3.13-bioc\R\bin\R.exe CMD INSTALL --merge-multiarch --build --library=methylSig.buildbin-libdir methylSig_1.4.0.tar.gz && C:\Users\biocbuild\bbs-3.13-bioc\R\bin\R.exe CMD INSTALL methylSig_1.4.0.zip && rm methylSig_1.4.0.tar.gz methylSig_1.4.0.zip |
| StartedAt: 2021-10-14 10:36:26 -0400 (Thu, 14 Oct 2021) |
| EndedAt: 2021-10-14 10:37:40 -0400 (Thu, 14 Oct 2021) |
| EllapsedTime: 73.8 seconds |
| RetCode: 0 |
| Status: OK |
##############################################################################
##############################################################################
###
### Running command:
###
### C:\cygwin\bin\curl.exe -O http://155.52.207.165/BBS/3.13/bioc/src/contrib/methylSig_1.4.0.tar.gz && rm -rf methylSig.buildbin-libdir && mkdir methylSig.buildbin-libdir && C:\Users\biocbuild\bbs-3.13-bioc\R\bin\R.exe CMD INSTALL --merge-multiarch --build --library=methylSig.buildbin-libdir methylSig_1.4.0.tar.gz && C:\Users\biocbuild\bbs-3.13-bioc\R\bin\R.exe CMD INSTALL methylSig_1.4.0.zip && rm methylSig_1.4.0.tar.gz methylSig_1.4.0.zip
###
##############################################################################
##############################################################################
% Total % Received % Xferd Average Speed Time Time Time Current
Dload Upload Total Spent Left Speed
0 0 0 0 0 0 0 0 --:--:-- --:--:-- --:--:-- 0
100 59264 100 59264 0 0 374k 0 --:--:-- --:--:-- --:--:-- 375k
install for i386
* installing *source* package 'methylSig' ...
** using staged installation
** R
** data
*** moving datasets to lazyload DB
** inst
** byte-compile and prepare package for lazy loading
** help
*** installing help indices
converting help for package 'methylSig'
finding HTML links ... done
bsseq_destranded html
bsseq_multichrom html
bsseq_stranded html
diff_binomial html
diff_dss_fit html
diff_dss_test html
diff_methylsig html
filter_loci_by_coverage html
filter_loci_by_group_coverage html
filter_loci_by_location html
methylSig html
promoters_gr html
tile_by_regions html
tile_by_windows html
** building package indices
** installing vignettes
** testing if installed package can be loaded from temporary location
** testing if installed package can be loaded from final location
** testing if installed package keeps a record of temporary installation path
install for x64
* installing *source* package 'methylSig' ...
** testing if installed package can be loaded
* MD5 sums
packaged installation of 'methylSig' as methylSig_1.4.0.zip
* DONE (methylSig)
* installing to library 'C:/Users/biocbuild/bbs-3.13-bioc/R/library'
package 'methylSig' successfully unpacked and MD5 sums checked