| Back to Multiple platform build/check report for BioC 3.13 |
|
This page was generated on 2021-10-15 15:05:45 -0400 (Fri, 15 Oct 2021).
|
To the developers/maintainers of the methylMnM package: - Please allow up to 24 hours (and sometimes 48 hours) for your latest push to git@git.bioconductor.org:packages/methylMnM.git to reflect on this report. See How and When does the builder pull? When will my changes propagate? here for more information. - Make sure to use the following settings in order to reproduce any error or warning you see on this page. |
| Package 1111/2041 | Hostname | OS / Arch | INSTALL | BUILD | CHECK | BUILD BIN | ||||||||
| methylMnM 1.30.0 (landing page) Yan Zhou
| nebbiolo1 | Linux (Ubuntu 20.04.2 LTS) / x86_64 | OK | OK | OK | |||||||||
| tokay2 | Windows Server 2012 R2 Standard / x64 | OK | OK | OK | OK | |||||||||
| machv2 | macOS 10.14.6 Mojave / x86_64 | OK | OK | OK | OK | |||||||||
| Package: methylMnM |
| Version: 1.30.0 |
| Command: /home/biocbuild/bbs-3.13-bioc/R/bin/R CMD check --install=check:methylMnM.install-out.txt --library=/home/biocbuild/bbs-3.13-bioc/R/library --no-vignettes --timings methylMnM_1.30.0.tar.gz |
| StartedAt: 2021-10-14 10:33:09 -0400 (Thu, 14 Oct 2021) |
| EndedAt: 2021-10-14 10:33:39 -0400 (Thu, 14 Oct 2021) |
| EllapsedTime: 30.3 seconds |
| RetCode: 0 |
| Status: OK |
| CheckDir: methylMnM.Rcheck |
| Warnings: 0 |
##############################################################################
##############################################################################
###
### Running command:
###
### /home/biocbuild/bbs-3.13-bioc/R/bin/R CMD check --install=check:methylMnM.install-out.txt --library=/home/biocbuild/bbs-3.13-bioc/R/library --no-vignettes --timings methylMnM_1.30.0.tar.gz
###
##############################################################################
##############################################################################
* using log directory ‘/home/biocbuild/bbs-3.13-bioc/meat/methylMnM.Rcheck’
* using R version 4.1.1 (2021-08-10)
* using platform: x86_64-pc-linux-gnu (64-bit)
* using session charset: UTF-8
* using option ‘--no-vignettes’
* checking for file ‘methylMnM/DESCRIPTION’ ... OK
* checking extension type ... Package
* this is package ‘methylMnM’ version ‘1.30.0’
* checking package namespace information ... OK
* checking package dependencies ... OK
* checking if this is a source package ... OK
* checking if there is a namespace ... OK
* checking for hidden files and directories ... OK
* checking for portable file names ... OK
* checking for sufficient/correct file permissions ... OK
* checking whether package ‘methylMnM’ can be installed ... OK
* checking installed package size ... NOTE
installed size is 18.2Mb
sub-directories of 1Mb or more:
extdata 18.0Mb
* checking package directory ... OK
* checking ‘build’ directory ... OK
* checking DESCRIPTION meta-information ... OK
* checking top-level files ... OK
* checking for left-over files ... OK
* checking index information ... OK
* checking package subdirectories ... OK
* checking R files for non-ASCII characters ... OK
* checking R files for syntax errors ... OK
* checking whether the package can be loaded ... OK
* checking whether the package can be loaded with stated dependencies ... OK
* checking whether the package can be unloaded cleanly ... OK
* checking whether the namespace can be loaded with stated dependencies ... OK
* checking whether the namespace can be unloaded cleanly ... OK
* checking dependencies in R code ... NOTE
'library' or 'require' calls to packages already attached by Depends:
‘edgeR’ ‘statmod’
Please remove these calls from your code.
Packages in Depends field not imported from:
‘edgeR’ ‘statmod’
These packages need to be imported from (in the NAMESPACE file)
for when this namespace is loaded but not attached.
* checking S3 generic/method consistency ... OK
* checking replacement functions ... OK
* checking foreign function calls ... OK
* checking R code for possible problems ... NOTE
CNVnormal: no visible global function definition for ‘read.table’
MnM.qvalue: no visible global function definition for ‘read.table’
MnM.qvalue: no visible global function definition for ‘write.table’
MnM.selectDMR: no visible global function definition for ‘quantile’
MnM.test: no visible global function definition for ‘read.table’
MnM.test: no visible global function definition for ‘calcNormFactors’
MnM.test: no visible global function definition for ‘sage.test’
MnM.test: no visible global function definition for ‘lm’
MnM.test: no visible global function definition for ‘write.table’
countMREbin: no visible global function definition for ‘read.table’
countMREbin: no visible global function definition for ‘count.fields’
countMREbin: no visible global function definition for ‘write.table’
countMREcpgbin: no visible global function definition for ‘read.table’
countMREcpgbin: no visible global function definition for
‘count.fields’
countMREcpgbin: no visible global function definition for ‘write.table’
countMeDIPbin: no visible global function definition for ‘read.table’
countMeDIPbin: no visible global function definition for ‘count.fields’
countMeDIPbin: no visible global function definition for ‘write.table’
countcpgbin: no visible global function definition for ‘read.table’
countcpgbin: no visible global function definition for ‘count.fields’
countcpgbin: no visible global function definition for ‘write.table’
normpdf: no visible global function definition for ‘pnorm’
removeblacklist: no visible global function definition for ‘read.table’
Undefined global functions or variables:
calcNormFactors count.fields lm pnorm quantile read.table sage.test
write.table
Consider adding
importFrom("stats", "lm", "pnorm", "quantile")
importFrom("utils", "count.fields", "read.table", "write.table")
to your NAMESPACE file.
* checking Rd files ... OK
* checking Rd metadata ... OK
* checking Rd cross-references ... OK
* checking for missing documentation entries ... OK
* checking for code/documentation mismatches ... OK
* checking Rd \usage sections ... OK
* checking Rd contents ... OK
* checking for unstated dependencies in examples ... OK
* checking line endings in C/C++/Fortran sources/headers ... OK
* checking compiled code ... NOTE
Note: information on .o files is not available
File ‘/home/biocbuild/bbs-3.13-bioc/R/library/methylMnM/libs/methylMnM.so’:
Found ‘__printf_chk’, possibly from ‘printf’ (C)
Compiled code should not call entry points which might terminate R nor
write to stdout/stderr instead of to the console, nor use Fortran I/O
nor system RNGs. The detected symbols are linked into the code but
might come from libraries and not actually be called.
See ‘Writing portable packages’ in the ‘Writing R Extensions’ manual.
* checking files in ‘vignettes’ ... OK
* checking examples ... OK
* checking for unstated dependencies in vignettes ... OK
* checking package vignettes in ‘inst/doc’ ... OK
* checking running R code from vignettes ... SKIPPED
* checking re-building of vignette outputs ... SKIPPED
* checking PDF version of manual ... OK
* DONE
Status: 4 NOTEs
See
‘/home/biocbuild/bbs-3.13-bioc/meat/methylMnM.Rcheck/00check.log’
for details.
methylMnM.Rcheck/00install.out
############################################################################## ############################################################################## ### ### Running command: ### ### /home/biocbuild/bbs-3.13-bioc/R/bin/R CMD INSTALL methylMnM ### ############################################################################## ############################################################################## * installing to library ‘/home/biocbuild/bbs-3.13-bioc/R/library’ * installing *source* package ‘methylMnM’ ... ** using staged installation ** libs gcc -I"/home/biocbuild/bbs-3.13-bioc/R/include" -DNDEBUG -I/usr/local/include -fpic -g -O2 -Wall -c CpGcount.c -o CpGcount.o gcc -I"/home/biocbuild/bbs-3.13-bioc/R/include" -DNDEBUG -I/usr/local/include -fpic -g -O2 -Wall -c calculatecount.c -o calculatecount.o gcc -I"/home/biocbuild/bbs-3.13-bioc/R/include" -DNDEBUG -I/usr/local/include -fpic -g -O2 -Wall -c calculatecount1.c -o calculatecount1.o gcc -I"/home/biocbuild/bbs-3.13-bioc/R/include" -DNDEBUG -I/usr/local/include -fpic -g -O2 -Wall -c calculatecountneg.c -o calculatecountneg.o gcc -I"/home/biocbuild/bbs-3.13-bioc/R/include" -DNDEBUG -I/usr/local/include -fpic -g -O2 -Wall -c pmultinom.c -o pmultinom.o gcc -I"/home/biocbuild/bbs-3.13-bioc/R/include" -DNDEBUG -I/usr/local/include -fpic -g -O2 -Wall -c pvalueclassify.c -o pvalueclassify.o gcc -I"/home/biocbuild/bbs-3.13-bioc/R/include" -DNDEBUG -I/usr/local/include -fpic -g -O2 -Wall -c register.c -o register.o gcc -shared -L/home/biocbuild/bbs-3.13-bioc/R/lib -L/usr/local/lib -o methylMnM.so CpGcount.o calculatecount.o calculatecount1.o calculatecountneg.o pmultinom.o pvalueclassify.o register.o -L/home/biocbuild/bbs-3.13-bioc/R/lib -lR installing to /home/biocbuild/bbs-3.13-bioc/R/library/00LOCK-methylMnM/00new/methylMnM/libs ** R ** inst ** byte-compile and prepare package for lazy loading ** help *** installing help indices ** building package indices ** installing vignettes ** testing if installed package can be loaded from temporary location ** checking absolute paths in shared objects and dynamic libraries ** testing if installed package can be loaded from final location ** testing if installed package keeps a record of temporary installation path * DONE (methylMnM)
methylMnM.Rcheck/methylMnM-Ex.timings
| name | user | system | elapsed | |
| CNVnormal | 0.016 | 0.001 | 0.016 | |
| MnM.qvalue | 0.007 | 0.003 | 0.011 | |
| MnM.selectDMR | 0.004 | 0.003 | 0.008 | |
| MnM.test | 0.022 | 0.001 | 0.022 | |
| calcFactornew | 0.001 | 0.000 | 0.001 | |
| calculatecount | 0.000 | 0.000 | 0.001 | |
| calculatecount1 | 0.000 | 0.000 | 0.001 | |
| calculatecountneg | 0.000 | 0.000 | 0.001 | |
| countMREbin | 0.919 | 0.078 | 1.003 | |
| countMREcpgbin | 1.314 | 0.044 | 1.361 | |
| countMeDIPbin | 1.128 | 0.012 | 1.140 | |
| countcpgbin | 1.049 | 0.021 | 1.069 | |
| cpgcount | 0 | 0 | 0 | |
| normpdf | 0.000 | 0.001 | 0.001 | |
| normpdf1 | 0.000 | 0.000 | 0.001 | |
| pmultinom | 0.427 | 0.002 | 0.428 | |
| qvalue.rank | 0.000 | 0.000 | 0.001 | |
| removeblacklist | 0.004 | 0.000 | 0.004 | |