| Back to Multiple platform build/check report for BioC 3.13 |
|
This page was generated on 2021-10-15 15:06:11 -0400 (Fri, 15 Oct 2021).
|
To the developers/maintainers of the methInheritSim package: - Please allow up to 24 hours (and sometimes 48 hours) for your latest push to git@git.bioconductor.org:packages/methInheritSim.git to reflect on this report. See How and When does the builder pull? When will my changes propagate? here for more information. - Make sure to use the following settings in order to reproduce any error or warning you see on this page. |
| Package 1099/2041 | Hostname | OS / Arch | INSTALL | BUILD | CHECK | BUILD BIN | ||||||||
| methInheritSim 1.14.0 (landing page) Pascal Belleau
| nebbiolo1 | Linux (Ubuntu 20.04.2 LTS) / x86_64 | OK | OK | OK | |||||||||
| tokay2 | Windows Server 2012 R2 Standard / x64 | OK | OK | OK | OK | |||||||||
| machv2 | macOS 10.14.6 Mojave / x86_64 | OK | OK | OK | OK | |||||||||
| Package: methInheritSim |
| Version: 1.14.0 |
| Command: C:\cygwin\bin\curl.exe -O http://155.52.207.165/BBS/3.13/bioc/src/contrib/methInheritSim_1.14.0.tar.gz && rm -rf methInheritSim.buildbin-libdir && mkdir methInheritSim.buildbin-libdir && C:\Users\biocbuild\bbs-3.13-bioc\R\bin\R.exe CMD INSTALL --merge-multiarch --build --library=methInheritSim.buildbin-libdir methInheritSim_1.14.0.tar.gz && C:\Users\biocbuild\bbs-3.13-bioc\R\bin\R.exe CMD INSTALL methInheritSim_1.14.0.zip && rm methInheritSim_1.14.0.tar.gz methInheritSim_1.14.0.zip |
| StartedAt: 2021-10-14 10:42:22 -0400 (Thu, 14 Oct 2021) |
| EndedAt: 2021-10-14 10:43:24 -0400 (Thu, 14 Oct 2021) |
| EllapsedTime: 61.8 seconds |
| RetCode: 0 |
| Status: OK |
##############################################################################
##############################################################################
###
### Running command:
###
### C:\cygwin\bin\curl.exe -O http://155.52.207.165/BBS/3.13/bioc/src/contrib/methInheritSim_1.14.0.tar.gz && rm -rf methInheritSim.buildbin-libdir && mkdir methInheritSim.buildbin-libdir && C:\Users\biocbuild\bbs-3.13-bioc\R\bin\R.exe CMD INSTALL --merge-multiarch --build --library=methInheritSim.buildbin-libdir methInheritSim_1.14.0.tar.gz && C:\Users\biocbuild\bbs-3.13-bioc\R\bin\R.exe CMD INSTALL methInheritSim_1.14.0.zip && rm methInheritSim_1.14.0.tar.gz methInheritSim_1.14.0.zip
###
##############################################################################
##############################################################################
% Total % Received % Xferd Average Speed Time Time Time Current
Dload Upload Total Spent Left Speed
0 0 0 0 0 0 0 0 --:--:-- --:--:-- --:--:-- 0
19 854k 19 166k 0 0 647k 0 0:00:01 --:--:-- 0:00:01 646k
100 854k 100 854k 0 0 1796k 0 --:--:-- --:--:-- --:--:-- 1798k
install for i386
* installing *source* package 'methInheritSim' ...
** using staged installation
** R
** data
** inst
** byte-compile and prepare package for lazy loading
** help
*** installing help indices
converting help for package 'methInheritSim'
finding HTML links ... done
calculateNbDiffCase html
createSampleID html
dataSimExample html
estBetaAlpha html
estBetaBeta html
fixSeed html
getDiffCase html
getDiffMeth html
getSim html
getSyntheticChr html
methInheritSim-package html
runOnEachSynCHR html
runSim html
samplesForChrSynthetic html
saveData html
simEachGeneration html
simInheritance html
testIfAlreadyDone html
validateRunSimDoubleParameters html
validateRunSimIntegerParameters html
validateRunSimLogicalParameters html
validateRunSimOtherParameters html
validateRunSimParameters html
** building package indices
** installing vignettes
** testing if installed package can be loaded from temporary location
** testing if installed package can be loaded from final location
** testing if installed package keeps a record of temporary installation path
install for x64
* installing *source* package 'methInheritSim' ...
** testing if installed package can be loaded
* MD5 sums
packaged installation of 'methInheritSim' as methInheritSim_1.14.0.zip
* DONE (methInheritSim)
* installing to library 'C:/Users/biocbuild/bbs-3.13-bioc/R/library'
package 'methInheritSim' successfully unpacked and MD5 sums checked