| Back to Multiple platform build/check report for BioC 3.13 |
|
This page was generated on 2021-10-15 15:06:42 -0400 (Fri, 15 Oct 2021).
|
To the developers/maintainers of the metagenomeSeq package: - Please allow up to 24 hours (and sometimes 48 hours) for your latest push to git@git.bioconductor.org:packages/metagenomeSeq.git to reflect on this report. See How and When does the builder pull? When will my changes propagate? here for more information. - Make sure to use the following settings in order to reproduce any error or warning you see on this page. |
| Package 1087/2041 | Hostname | OS / Arch | INSTALL | BUILD | CHECK | BUILD BIN | ||||||||
| metagenomeSeq 1.34.0 (landing page) Joseph N. Paulson
| nebbiolo1 | Linux (Ubuntu 20.04.2 LTS) / x86_64 | OK | OK | OK | |||||||||
| tokay2 | Windows Server 2012 R2 Standard / x64 | OK | OK | OK | OK | |||||||||
| machv2 | macOS 10.14.6 Mojave / x86_64 | OK | OK | OK | OK | |||||||||
| Package: metagenomeSeq |
| Version: 1.34.0 |
| Command: /Library/Frameworks/R.framework/Versions/Current/Resources/bin/R CMD check --install=check:metagenomeSeq.install-out.txt --library=/Library/Frameworks/R.framework/Versions/Current/Resources/library --no-vignettes --timings metagenomeSeq_1.34.0.tar.gz |
| StartedAt: 2021-10-14 20:52:26 -0400 (Thu, 14 Oct 2021) |
| EndedAt: 2021-10-14 20:57:48 -0400 (Thu, 14 Oct 2021) |
| EllapsedTime: 322.5 seconds |
| RetCode: 0 |
| Status: OK |
| CheckDir: metagenomeSeq.Rcheck |
| Warnings: 0 |
##############################################################################
##############################################################################
###
### Running command:
###
### /Library/Frameworks/R.framework/Versions/Current/Resources/bin/R CMD check --install=check:metagenomeSeq.install-out.txt --library=/Library/Frameworks/R.framework/Versions/Current/Resources/library --no-vignettes --timings metagenomeSeq_1.34.0.tar.gz
###
##############################################################################
##############################################################################
* using log directory ‘/Users/biocbuild/bbs-3.13-bioc/meat/metagenomeSeq.Rcheck’
* using R version 4.1.1 (2021-08-10)
* using platform: x86_64-apple-darwin17.0 (64-bit)
* using session charset: UTF-8
* using option ‘--no-vignettes’
* checking for file ‘metagenomeSeq/DESCRIPTION’ ... OK
* this is package ‘metagenomeSeq’ version ‘1.34.0’
* checking package namespace information ... OK
* checking package dependencies ... OK
* checking if this is a source package ... OK
* checking if there is a namespace ... OK
* checking for hidden files and directories ... OK
* checking for portable file names ... OK
* checking for sufficient/correct file permissions ... OK
* checking whether package ‘metagenomeSeq’ can be installed ... OK
* checking installed package size ... OK
* checking package directory ... OK
* checking ‘build’ directory ... OK
* checking DESCRIPTION meta-information ... OK
* checking top-level files ... OK
* checking for left-over files ... OK
* checking index information ... OK
* checking package subdirectories ... OK
* checking R files for non-ASCII characters ... OK
* checking R files for syntax errors ... OK
* checking whether the package can be loaded ... OK
* checking whether the package can be loaded with stated dependencies ... OK
* checking whether the package can be unloaded cleanly ... OK
* checking whether the namespace can be loaded with stated dependencies ... OK
* checking whether the namespace can be unloaded cleanly ... OK
* checking dependencies in R code ... OK
* checking S3 generic/method consistency ... OK
* checking replacement functions ... OK
* checking foreign function calls ... OK
* checking R code for possible problems ... OK
* checking Rd files ... OK
* checking Rd metadata ... OK
* checking Rd cross-references ... OK
* checking for missing documentation entries ... OK
* checking for code/documentation mismatches ... OK
* checking Rd \usage sections ... OK
* checking Rd contents ... OK
* checking for unstated dependencies in examples ... OK
* checking contents of ‘data’ directory ... OK
* checking data for non-ASCII characters ... OK
* checking data for ASCII and uncompressed saves ... OK
* checking sizes of PDF files under ‘inst/doc’ ... OK
* checking files in ‘vignettes’ ... OK
* checking examples ... OK
Examples with CPU (user + system) or elapsed time > 5s
user system elapsed
wrenchNorm 21.418 1.265 22.711
exportMat 1.849 4.101 6.164
MRfulltable 1.582 0.057 7.757
* checking for unstated dependencies in ‘tests’ ... OK
* checking tests ...
Running ‘testthat.R’
OK
* checking for unstated dependencies in vignettes ... OK
* checking package vignettes in ‘inst/doc’ ... OK
* checking running R code from vignettes ... SKIPPED
* checking re-building of vignette outputs ... SKIPPED
* checking PDF version of manual ... OK
* DONE
Status: OK
metagenomeSeq.Rcheck/00install.out
############################################################################## ############################################################################## ### ### Running command: ### ### /Library/Frameworks/R.framework/Versions/Current/Resources/bin/R CMD INSTALL metagenomeSeq ### ############################################################################## ############################################################################## * installing to library ‘/Library/Frameworks/R.framework/Versions/4.1/Resources/library’ * installing *source* package ‘metagenomeSeq’ ... ** using staged installation ** R ** data ** inst ** byte-compile and prepare package for lazy loading in method for ‘MRihw’ with signature ‘"fitFeatureModelResults"’: no definition for class “fitFeatureModelResults” in method for ‘MRihw’ with signature ‘"fitZigResults"’: no definition for class “fitZigResults” ** help *** installing help indices ** building package indices ** installing vignettes ** testing if installed package can be loaded from temporary location ** testing if installed package can be loaded from final location ** testing if installed package keeps a record of temporary installation path * DONE (metagenomeSeq)
metagenomeSeq.Rcheck/tests/testthat.Rout
R version 4.1.1 (2021-08-10) -- "Kick Things"
Copyright (C) 2021 The R Foundation for Statistical Computing
Platform: x86_64-apple-darwin17.0 (64-bit)
R is free software and comes with ABSOLUTELY NO WARRANTY.
You are welcome to redistribute it under certain conditions.
Type 'license()' or 'licence()' for distribution details.
R is a collaborative project with many contributors.
Type 'contributors()' for more information and
'citation()' on how to cite R or R packages in publications.
Type 'demo()' for some demos, 'help()' for on-line help, or
'help.start()' for an HTML browser interface to help.
Type 'q()' to quit R.
> library("testthat")
> packageVersion("metagenomeSeq")
[1] '1.34.0'
> # As suggested for opt-out option on testing by users,
> # recommended by CRAN: http://adv-r.had.co.nz/Testing.html
> # Previously, best practice was to put all test files in inst/tests
> # and ensure that R CMD check ran them by putting the following code in tests/test-all.R:
> # >library(testthat)
> # >library(yourpackage)
> # >test_package("yourpackage")
> # Now, recommended practice is to put your tests in tests/testthat,
> # and ensure R CMD check runs them by putting the following code in tests/test-all.R:
> # >library(testthat)
> # >test_check("yourpackage")
> # The advantage of this new structure is that the user has control over whether or not tests are installed using the –install-tests parameter to
> # R CMD install, or INSTALL_opts = c(“–install-tests”) argument to install.packages(). I’m not sure why you wouldn’t want to install the tests,
> # but now you have the flexibility as requested by CRAN maintainers.
> test_check("metagenomeSeq")
Loading required package: metagenomeSeq
Loading required package: Biobase
Loading required package: BiocGenerics
Loading required package: parallel
Attaching package: 'BiocGenerics'
The following objects are masked from 'package:parallel':
clusterApply, clusterApplyLB, clusterCall, clusterEvalQ,
clusterExport, clusterMap, parApply, parCapply, parLapply,
parLapplyLB, parRapply, parSapply, parSapplyLB
The following objects are masked from 'package:stats':
IQR, mad, sd, var, xtabs
The following objects are masked from 'package:base':
Filter, Find, Map, Position, Reduce, anyDuplicated, append,
as.data.frame, basename, cbind, colnames, dirname, do.call,
duplicated, eval, evalq, get, grep, grepl, intersect, is.unsorted,
lapply, mapply, match, mget, order, paste, pmax, pmax.int, pmin,
pmin.int, rank, rbind, rownames, sapply, setdiff, sort, table,
tapply, union, unique, unsplit, which.max, which.min
Welcome to Bioconductor
Vignettes contain introductory material; view with
'browseVignettes()'. To cite Bioconductor, see
'citation("Biobase")', and for packages 'citation("pkgname")'.
Loading required package: limma
Attaching package: 'limma'
The following object is masked from 'package:BiocGenerics':
plotMA
Loading required package: glmnet
Loading required package: Matrix
Loaded glmnet 4.1-2
Loading required package: RColorBrewer
[ FAIL 0 | WARN 6 | SKIP 0 | PASS 15 ]
>
> proc.time()
user system elapsed
127.049 6.523 133.715
metagenomeSeq.Rcheck/metagenomeSeq-Ex.timings
| name | user | system | elapsed | |
| MRcoefs | 1.860 | 0.100 | 1.962 | |
| MRcounts | 0.726 | 0.013 | 0.740 | |
| MRexperiment-class | 0.000 | 0.000 | 0.001 | |
| MRfulltable | 1.582 | 0.057 | 7.757 | |
| MRtable | 1.595 | 0.021 | 1.618 | |
| aggregateBySample | 0.234 | 0.012 | 0.246 | |
| aggregateByTaxonomy | 0.320 | 0.012 | 0.333 | |
| biom2MRexperiment | 0.523 | 0.015 | 0.539 | |
| calcNormFactors | 0.881 | 0.149 | 1.032 | |
| correctIndices | 0.185 | 0.012 | 0.197 | |
| correlationTest | 0.386 | 0.023 | 0.410 | |
| cumNorm | 0.589 | 0.112 | 0.701 | |
| cumNormMat | 0.656 | 0.139 | 0.797 | |
| cumNormStat | 0.605 | 0.064 | 0.669 | |
| cumNormStatFast | 0.452 | 0.040 | 0.492 | |
| expSummary | 0.162 | 0.011 | 0.173 | |
| exportMat | 1.849 | 4.101 | 6.164 | |
| exportStats | 0.589 | 0.017 | 0.607 | |
| extractMR | 1.632 | 1.724 | 3.406 | |
| filterData | 0.268 | 0.008 | 0.278 | |
| fitDO | 0.816 | 0.031 | 4.328 | |
| fitFeatureModel | 1.409 | 0.051 | 1.464 | |
| fitLogNormal | 2.306 | 0.171 | 2.480 | |
| fitMultipleTimeSeries | 2.029 | 0.183 | 2.214 | |
| fitPA | 0.852 | 0.040 | 4.490 | |
| fitSSTimeSeries | 0.535 | 0.066 | 0.602 | |
| fitTimeSeries | 0.638 | 0.042 | 0.680 | |
| fitZig | 2.174 | 0.162 | 2.338 | |
| libSize-set | 0.508 | 0.011 | 0.519 | |
| libSize | 0.512 | 0.024 | 0.537 | |
| loadBiom | 0.055 | 0.001 | 0.056 | |
| loadMeta | 0.045 | 0.009 | 0.055 | |
| loadMetaQ | 0 | 0 | 0 | |
| loadPhenoData | 0.016 | 0.001 | 0.016 | |
| makeLabels | 0.000 | 0.000 | 0.001 | |
| mergeMRexperiments | 2.119 | 0.181 | 2.302 | |
| newMRexperiment | 0.059 | 0.001 | 0.059 | |
| normFactors-set | 0.529 | 0.026 | 0.555 | |
| normFactors | 0.524 | 0.008 | 0.533 | |
| plotBubble | 0.403 | 0.019 | 4.013 | |
| plotClassTimeSeries | 1.401 | 0.157 | 1.560 | |
| plotCorr | 0.685 | 0.022 | 0.708 | |
| plotFeature | 0.215 | 0.014 | 0.229 | |
| plotGenus | 0.229 | 0.018 | 0.248 | |
| plotMRheatmap | 3.714 | 0.087 | 3.806 | |
| plotOTU | 0.218 | 0.011 | 0.230 | |
| plotOrd | 0.334 | 0.012 | 0.347 | |
| plotRare | 0.210 | 0.015 | 0.226 | |
| plotTimeSeries | 1.166 | 0.119 | 1.287 | |
| posteriorProbs | 2.056 | 0.182 | 2.242 | |
| returnAppropriateObj | 0.486 | 0.128 | 0.615 | |
| ssFit | 0.000 | 0.000 | 0.001 | |
| ssIntervalCandidate | 0.000 | 0.000 | 0.001 | |
| ssPerm | 0 | 0 | 0 | |
| ssPermAnalysis | 0.000 | 0.001 | 0.001 | |
| trapz | 0.001 | 0.000 | 0.001 | |
| ts2MRexperiment | 2.030 | 0.175 | 2.206 | |
| uniqueFeatures | 0.195 | 0.011 | 0.207 | |
| wrenchNorm | 21.418 | 1.265 | 22.711 | |
| zigControl | 0.001 | 0.000 | 0.000 | |