| Back to Multiple platform build/check report for BioC 3.13 |
|
This page was generated on 2021-10-15 15:06:11 -0400 (Fri, 15 Oct 2021).
|
To the developers/maintainers of the metaMS package: - Please allow up to 24 hours (and sometimes 48 hours) for your latest push to git@git.bioconductor.org:packages/metaMS.git to reflect on this report. See How and When does the builder pull? When will my changes propagate? here for more information. - Make sure to use the following settings in order to reproduce any error or warning you see on this page. |
| Package 1089/2041 | Hostname | OS / Arch | INSTALL | BUILD | CHECK | BUILD BIN | ||||||||
| metaMS 1.28.0 (landing page) Yann Guitton
| nebbiolo1 | Linux (Ubuntu 20.04.2 LTS) / x86_64 | OK | OK | OK | |||||||||
| tokay2 | Windows Server 2012 R2 Standard / x64 | OK | OK | OK | OK | |||||||||
| machv2 | macOS 10.14.6 Mojave / x86_64 | OK | OK | OK | OK | |||||||||
| Package: metaMS |
| Version: 1.28.0 |
| Command: C:\Users\biocbuild\bbs-3.13-bioc\R\bin\R.exe CMD check --force-multiarch --install=check:metaMS.install-out.txt --library=C:\Users\biocbuild\bbs-3.13-bioc\R\library --no-vignettes --timings metaMS_1.28.0.tar.gz |
| StartedAt: 2021-10-15 01:38:44 -0400 (Fri, 15 Oct 2021) |
| EndedAt: 2021-10-15 01:45:07 -0400 (Fri, 15 Oct 2021) |
| EllapsedTime: 382.9 seconds |
| RetCode: 0 |
| Status: OK |
| CheckDir: metaMS.Rcheck |
| Warnings: 0 |
############################################################################## ############################################################################## ### ### Running command: ### ### C:\Users\biocbuild\bbs-3.13-bioc\R\bin\R.exe CMD check --force-multiarch --install=check:metaMS.install-out.txt --library=C:\Users\biocbuild\bbs-3.13-bioc\R\library --no-vignettes --timings metaMS_1.28.0.tar.gz ### ############################################################################## ############################################################################## * using log directory 'C:/Users/biocbuild/bbs-3.13-bioc/meat/metaMS.Rcheck' * using R version 4.1.1 (2021-08-10) * using platform: x86_64-w64-mingw32 (64-bit) * using session charset: ISO8859-1 * using option '--no-vignettes' * checking for file 'metaMS/DESCRIPTION' ... OK * checking extension type ... Package * this is package 'metaMS' version '1.28.0' * package encoding: UTF-8 * checking package namespace information ... OK * checking package dependencies ... OK * checking if this is a source package ... OK * checking if there is a namespace ... OK * checking for hidden files and directories ... OK * checking for portable file names ... OK * checking whether package 'metaMS' can be installed ... OK * checking installed package size ... OK * checking package directory ... OK * checking 'build' directory ... OK * checking DESCRIPTION meta-information ... OK * checking top-level files ... OK * checking for left-over files ... OK * checking index information ... OK * checking package subdirectories ... OK * checking R files for non-ASCII characters ... OK * checking R files for syntax errors ... OK * loading checks for arch 'i386' ** checking whether the package can be loaded ... OK ** checking whether the package can be loaded with stated dependencies ... OK ** checking whether the package can be unloaded cleanly ... OK ** checking whether the namespace can be loaded with stated dependencies ... OK ** checking whether the namespace can be unloaded cleanly ... OK * loading checks for arch 'x64' ** checking whether the package can be loaded ... OK ** checking whether the package can be loaded with stated dependencies ... OK ** checking whether the package can be unloaded cleanly ... OK ** checking whether the namespace can be loaded with stated dependencies ... OK ** checking whether the namespace can be unloaded cleanly ... OK * checking dependencies in R code ... OK * checking S3 generic/method consistency ... OK * checking replacement functions ... OK * checking foreign function calls ... OK * checking R code for possible problems ... OK * checking Rd files ... OK * checking Rd metadata ... OK * checking Rd cross-references ... OK * checking for missing documentation entries ... OK * checking for code/documentation mismatches ... OK * checking Rd \usage sections ... OK * checking Rd contents ... OK * checking for unstated dependencies in examples ... OK * checking contents of 'data' directory ... OK * checking data for non-ASCII characters ... OK * checking data for ASCII and uncompressed saves ... OK * checking files in 'vignettes' ... OK * checking examples ... ** running examples for arch 'i386' ... OK ** running examples for arch 'x64' ... OK * checking for unstated dependencies in 'tests' ... OK * checking tests ... ** running tests for arch 'i386' ... Running 'runTests.R' OK ** running tests for arch 'x64' ... Running 'runTests.R' OK * checking for unstated dependencies in vignettes ... OK * checking package vignettes in 'inst/doc' ... OK * checking running R code from vignettes ... SKIPPED * checking re-building of vignette outputs ... SKIPPED * checking PDF version of manual ... OK * DONE Status: OK
metaMS.Rcheck/00install.out
##############################################################################
##############################################################################
###
### Running command:
###
### C:\cygwin\bin\curl.exe -O http://155.52.207.165/BBS/3.13/bioc/src/contrib/metaMS_1.28.0.tar.gz && rm -rf metaMS.buildbin-libdir && mkdir metaMS.buildbin-libdir && C:\Users\biocbuild\bbs-3.13-bioc\R\bin\R.exe CMD INSTALL --merge-multiarch --build --library=metaMS.buildbin-libdir metaMS_1.28.0.tar.gz && C:\Users\biocbuild\bbs-3.13-bioc\R\bin\R.exe CMD INSTALL metaMS_1.28.0.zip && rm metaMS_1.28.0.tar.gz metaMS_1.28.0.zip
###
##############################################################################
##############################################################################
% Total % Received % Xferd Average Speed Time Time Time Current
Dload Upload Total Spent Left Speed
0 0 0 0 0 0 0 0 --:--:-- --:--:-- --:--:-- 0
6 3425k 6 221k 0 0 700k 0 0:00:04 --:--:-- 0:00:04 700k
67 3425k 67 2319k 0 0 1812k 0 0:00:01 0:00:01 --:--:-- 1813k
100 3425k 100 3425k 0 0 2030k 0 0:00:01 0:00:01 --:--:-- 2030k
install for i386
* installing *source* package 'metaMS' ...
** using staged installation
** R
** data
** inst
** byte-compile and prepare package for lazy loading
** help
*** installing help indices
converting help for package 'metaMS'
finding HTML links ... done
AnnotateTable html
FEMsettings html
finding level-2 HTML links ... done
GCresults html
LCDBtest html
LCresults html
addRI html
alignmentLC html
annotations2tab html
constructExpPseudoSpectra html
createSTDdbGC html
createSTDdbLC html
errf html
exptable html
getAnnotationLC html
getAnnotationMat html
getFeatureInfo html
getPeakTable html
match2ExtDB html
matchExpSpec html
matchSamples2DB html
matchSamples2Samples html
metaMS-package html
metaMSsettings-class html
metaSetting-methods html
msp html
peakDetection html
plotPseudoSpectrum html
printString html
processStandards html
readStdInfo html
removeDoubleMasses html
runCAMERA html
runGC html
runLC html
threeStdsDB html
treat.DB html
** building package indices
** installing vignettes
** testing if installed package can be loaded from temporary location
** testing if installed package can be loaded from final location
** testing if installed package keeps a record of temporary installation path
install for x64
* installing *source* package 'metaMS' ...
** testing if installed package can be loaded
* MD5 sums
packaged installation of 'metaMS' as metaMS_1.28.0.zip
* DONE (metaMS)
* installing to library 'C:/Users/biocbuild/bbs-3.13-bioc/R/library'
package 'metaMS' successfully unpacked and MD5 sums checked
|
metaMS.Rcheck/tests_i386/runTests.Rout
R version 4.1.1 (2021-08-10) -- "Kick Things"
Copyright (C) 2021 The R Foundation for Statistical Computing
Platform: i386-w64-mingw32/i386 (32-bit)
R is free software and comes with ABSOLUTELY NO WARRANTY.
You are welcome to redistribute it under certain conditions.
Type 'license()' or 'licence()' for distribution details.
R is a collaborative project with many contributors.
Type 'contributors()' for more information and
'citation()' on how to cite R or R packages in publications.
Type 'demo()' for some demos, 'help()' for on-line help, or
'help.start()' for an HTML browser interface to help.
Type 'q()' to quit R.
> BiocGenerics:::testPackage("metaMS")
Attaching package: 'BiocGenerics'
The following objects are masked from 'package:parallel':
clusterApply, clusterApplyLB, clusterCall, clusterEvalQ,
clusterExport, clusterMap, parApply, parCapply, parLapply,
parLapplyLB, parRapply, parSapply, parSapplyLB
The following objects are masked from 'package:stats':
IQR, mad, sd, var, xtabs
The following objects are masked from 'package:base':
Filter, Find, Map, Position, Reduce, anyDuplicated, append,
as.data.frame, basename, cbind, colnames, dirname, do.call,
duplicated, eval, evalq, get, grep, grepl, intersect, is.unsorted,
lapply, mapply, match, mget, order, paste, pmax, pmax.int, pmin,
pmin.int, rank, rbind, rownames, sapply, setdiff, sort, table,
tapply, union, unique, unsplit, which.max, which.min
Welcome to Bioconductor
Vignettes contain introductory material; view with
'browseVignettes()'. To cite Bioconductor, see
'citation("Biobase")', and for packages 'citation("pkgname")'.
Attaching package: 'S4Vectors'
The following objects are masked from 'package:base':
I, expand.grid, unname
Attaching package: 'ProtGenerics'
The following object is masked from 'package:stats':
smooth
This is MSnbase version 2.18.0
Visit https://lgatto.github.io/MSnbase/ to get started.
Attaching package: 'MSnbase'
The following object is masked from 'package:base':
trimws
This is xcms version 3.14.1
Attaching package: 'xcms'
The following object is masked from 'package:stats':
sigma
< -------- Experiment of 4 samples ------------------------------------- >
< -------- Instrument: TSQXLS.QQQ.GC ----------------------------------- >
< -------- Annotation using database of 3 spectra ---------------------- >
< -------- Using xcmsSet object - only doing annotation ---------------- >
< -------- Removing artefacts (Bleeding, Plasticizers) ----------------- >
< -------- Matching with database of standards ------------------------- >
< -------- Matching unknowns across samples ---------------------------- >
< -------- Formatting results ------------------------------------------ >
< -------- Done! ------------------------------------------------------- >
< -------- Experiment of 4 samples ------------------------------------- >
< -------- Instrument: Synapt.QTOF.RP - polarity: positive ------------ >
< -------- Database of 4 compounds ------------------------------------- >
< -------- Using xcmsSet object - only doing annotation ---------------- >
< -------- Performing annotation --------------------------------------- >
Fixed mass tolerance 0.005
Feature-wise Annotation ...
< -------- Formatting the output --------------------------------------- >
< -------- Done ! ------------------------------------------------------ >
RUNIT TEST PROTOCOL -- Fri Oct 15 01:44:36 2021
***********************************************
Number of test functions: 2
Number of errors: 0
Number of failures: 0
1 Test Suite :
metaMS RUnit Tests - 2 test functions, 0 errors, 0 failures
Number of test functions: 2
Number of errors: 0
Number of failures: 0
>
> proc.time()
user system elapsed
12.95 1.25 14.23
|
metaMS.Rcheck/tests_x64/runTests.Rout
R version 4.1.1 (2021-08-10) -- "Kick Things"
Copyright (C) 2021 The R Foundation for Statistical Computing
Platform: x86_64-w64-mingw32/x64 (64-bit)
R is free software and comes with ABSOLUTELY NO WARRANTY.
You are welcome to redistribute it under certain conditions.
Type 'license()' or 'licence()' for distribution details.
R is a collaborative project with many contributors.
Type 'contributors()' for more information and
'citation()' on how to cite R or R packages in publications.
Type 'demo()' for some demos, 'help()' for on-line help, or
'help.start()' for an HTML browser interface to help.
Type 'q()' to quit R.
> BiocGenerics:::testPackage("metaMS")
Attaching package: 'BiocGenerics'
The following objects are masked from 'package:parallel':
clusterApply, clusterApplyLB, clusterCall, clusterEvalQ,
clusterExport, clusterMap, parApply, parCapply, parLapply,
parLapplyLB, parRapply, parSapply, parSapplyLB
The following objects are masked from 'package:stats':
IQR, mad, sd, var, xtabs
The following objects are masked from 'package:base':
Filter, Find, Map, Position, Reduce, anyDuplicated, append,
as.data.frame, basename, cbind, colnames, dirname, do.call,
duplicated, eval, evalq, get, grep, grepl, intersect, is.unsorted,
lapply, mapply, match, mget, order, paste, pmax, pmax.int, pmin,
pmin.int, rank, rbind, rownames, sapply, setdiff, sort, table,
tapply, union, unique, unsplit, which.max, which.min
Welcome to Bioconductor
Vignettes contain introductory material; view with
'browseVignettes()'. To cite Bioconductor, see
'citation("Biobase")', and for packages 'citation("pkgname")'.
Attaching package: 'S4Vectors'
The following objects are masked from 'package:base':
I, expand.grid, unname
Attaching package: 'ProtGenerics'
The following object is masked from 'package:stats':
smooth
This is MSnbase version 2.18.0
Visit https://lgatto.github.io/MSnbase/ to get started.
Attaching package: 'MSnbase'
The following object is masked from 'package:base':
trimws
This is xcms version 3.14.1
Attaching package: 'xcms'
The following object is masked from 'package:stats':
sigma
< -------- Experiment of 4 samples ------------------------------------- >
< -------- Instrument: TSQXLS.QQQ.GC ----------------------------------- >
< -------- Annotation using database of 3 spectra ---------------------- >
< -------- Using xcmsSet object - only doing annotation ---------------- >
< -------- Removing artefacts (Bleeding, Plasticizers) ----------------- >
< -------- Matching with database of standards ------------------------- >
< -------- Matching unknowns across samples ---------------------------- >
< -------- Formatting results ------------------------------------------ >
< -------- Done! ------------------------------------------------------- >
< -------- Experiment of 4 samples ------------------------------------- >
< -------- Instrument: Synapt.QTOF.RP - polarity: positive ------------ >
< -------- Database of 4 compounds ------------------------------------- >
< -------- Using xcmsSet object - only doing annotation ---------------- >
< -------- Performing annotation --------------------------------------- >
Fixed mass tolerance 0.005
Feature-wise Annotation ...
< -------- Formatting the output --------------------------------------- >
< -------- Done ! ------------------------------------------------------ >
RUNIT TEST PROTOCOL -- Fri Oct 15 01:44:51 2021
***********************************************
Number of test functions: 2
Number of errors: 0
Number of failures: 0
1 Test Suite :
metaMS RUnit Tests - 2 test functions, 0 errors, 0 failures
Number of test functions: 2
Number of errors: 0
Number of failures: 0
>
> proc.time()
user system elapsed
14.53 0.59 15.12
|
|
metaMS.Rcheck/examples_i386/metaMS-Ex.timings
|
metaMS.Rcheck/examples_x64/metaMS-Ex.timings
|