| Back to Multiple platform build/check report for BioC 3.13 |
|
This page was generated on 2021-10-15 15:05:44 -0400 (Fri, 15 Oct 2021).
|
To the developers/maintainers of the memes package: - Please allow up to 24 hours (and sometimes 48 hours) for your latest push to git@git.bioconductor.org:packages/memes.git to reflect on this report. See How and When does the builder pull? When will my changes propagate? here for more information. - Make sure to use the following settings in order to reproduce any error or warning you see on this page. |
| Package 1069/2041 | Hostname | OS / Arch | INSTALL | BUILD | CHECK | BUILD BIN | ||||||||
| memes 1.0.4 (landing page) Spencer Nystrom
| nebbiolo1 | Linux (Ubuntu 20.04.2 LTS) / x86_64 | OK | OK | OK | |||||||||
| tokay2 | Windows Server 2012 R2 Standard / x64 | OK | OK | OK | OK | |||||||||
| machv2 | macOS 10.14.6 Mojave / x86_64 | OK | OK | OK | OK | |||||||||
| Package: memes |
| Version: 1.0.4 |
| Command: /home/biocbuild/bbs-3.13-bioc/R/bin/R CMD check --install=check:memes.install-out.txt --library=/home/biocbuild/bbs-3.13-bioc/R/library --no-vignettes --timings memes_1.0.4.tar.gz |
| StartedAt: 2021-10-14 10:29:09 -0400 (Thu, 14 Oct 2021) |
| EndedAt: 2021-10-14 10:30:58 -0400 (Thu, 14 Oct 2021) |
| EllapsedTime: 108.8 seconds |
| RetCode: 0 |
| Status: OK |
| CheckDir: memes.Rcheck |
| Warnings: 0 |
##############################################################################
##############################################################################
###
### Running command:
###
### /home/biocbuild/bbs-3.13-bioc/R/bin/R CMD check --install=check:memes.install-out.txt --library=/home/biocbuild/bbs-3.13-bioc/R/library --no-vignettes --timings memes_1.0.4.tar.gz
###
##############################################################################
##############################################################################
* using log directory ‘/home/biocbuild/bbs-3.13-bioc/meat/memes.Rcheck’
* using R version 4.1.1 (2021-08-10)
* using platform: x86_64-pc-linux-gnu (64-bit)
* using session charset: UTF-8
* using option ‘--no-vignettes’
* checking for file ‘memes/DESCRIPTION’ ... OK
* checking extension type ... Package
* this is package ‘memes’ version ‘1.0.4’
* package encoding: UTF-8
* checking package namespace information ... OK
* checking package dependencies ... OK
* checking if this is a source package ... OK
* checking if there is a namespace ... OK
* checking for hidden files and directories ... OK
* checking for portable file names ... OK
* checking for sufficient/correct file permissions ... OK
* checking whether package ‘memes’ can be installed ... OK
* checking installed package size ... OK
* checking package directory ... OK
* checking ‘build’ directory ... OK
* checking DESCRIPTION meta-information ... OK
* checking top-level files ... OK
* checking for left-over files ... OK
* checking index information ... OK
* checking package subdirectories ... OK
* checking R files for non-ASCII characters ... OK
* checking R files for syntax errors ... OK
* checking whether the package can be loaded ... OK
* checking whether the package can be loaded with stated dependencies ... OK
* checking whether the package can be unloaded cleanly ... OK
* checking whether the namespace can be loaded with stated dependencies ... OK
* checking whether the namespace can be unloaded cleanly ... OK
* checking dependencies in R code ... OK
* checking S3 generic/method consistency ... OK
* checking replacement functions ... OK
* checking foreign function calls ... OK
* checking R code for possible problems ... OK
* checking Rd files ... OK
* checking Rd metadata ... OK
* checking Rd cross-references ... OK
* checking for missing documentation entries ... OK
* checking for code/documentation mismatches ... OK
* checking Rd \usage sections ... OK
* checking Rd contents ... OK
* checking for unstated dependencies in examples ... OK
* checking contents of ‘data’ directory ... OK
* checking data for non-ASCII characters ... OK
* checking LazyData ... OK
* checking data for ASCII and uncompressed saves ... OK
* checking files in ‘vignettes’ ... OK
* checking examples ... OK
Examples with CPU (user + system) or elapsed time > 5s
user system elapsed
add_sequence 6.039 0.256 6.296
* checking for unstated dependencies in vignettes ... OK
* checking package vignettes in ‘inst/doc’ ... OK
* checking running R code from vignettes ... SKIPPED
* checking re-building of vignette outputs ... SKIPPED
* checking PDF version of manual ... OK
* DONE
Status: OK
memes.Rcheck/00install.out
############################################################################## ############################################################################## ### ### Running command: ### ### /home/biocbuild/bbs-3.13-bioc/R/bin/R CMD INSTALL memes ### ############################################################################## ############################################################################## * installing to library ‘/home/biocbuild/bbs-3.13-bioc/R/library’ * installing *source* package ‘memes’ ... ** using staged installation ** R ** data *** moving datasets to lazyload DB ** inst ** byte-compile and prepare package for lazy loading ** help *** installing help indices *** copying figures ** building package indices ** installing vignettes ** testing if installed package can be loaded from temporary location ** testing if installed package can be loaded from final location ** testing if installed package keeps a record of temporary installation path * DONE (memes)
memes.Rcheck/memes-Ex.timings
| name | user | system | elapsed | |
| add_sequence | 6.039 | 0.256 | 6.296 | |
| ame_compare_heatmap_methods | 0.473 | 0.008 | 0.480 | |
| check_meme_install | 1.159 | 0.103 | 1.263 | |
| drop_best_match | 0.002 | 0.003 | 0.007 | |
| example_ame | 0.084 | 0.000 | 0.084 | |
| example_ame_large | 0.029 | 0.001 | 0.029 | |
| force_best_match | 0.008 | 0.000 | 0.009 | |
| get_sequence | 0.352 | 0.016 | 0.382 | |
| has_duplicate_motifs | 0.155 | 0.000 | 0.156 | |
| importAme | 0.167 | 0.021 | 0.199 | |
| importDremeXML | 0.227 | 0.016 | 0.243 | |
| importFimo | 0.050 | 0.008 | 0.055 | |
| importMeme | 0.077 | 0.004 | 0.081 | |
| importStremeXML | 0.137 | 0.004 | 0.141 | |
| importTomTomXML | 0.260 | 0.008 | 0.268 | |
| meme_is_installed | 0.009 | 0.000 | 0.009 | |
| nest_tomtom | 0.009 | 0.000 | 0.009 | |
| plot_ame_heatmap | 0.293 | 0.004 | 0.296 | |
| plot_sequence_heatmap | 2.285 | 0.092 | 2.378 | |
| remove_duplicate_motifs | 0.004 | 0.000 | 0.004 | |
| runAme | 0.01 | 0.00 | 0.01 | |
| runDreme | 0.009 | 0.000 | 0.009 | |
| runFimo | 0.009 | 0.000 | 0.009 | |
| runMeme | 0.008 | 0.000 | 0.009 | |
| runTomTom | 0.009 | 0.000 | 0.009 | |
| update_best_match | 0.066 | 0.000 | 0.066 | |
| view_tomtom_hits | 0.863 | 0.056 | 0.918 | |
| write_fasta | 0.006 | 0.000 | 0.006 | |