| Back to Multiple platform build/check report for BioC 3.13 |
|
This page was generated on 2021-10-15 15:06:10 -0400 (Fri, 15 Oct 2021).
|
To the developers/maintainers of the marray package: - Please allow up to 24 hours (and sometimes 48 hours) for your latest push to git@git.bioconductor.org:packages/marray.git to reflect on this report. See How and When does the builder pull? When will my changes propagate? here for more information. - Make sure to use the following settings in order to reproduce any error or warning you see on this page. |
| Package 1033/2041 | Hostname | OS / Arch | INSTALL | BUILD | CHECK | BUILD BIN | ||||||||
| marray 1.70.0 (landing page) Yee Hwa (Jean) Yang
| nebbiolo1 | Linux (Ubuntu 20.04.2 LTS) / x86_64 | OK | OK | OK | |||||||||
| tokay2 | Windows Server 2012 R2 Standard / x64 | OK | OK | OK | OK | |||||||||
| machv2 | macOS 10.14.6 Mojave / x86_64 | OK | OK | OK | OK | |||||||||
| Package: marray |
| Version: 1.70.0 |
| Command: rm -rf marray.buildbin-libdir && mkdir marray.buildbin-libdir && C:\Users\biocbuild\bbs-3.13-bioc\R\bin\R.exe CMD INSTALL --merge-multiarch --build --library=marray.buildbin-libdir marray_1.70.0.tar.gz |
| StartedAt: 2021-10-15 10:11:07 -0400 (Fri, 15 Oct 2021) |
| EndedAt: 2021-10-15 10:12:39 -0400 (Fri, 15 Oct 2021) |
| EllapsedTime: 92.6 seconds |
| RetCode: 0 |
| Status: OK |
| PackageFile: marray_1.70.0.zip |
| PackageFileSize: 5.616 MiB |
##############################################################################
##############################################################################
###
### Running command:
###
### rm -rf marray.buildbin-libdir && mkdir marray.buildbin-libdir && C:\Users\biocbuild\bbs-3.13-bioc\R\bin\R.exe CMD INSTALL --merge-multiarch --build --library=marray.buildbin-libdir marray_1.70.0.tar.gz
###
##############################################################################
##############################################################################
install for i386
* installing *source* package 'marray' ...
** using staged installation
** R
** data
** inst
** byte-compile and prepare package for lazy loading
** help
*** installing help indices
converting help for package 'marray'
finding HTML links ... done
boxplot html
bracketMethods html
cbind html
checkTargetInfo html
coerce-methods html
dim html
findID html
htmlPage html
image html
ma2D html
maBoxplot html
maColorBar html
maCompCoord html
maCompInd html
maCompLayout html
maCompNormA html
maCompPlate html
maCoord2Ind html
maDefaultPar html
maDotsDefaults html
maDotsMatch html
maGenControls html
maGeneTable html
maImage html
maImage.func html
maInd2Coord html
maLegendLines html
maLoess html
maLoessLines html
maMAD html
maMed html
maNA html
maNorm html
maNorm2D html
maNormLoess html
maNormMAD html
maNormMain html
maNormMed html
maNormScale html
maNum2Logic html
maPalette html
maPlot html
maPlot.func html
maSelectGnames html
maText html
maTop html
maTwoSamples html
mapGeneInfo html
marray-internal html
marrayInfo-class html
marrayLayout-class html
marrayNorm-class html
marrayRaw-class html
opVersionID html
plotMA html
print-methods html
read.Galfile html
read.marrayInfo html
read.marrayLayout html
read.marrayRaw html
rm.na html
showLargeObject html
stat.confband.text html
stat.gnames html
swirl html
write.list html
write.marray html
write.xls html
** building package indices
** installing vignettes
** testing if installed package can be loaded from temporary location
** testing if installed package can be loaded from final location
** testing if installed package keeps a record of temporary installation path
install for x64
* installing *source* package 'marray' ...
** testing if installed package can be loaded
* MD5 sums
packaged installation of 'marray' as marray_1.70.0.zip
* DONE (marray)