| Back to Multiple platform build/check report for BioC 3.13 |
|
This page was generated on 2021-10-15 15:06:10 -0400 (Fri, 15 Oct 2021).
|
To the developers/maintainers of the marr package: - Please allow up to 24 hours (and sometimes 48 hours) for your latest push to git@git.bioconductor.org:packages/marr.git to reflect on this report. See How and When does the builder pull? When will my changes propagate? here for more information. - Make sure to use the following settings in order to reproduce any error or warning you see on this page. |
| Package 1032/2041 | Hostname | OS / Arch | INSTALL | BUILD | CHECK | BUILD BIN | ||||||||
| marr 1.2.0 (landing page) Tusharkanti Ghosh
| nebbiolo1 | Linux (Ubuntu 20.04.2 LTS) / x86_64 | OK | OK | OK | |||||||||
| tokay2 | Windows Server 2012 R2 Standard / x64 | OK | OK | OK | OK | |||||||||
| machv2 | macOS 10.14.6 Mojave / x86_64 | OK | OK | OK | OK | |||||||||
| Package: marr |
| Version: 1.2.0 |
| Command: rm -rf marr.buildbin-libdir && mkdir marr.buildbin-libdir && C:\Users\biocbuild\bbs-3.13-bioc\R\bin\R.exe CMD INSTALL --merge-multiarch --build --library=marr.buildbin-libdir marr_1.2.0.tar.gz |
| StartedAt: 2021-10-15 10:10:59 -0400 (Fri, 15 Oct 2021) |
| EndedAt: 2021-10-15 10:12:31 -0400 (Fri, 15 Oct 2021) |
| EllapsedTime: 92.6 seconds |
| RetCode: 0 |
| Status: OK |
| PackageFile: marr_1.2.0.zip |
| PackageFileSize: 1.436 MiB |
##############################################################################
##############################################################################
###
### Running command:
###
### rm -rf marr.buildbin-libdir && mkdir marr.buildbin-libdir && C:\Users\biocbuild\bbs-3.13-bioc\R\bin\R.exe CMD INSTALL --merge-multiarch --build --library=marr.buildbin-libdir marr_1.2.0.tar.gz
###
##############################################################################
##############################################################################
install for i386
* installing *source* package 'marr' ...
** using staged installation
** libs
"C:/rtools40/mingw32/bin/"g++ -std=gnu++11 -I"C:/Users/BIOCBU~1/BBS-3~1.13-/R/include" -DNDEBUG -I'C:/Users/biocbuild/bbs-3.13-bioc/R/library/Rcpp/include' -I"c:/extsoft/include" -O2 -Wall -mfpmath=sse -msse2 -mstackrealign -c RcppExports.cpp -o RcppExports.o
"C:/rtools40/mingw32/bin/"g++ -std=gnu++11 -I"C:/Users/BIOCBU~1/BBS-3~1.13-/R/include" -DNDEBUG -I'C:/Users/biocbuild/bbs-3.13-bioc/R/library/Rcpp/include' -I"c:/extsoft/include" -O2 -Wall -mfpmath=sse -msse2 -mstackrealign -c marrUtility.cpp -o marrUtility.o
marrUtility.cpp: In function 'Rcpp::NumericVector getSS(Rcpp::NumericVector)':
marrUtility.cpp:75:7: warning: variable 'i' set but not used [-Wunused-but-set-variable]
int i=0;
^
C:/rtools40/mingw32/bin/g++ -std=gnu++11 -shared -s -static-libgcc -o marr.dll tmp.def RcppExports.o marrUtility.o -Lc:/extsoft/lib/i386 -Lc:/extsoft/lib -LC:/Users/BIOCBU~1/BBS-3~1.13-/R/bin/i386 -lR
installing to C:/Users/biocbuild/bbs-3.13-bioc/meat/marr.buildbin-libdir/00LOCK-marr/00new/marr/libs/i386
** R
** data
** inst
** byte-compile and prepare package for lazy loading
** help
*** installing help indices
converting help for package 'marr'
finding HTML links ... done
Marr-class html
Marr html
MarrAlpha html
MarrData html
MarrFeatureVars html
MarrFeatures html
MarrFeaturesfiltered html
MarrFilterData html
MarrPFeatures html
MarrPSamplepairs html
MarrPlotFeatures html
MarrPlotSamplepairs html
MarrProc html
MarrSamplepairs html
MarrSamplepairsfiltered html
data.frameORSummarizedExperiment-class
html
msprepCOPD html
vectorORNull-class html
** building package indices
** installing vignettes
** testing if installed package can be loaded from temporary location
** testing if installed package can be loaded from final location
** testing if installed package keeps a record of temporary installation path
install for x64
* installing *source* package 'marr' ...
** libs
"C:/rtools40/mingw64/bin/"g++ -std=gnu++11 -I"C:/Users/BIOCBU~1/BBS-3~1.13-/R/include" -DNDEBUG -I'C:/Users/biocbuild/bbs-3.13-bioc/R/library/Rcpp/include' -I"C:/extsoft/include" -O2 -Wall -mfpmath=sse -msse2 -mstackrealign -c RcppExports.cpp -o RcppExports.o
"C:/rtools40/mingw64/bin/"g++ -std=gnu++11 -I"C:/Users/BIOCBU~1/BBS-3~1.13-/R/include" -DNDEBUG -I'C:/Users/biocbuild/bbs-3.13-bioc/R/library/Rcpp/include' -I"C:/extsoft/include" -O2 -Wall -mfpmath=sse -msse2 -mstackrealign -c marrUtility.cpp -o marrUtility.o
marrUtility.cpp: In function 'Rcpp::NumericVector getSS(Rcpp::NumericVector)':
marrUtility.cpp:75:7: warning: variable 'i' set but not used [-Wunused-but-set-variable]
int i=0;
^
C:/rtools40/mingw64/bin/g++ -std=gnu++11 -shared -s -static-libgcc -o marr.dll tmp.def RcppExports.o marrUtility.o -LC:/extsoft/lib/x64 -LC:/extsoft/lib -LC:/Users/BIOCBU~1/BBS-3~1.13-/R/bin/x64 -lR
installing to C:/Users/biocbuild/bbs-3.13-bioc/meat/marr.buildbin-libdir/marr/libs/x64
** testing if installed package can be loaded
* MD5 sums
packaged installation of 'marr' as marr_1.2.0.zip
* DONE (marr)