| Back to Multiple platform build/check report for BioC 3.13 |
|
This page was generated on 2021-10-15 15:05:44 -0400 (Fri, 15 Oct 2021).
|
To the developers/maintainers of the makecdfenv package: - Please allow up to 24 hours (and sometimes 48 hours) for your latest push to git@git.bioconductor.org:packages/makecdfenv.git to reflect on this report. See How and When does the builder pull? When will my changes propagate? here for more information. - Make sure to use the following settings in order to reproduce any error or warning you see on this page. |
| Package 1026/2041 | Hostname | OS / Arch | INSTALL | BUILD | CHECK | BUILD BIN | ||||||||
| makecdfenv 1.68.0 (landing page) James W. MacDonald
| nebbiolo1 | Linux (Ubuntu 20.04.2 LTS) / x86_64 | OK | OK | WARNINGS | |||||||||
| tokay2 | Windows Server 2012 R2 Standard / x64 | OK | OK | OK | OK | |||||||||
| machv2 | macOS 10.14.6 Mojave / x86_64 | OK | OK | OK | OK | |||||||||
| Package: makecdfenv |
| Version: 1.68.0 |
| Command: /home/biocbuild/bbs-3.13-bioc/R/bin/R CMD INSTALL makecdfenv |
| StartedAt: 2021-10-14 06:05:30 -0400 (Thu, 14 Oct 2021) |
| EndedAt: 2021-10-14 06:05:39 -0400 (Thu, 14 Oct 2021) |
| EllapsedTime: 9.1 seconds |
| RetCode: 0 |
| Status: OK |
##############################################################################
##############################################################################
###
### Running command:
###
### /home/biocbuild/bbs-3.13-bioc/R/bin/R CMD INSTALL makecdfenv
###
##############################################################################
##############################################################################
* installing to library ‘/home/biocbuild/bbs-3.13-bioc/R/library’
* installing *source* package ‘makecdfenv’ ...
** using staged installation
creating cache ./config.cache
checking how to run the C preprocessor... cc -E
checking for main in -lz... yes
checking for zlib.h... yes
checking if zlib version >= 1.1.3... yes
updating cache ./config.cache
creating ./config.status
creating src/Makevars
** libs
gcc -I"/home/biocbuild/bbs-3.13-bioc/R/include" -DNDEBUG -DHAVE_ZLIB=1 -I/usr/local/include -fpic -g -O2 -Wall -c read_cdffile.c -o read_cdffile.o
read_cdffile.c: In function ‘readQC’:
read_cdffile.c:576:7: warning: variable ‘typeQC’ set but not used [-Wunused-but-set-variable]
576 | int typeQC;
| ^~~~~~
read_cdffile.c: In function ‘openCDFfile’:
read_cdffile.c:340:7: warning: ignoring return value of ‘fgets’, declared with attribute warn_unused_result [-Wunused-result]
340 | fgets(buffy, SIZE_LINE, affyFile->stream);
| ^~~~~~~~~~~~~~~~~~~~~~~~~~~~~~~~~~~~~~~~~
gcc -shared -L/home/biocbuild/bbs-3.13-bioc/R/lib -L/usr/local/lib -o makecdfenv.so read_cdffile.o -lz -L/home/biocbuild/bbs-3.13-bioc/R/lib -lR
installing to /home/biocbuild/bbs-3.13-bioc/R/library/00LOCK-makecdfenv/00new/makecdfenv/libs
** R
** inst
** byte-compile and prepare package for lazy loading
** help
*** installing help indices
** building package indices
** installing vignettes
** testing if installed package can be loaded from temporary location
** checking absolute paths in shared objects and dynamic libraries
** testing if installed package can be loaded from final location
** testing if installed package keeps a record of temporary installation path
* DONE (makecdfenv)