| Back to Multiple platform build/check report for BioC 3.13 |
|
This page was generated on 2021-10-15 15:06:10 -0400 (Fri, 15 Oct 2021).
|
To the developers/maintainers of the maigesPack package: - Please allow up to 24 hours (and sometimes 48 hours) for your latest push to git@git.bioconductor.org:packages/maigesPack.git to reflect on this report. See How and When does the builder pull? When will my changes propagate? here for more information. - Make sure to use the following settings in order to reproduce any error or warning you see on this page. |
| Package 1024/2041 | Hostname | OS / Arch | INSTALL | BUILD | CHECK | BUILD BIN | ||||||||
| maigesPack 1.56.0 (landing page) Gustavo H. Esteves
| nebbiolo1 | Linux (Ubuntu 20.04.2 LTS) / x86_64 | OK | OK | OK | |||||||||
| tokay2 | Windows Server 2012 R2 Standard / x64 | OK | OK | OK | OK | |||||||||
| machv2 | macOS 10.14.6 Mojave / x86_64 | OK | OK | OK | OK | |||||||||
| Package: maigesPack |
| Version: 1.56.0 |
| Command: C:\cygwin\bin\curl.exe -O http://155.52.207.165/BBS/3.13/bioc/src/contrib/maigesPack_1.56.0.tar.gz && rm -rf maigesPack.buildbin-libdir && mkdir maigesPack.buildbin-libdir && C:\Users\biocbuild\bbs-3.13-bioc\R\bin\R.exe CMD INSTALL --merge-multiarch --build --library=maigesPack.buildbin-libdir maigesPack_1.56.0.tar.gz && C:\Users\biocbuild\bbs-3.13-bioc\R\bin\R.exe CMD INSTALL maigesPack_1.56.0.zip && rm maigesPack_1.56.0.tar.gz maigesPack_1.56.0.zip |
| StartedAt: 2021-10-14 07:52:47 -0400 (Thu, 14 Oct 2021) |
| EndedAt: 2021-10-14 07:53:43 -0400 (Thu, 14 Oct 2021) |
| EllapsedTime: 56.3 seconds |
| RetCode: 0 |
| Status: OK |
##############################################################################
##############################################################################
###
### Running command:
###
### C:\cygwin\bin\curl.exe -O http://155.52.207.165/BBS/3.13/bioc/src/contrib/maigesPack_1.56.0.tar.gz && rm -rf maigesPack.buildbin-libdir && mkdir maigesPack.buildbin-libdir && C:\Users\biocbuild\bbs-3.13-bioc\R\bin\R.exe CMD INSTALL --merge-multiarch --build --library=maigesPack.buildbin-libdir maigesPack_1.56.0.tar.gz && C:\Users\biocbuild\bbs-3.13-bioc\R\bin\R.exe CMD INSTALL maigesPack_1.56.0.zip && rm maigesPack_1.56.0.tar.gz maigesPack_1.56.0.zip
###
##############################################################################
##############################################################################
% Total % Received % Xferd Average Speed Time Time Time Current
Dload Upload Total Spent Left Speed
0 0 0 0 0 0 0 0 --:--:-- --:--:-- --:--:-- 0
0 857k 0 6537 0 0 79898 0 0:00:10 --:--:-- 0:00:10 79719
100 857k 100 857k 0 0 1634k 0 --:--:-- --:--:-- --:--:-- 1633k
install for i386
* installing *source* package 'maigesPack' ...
** using staged installation
** libs
"C:/rtools40/mingw32/bin/"gcc -I"C:/Users/BIOCBU~1/BBS-3~1.13-/R/include" -DNDEBUG -I"c:/extsoft/include" -O2 -Wall -std=gnu99 -mfpmath=sse -msse2 -mstackrealign -c Minfo.c -o Minfo.o
"C:/rtools40/mingw32/bin/"gcc -I"C:/Users/BIOCBU~1/BBS-3~1.13-/R/include" -DNDEBUG -I"c:/extsoft/include" -O2 -Wall -std=gnu99 -mfpmath=sse -msse2 -mstackrealign -c bootstrapT.c -o bootstrapT.o
"C:/rtools40/mingw32/bin/"gcc -I"C:/Users/BIOCBU~1/BBS-3~1.13-/R/include" -DNDEBUG -I"c:/extsoft/include" -O2 -Wall -std=gnu99 -mfpmath=sse -msse2 -mstackrealign -c register.c -o register.o
"C:/rtools40/mingw32/bin/"gcc -I"C:/Users/BIOCBU~1/BBS-3~1.13-/R/include" -DNDEBUG -I"c:/extsoft/include" -O2 -Wall -std=gnu99 -mfpmath=sse -msse2 -mstackrealign -c robustCorr.c -o robustCorr.o
"C:/rtools40/mingw32/bin/"gcc -I"C:/Users/BIOCBU~1/BBS-3~1.13-/R/include" -DNDEBUG -I"c:/extsoft/include" -O2 -Wall -std=gnu99 -mfpmath=sse -msse2 -mstackrealign -c stats.c -o stats.o
C:/rtools40/mingw32/bin/gcc -shared -s -static-libgcc -o maigesPack.dll tmp.def Minfo.o bootstrapT.o register.o robustCorr.o stats.o -Lc:/extsoft/lib/i386 -Lc:/extsoft/lib -LC:/Users/BIOCBU~1/BBS-3~1.13-/R/bin/i386 -lR
installing to C:/Users/biocbuild/bbs-3.13-bioc/meat/maigesPack.buildbin-libdir/00LOCK-maigesPack/00new/maigesPack/libs/i386
** R
** data
** byte-compile and prepare package for lazy loading
** help
*** installing help indices
converting help for package 'maigesPack'
finding HTML links ... done
MI html
activeMod html
activeModScoreHTML html
activeNet html
activeNetScoreHTML html
addGeneGrps html
addPaths html
bootstrapCor html
bootstrapMI html
bootstrapT html
boxplot-methods html
bracketMethods html
calcA html
calcW html
classifyKNN html
classifyKNNsc html
classifyLDA html
classifyLDAsc html
classifySVM html
classifySVMsc html
coerce-methods html
compCorr html
contrastsFitM html
createMaigesRaw html
createTDMS html
deGenes2by2BootT html
deGenes2by2Ttest html
deGenes2by2Wilcox html
deGenesANOVA html
designANOVA html
dim-methods html
gastro html
getLabels html
heatmapsM html
hierM html
hierMde html
image-methods html
kmeansM html
kmeansMde html
loadData html
maiges-class html
maigesANOVA-class html
maigesActMod-class html
maigesActNet-class html
maigesClass-class html
maigesDE-class html
maigesDEcluster-class html
maigesPreRaw-class html
maigesRaw-class html
maigesRelNetB-class html
maigesRelNetM-class html
normLoc html
normOLIN html
normRepLoess html
normScaleLimma html
normScaleMarray html
plot-methods html
plotGenePair html
print-methods html
relNet2TGF html
relNetworkB html
relNetworkM html
robustCorr html
selSpots html
show-methods html
somM html
somMde html
summarizeReplicates html
summary-methods html
tableClass html
tablesDE html
** building package indices
** installing vignettes
** testing if installed package can be loaded from temporary location
** testing if installed package can be loaded from final location
** testing if installed package keeps a record of temporary installation path
install for x64
* installing *source* package 'maigesPack' ...
** libs
"C:/rtools40/mingw64/bin/"gcc -I"C:/Users/BIOCBU~1/BBS-3~1.13-/R/include" -DNDEBUG -I"C:/extsoft/include" -O2 -Wall -std=gnu99 -mfpmath=sse -msse2 -mstackrealign -c Minfo.c -o Minfo.o
"C:/rtools40/mingw64/bin/"gcc -I"C:/Users/BIOCBU~1/BBS-3~1.13-/R/include" -DNDEBUG -I"C:/extsoft/include" -O2 -Wall -std=gnu99 -mfpmath=sse -msse2 -mstackrealign -c bootstrapT.c -o bootstrapT.o
"C:/rtools40/mingw64/bin/"gcc -I"C:/Users/BIOCBU~1/BBS-3~1.13-/R/include" -DNDEBUG -I"C:/extsoft/include" -O2 -Wall -std=gnu99 -mfpmath=sse -msse2 -mstackrealign -c register.c -o register.o
"C:/rtools40/mingw64/bin/"gcc -I"C:/Users/BIOCBU~1/BBS-3~1.13-/R/include" -DNDEBUG -I"C:/extsoft/include" -O2 -Wall -std=gnu99 -mfpmath=sse -msse2 -mstackrealign -c robustCorr.c -o robustCorr.o
"C:/rtools40/mingw64/bin/"gcc -I"C:/Users/BIOCBU~1/BBS-3~1.13-/R/include" -DNDEBUG -I"C:/extsoft/include" -O2 -Wall -std=gnu99 -mfpmath=sse -msse2 -mstackrealign -c stats.c -o stats.o
C:/rtools40/mingw64/bin/gcc -shared -s -static-libgcc -o maigesPack.dll tmp.def Minfo.o bootstrapT.o register.o robustCorr.o stats.o -LC:/extsoft/lib/x64 -LC:/extsoft/lib -LC:/Users/BIOCBU~1/BBS-3~1.13-/R/bin/x64 -lR
installing to C:/Users/biocbuild/bbs-3.13-bioc/meat/maigesPack.buildbin-libdir/maigesPack/libs/x64
** testing if installed package can be loaded
* MD5 sums
packaged installation of 'maigesPack' as maigesPack_1.56.0.zip
* DONE (maigesPack)
* installing to library 'C:/Users/biocbuild/bbs-3.13-bioc/R/library'
package 'maigesPack' successfully unpacked and MD5 sums checked