| Back to Multiple platform build/check report for BioC 3.13 |
|
This page was generated on 2021-10-15 15:06:10 -0400 (Fri, 15 Oct 2021).
|
To the developers/maintainers of the made4 package: - Please allow up to 24 hours (and sometimes 48 hours) for your latest push to git@git.bioconductor.org:packages/made4.git to reflect on this report. See How and When does the builder pull? When will my changes propagate? here for more information. - Make sure to use the following settings in order to reproduce any error or warning you see on this page. |
| Package 1019/2041 | Hostname | OS / Arch | INSTALL | BUILD | CHECK | BUILD BIN | ||||||||
| made4 1.66.0 (landing page) Aedin Culhane
| nebbiolo1 | Linux (Ubuntu 20.04.2 LTS) / x86_64 | OK | OK | OK | |||||||||
| tokay2 | Windows Server 2012 R2 Standard / x64 | OK | OK | OK | OK | |||||||||
| machv2 | macOS 10.14.6 Mojave / x86_64 | OK | OK | OK | OK | |||||||||
| Package: made4 |
| Version: 1.66.0 |
| Command: C:\cygwin\bin\curl.exe -O http://155.52.207.165/BBS/3.13/bioc/src/contrib/made4_1.66.0.tar.gz && rm -rf made4.buildbin-libdir && mkdir made4.buildbin-libdir && C:\Users\biocbuild\bbs-3.13-bioc\R\bin\R.exe CMD INSTALL --merge-multiarch --build --library=made4.buildbin-libdir made4_1.66.0.tar.gz && C:\Users\biocbuild\bbs-3.13-bioc\R\bin\R.exe CMD INSTALL made4_1.66.0.zip && rm made4_1.66.0.tar.gz made4_1.66.0.zip |
| StartedAt: 2021-10-14 08:48:51 -0400 (Thu, 14 Oct 2021) |
| EndedAt: 2021-10-14 08:49:36 -0400 (Thu, 14 Oct 2021) |
| EllapsedTime: 44.9 seconds |
| RetCode: 0 |
| Status: OK |
##############################################################################
##############################################################################
###
### Running command:
###
### C:\cygwin\bin\curl.exe -O http://155.52.207.165/BBS/3.13/bioc/src/contrib/made4_1.66.0.tar.gz && rm -rf made4.buildbin-libdir && mkdir made4.buildbin-libdir && C:\Users\biocbuild\bbs-3.13-bioc\R\bin\R.exe CMD INSTALL --merge-multiarch --build --library=made4.buildbin-libdir made4_1.66.0.tar.gz && C:\Users\biocbuild\bbs-3.13-bioc\R\bin\R.exe CMD INSTALL made4_1.66.0.zip && rm made4_1.66.0.tar.gz made4_1.66.0.zip
###
##############################################################################
##############################################################################
% Total % Received % Xferd Average Speed Time Time Time Current
Dload Upload Total Spent Left Speed
0 0 0 0 0 0 0 0 --:--:-- --:--:-- --:--:-- 0
100 698k 100 698k 0 0 1438k 0 --:--:-- --:--:-- --:--:-- 1440k
install for i386
* installing *source* package 'made4' ...
** using staged installation
** R
** data
*** moving datasets to lazyload DB
** inst
** byte-compile and prepare package for lazy loading
** help
*** installing help indices
converting help for package 'made4'
finding HTML links ... done
NCI60 html
asDataFrame html
bet.coinertia html
between.graph html
bga html
bga.jackknife html
bga.suppl html
checkfac html
chime3D html
cia html
commonMap html
comparelists html
do3d html
dudi.rwcoa html
forrwcoa html
genes html
genes1d html
getcol html
graph1D html
heatplot html
html3D html
isDataFrame html
jmol3D html
khan html
ord html
overview html
plotarrays html
plotgenes html
prettyDend html
randomiser html
s.var html
sumstats html
suppl html
topgenes html
** building package indices
** installing vignettes
** testing if installed package can be loaded from temporary location
** testing if installed package can be loaded from final location
** testing if installed package keeps a record of temporary installation path
install for x64
* installing *source* package 'made4' ...
** testing if installed package can be loaded
* MD5 sums
packaged installation of 'made4' as made4_1.66.0.zip
* DONE (made4)
* installing to library 'C:/Users/biocbuild/bbs-3.13-bioc/R/library'
package 'made4' successfully unpacked and MD5 sums checked