| Back to Multiple platform build/check report for BioC 3.13 |
|
This page was generated on 2021-10-15 15:06:10 -0400 (Fri, 15 Oct 2021).
|
To the developers/maintainers of the maSigPro package: - Please allow up to 24 hours (and sometimes 48 hours) for your latest push to git@git.bioconductor.org:packages/maSigPro.git to reflect on this report. See How and When does the builder pull? When will my changes propagate? here for more information. - Make sure to use the following settings in order to reproduce any error or warning you see on this page. |
| Package 1036/2041 | Hostname | OS / Arch | INSTALL | BUILD | CHECK | BUILD BIN | ||||||||
| maSigPro 1.64.0 (landing page) Maria Jose Nueda
| nebbiolo1 | Linux (Ubuntu 20.04.2 LTS) / x86_64 | OK | OK | OK | |||||||||
| tokay2 | Windows Server 2012 R2 Standard / x64 | OK | OK | OK | OK | |||||||||
| machv2 | macOS 10.14.6 Mojave / x86_64 | OK | OK | OK | OK | |||||||||
| Package: maSigPro |
| Version: 1.64.0 |
| Command: C:\Users\biocbuild\bbs-3.13-bioc\R\bin\R.exe CMD check --force-multiarch --install=check:maSigPro.install-out.txt --library=C:\Users\biocbuild\bbs-3.13-bioc\R\library --no-vignettes --timings maSigPro_1.64.0.tar.gz |
| StartedAt: 2021-10-15 01:22:04 -0400 (Fri, 15 Oct 2021) |
| EndedAt: 2021-10-15 01:26:52 -0400 (Fri, 15 Oct 2021) |
| EllapsedTime: 287.8 seconds |
| RetCode: 0 |
| Status: OK |
| CheckDir: maSigPro.Rcheck |
| Warnings: 0 |
##############################################################################
##############################################################################
###
### Running command:
###
### C:\Users\biocbuild\bbs-3.13-bioc\R\bin\R.exe CMD check --force-multiarch --install=check:maSigPro.install-out.txt --library=C:\Users\biocbuild\bbs-3.13-bioc\R\library --no-vignettes --timings maSigPro_1.64.0.tar.gz
###
##############################################################################
##############################################################################
* using log directory 'C:/Users/biocbuild/bbs-3.13-bioc/meat/maSigPro.Rcheck'
* using R version 4.1.1 (2021-08-10)
* using platform: x86_64-w64-mingw32 (64-bit)
* using session charset: ISO8859-1
* using option '--no-vignettes'
* checking for file 'maSigPro/DESCRIPTION' ... OK
* checking extension type ... Package
* this is package 'maSigPro' version '1.64.0'
* checking package namespace information ... OK
* checking package dependencies ... OK
* checking if this is a source package ... OK
* checking if there is a namespace ... OK
* checking for hidden files and directories ... OK
* checking for portable file names ... OK
* checking whether package 'maSigPro' can be installed ... OK
* checking installed package size ... OK
* checking package directory ... OK
* checking 'build' directory ... OK
* checking DESCRIPTION meta-information ... OK
* checking top-level files ... OK
* checking for left-over files ... OK
* checking index information ... OK
* checking package subdirectories ... OK
* checking R files for non-ASCII characters ... OK
* checking R files for syntax errors ... OK
* loading checks for arch 'i386'
** checking whether the package can be loaded ... OK
** checking whether the package can be loaded with stated dependencies ... OK
** checking whether the package can be unloaded cleanly ... OK
** checking whether the namespace can be loaded with stated dependencies ... OK
** checking whether the namespace can be unloaded cleanly ... OK
* loading checks for arch 'x64'
** checking whether the package can be loaded ... OK
** checking whether the package can be loaded with stated dependencies ... OK
** checking whether the package can be unloaded cleanly ... OK
** checking whether the namespace can be loaded with stated dependencies ... OK
** checking whether the namespace can be unloaded cleanly ... OK
* checking dependencies in R code ... OK
* checking S3 generic/method consistency ... OK
* checking replacement functions ... OK
* checking foreign function calls ... OK
* checking R code for possible problems ... OK
* checking Rd files ... OK
* checking Rd metadata ... OK
* checking Rd cross-references ... OK
* checking for missing documentation entries ... OK
* checking for code/documentation mismatches ... OK
* checking Rd \usage sections ... OK
* checking Rd contents ... OK
* checking for unstated dependencies in examples ... OK
* checking contents of 'data' directory ... OK
* checking data for non-ASCII characters ... OK
* checking data for ASCII and uncompressed saves ... OK
* checking installed files from 'inst/doc' ... OK
* checking files in 'vignettes' ... OK
* checking examples ...
** running examples for arch 'i386' ... OK
Examples with CPU (user + system) or elapsed time > 5s
user system elapsed
getDSPatterns 11.24 0.00 11.24
seeDS 11.23 0.00 11.24
ISOdata 11.14 0.00 11.14
ISOdesign 10.98 0.00 10.98
tableDS 10.91 0.00 10.90
IsoPlot 10.86 0.02 10.88
PodiumChange 10.82 0.00 10.82
IsoModel 10.61 0.03 10.64
getDS 10.62 0.00 10.62
** running examples for arch 'x64' ... OK
Examples with CPU (user + system) or elapsed time > 5s
user system elapsed
tableDS 13.20 0.00 13.20
seeDS 12.75 0.00 12.75
getDS 12.64 0.00 12.64
ISOdesign 12.61 0.00 12.62
IsoModel 12.00 0.00 12.00
getDSPatterns 11.91 0.00 11.91
ISOdata 11.86 0.04 11.89
IsoPlot 11.71 0.01 11.72
PodiumChange 11.08 0.00 11.08
T.fit 5.65 0.00 5.66
* checking for unstated dependencies in vignettes ... OK
* checking package vignettes in 'inst/doc' ... OK
* checking running R code from vignettes ... SKIPPED
* checking re-building of vignette outputs ... SKIPPED
* checking PDF version of manual ... OK
* DONE
Status: OK
maSigPro.Rcheck/00install.out
##############################################################################
##############################################################################
###
### Running command:
###
### C:\cygwin\bin\curl.exe -O http://155.52.207.165/BBS/3.13/bioc/src/contrib/maSigPro_1.64.0.tar.gz && rm -rf maSigPro.buildbin-libdir && mkdir maSigPro.buildbin-libdir && C:\Users\biocbuild\bbs-3.13-bioc\R\bin\R.exe CMD INSTALL --merge-multiarch --build --library=maSigPro.buildbin-libdir maSigPro_1.64.0.tar.gz && C:\Users\biocbuild\bbs-3.13-bioc\R\bin\R.exe CMD INSTALL maSigPro_1.64.0.zip && rm maSigPro_1.64.0.tar.gz maSigPro_1.64.0.zip
###
##############################################################################
##############################################################################
% Total % Received % Xferd Average Speed Time Time Time Current
Dload Upload Total Spent Left Speed
0 0 0 0 0 0 0 0 --:--:-- --:--:-- --:--:-- 0
100 1421k 100 1421k 0 0 1866k 0 --:--:-- --:--:-- --:--:-- 1868k
install for i386
* installing *source* package 'maSigPro' ...
** using staged installation
** R
** data
** inst
** byte-compile and prepare package for lazy loading
** help
*** installing help indices
converting help for package 'maSigPro'
finding HTML links ... done
ISOdata html
ISOdesign html
IsoModel html
IsoPlot html
NBdata html
NBdesign html
PlotGroups html
PlotProfiles html
PodiumChange html
T.fit html
average.rows html
data.abiotic html
edesign.abiotic html
edesignCT html
edesignDR html
get.siggenes html
getDS html
getDSPatterns html
i.rank html
maSigProUsersGuide html
make.design.matrix html
p.vector html
position html
reg.coeffs html
see.genes html
seeDS html
stepback html
stepfor html
suma2Venn html
tableDS html
two.ways.stepback html
two.ways.stepfor html
** building package indices
** installing vignettes
'maSigPro.Rnw'
** testing if installed package can be loaded from temporary location
** testing if installed package can be loaded from final location
** testing if installed package keeps a record of temporary installation path
install for x64
* installing *source* package 'maSigPro' ...
** testing if installed package can be loaded
* MD5 sums
packaged installation of 'maSigPro' as maSigPro_1.64.0.zip
* DONE (maSigPro)
* installing to library 'C:/Users/biocbuild/bbs-3.13-bioc/R/library'
package 'maSigPro' successfully unpacked and MD5 sums checked
|
maSigPro.Rcheck/examples_i386/maSigPro-Ex.timings
|
maSigPro.Rcheck/examples_x64/maSigPro-Ex.timings
|