| Back to Multiple platform build/check report for BioC 3.13 |
|
This page was generated on 2021-10-15 15:06:09 -0400 (Fri, 15 Oct 2021).
|
To the developers/maintainers of the lpsymphony package: - Please allow up to 24 hours (and sometimes 48 hours) for your latest push to git@git.bioconductor.org:packages/lpsymphony.git to reflect on this report. See How and When does the builder pull? When will my changes propagate? here for more information. - Make sure to use the following settings in order to reproduce any error or warning you see on this page. |
| Package 1005/2041 | Hostname | OS / Arch | INSTALL | BUILD | CHECK | BUILD BIN | ||||||||
| lpsymphony 1.20.0 (landing page) Vladislav Kim
| nebbiolo1 | Linux (Ubuntu 20.04.2 LTS) / x86_64 | OK | OK | OK | |||||||||
| tokay2 | Windows Server 2012 R2 Standard / x64 | OK | OK | OK | OK | |||||||||
| machv2 | macOS 10.14.6 Mojave / x86_64 | OK | OK | OK | OK | |||||||||
| Package: lpsymphony |
| Version: 1.20.0 |
| Command: C:\cygwin\bin\curl.exe -O http://155.52.207.165/BBS/3.13/bioc/src/contrib/lpsymphony_1.20.0.tar.gz && rm -rf lpsymphony.buildbin-libdir && mkdir lpsymphony.buildbin-libdir && C:\Users\biocbuild\bbs-3.13-bioc\R\bin\R.exe CMD INSTALL --merge-multiarch --build --library=lpsymphony.buildbin-libdir lpsymphony_1.20.0.tar.gz && C:\Users\biocbuild\bbs-3.13-bioc\R\bin\R.exe CMD INSTALL lpsymphony_1.20.0.zip && rm lpsymphony_1.20.0.tar.gz lpsymphony_1.20.0.zip |
| StartedAt: 2021-10-14 06:47:41 -0400 (Thu, 14 Oct 2021) |
| EndedAt: 2021-10-14 06:50:57 -0400 (Thu, 14 Oct 2021) |
| EllapsedTime: 195.9 seconds |
| RetCode: 0 |
| Status: OK |
##############################################################################
##############################################################################
###
### Running command:
###
### C:\cygwin\bin\curl.exe -O http://155.52.207.165/BBS/3.13/bioc/src/contrib/lpsymphony_1.20.0.tar.gz && rm -rf lpsymphony.buildbin-libdir && mkdir lpsymphony.buildbin-libdir && C:\Users\biocbuild\bbs-3.13-bioc\R\bin\R.exe CMD INSTALL --merge-multiarch --build --library=lpsymphony.buildbin-libdir lpsymphony_1.20.0.tar.gz && C:\Users\biocbuild\bbs-3.13-bioc\R\bin\R.exe CMD INSTALL lpsymphony_1.20.0.zip && rm lpsymphony_1.20.0.tar.gz lpsymphony_1.20.0.zip
###
##############################################################################
##############################################################################
% Total % Received % Xferd Average Speed Time Time Time Current
Dload Upload Total Spent Left Speed
0 0 0 0 0 0 0 0 --:--:-- --:--:-- --:--:-- 0
15 11.7M 15 1846k 0 0 1817k 0 0:00:06 0:00:01 0:00:05 1819k
100 11.7M 100 11.7M 0 0 6257k 0 0:00:01 0:00:01 --:--:-- 6262k
install for i386
* installing *source* package 'lpsymphony' ...
** using staged installation
** libs
cp WinLib/i386/*.dll .
installing to C:/Users/biocbuild/bbs-3.13-bioc/meat/lpsymphony.buildbin-libdir/00LOCK-lpsymphony/00new/lpsymphony/libs/i386
** R
** byte-compile and prepare package for lazy loading
** help
*** installing help indices
converting help for package 'lpsymphony'
finding HTML links ... done
lpsymphony_solve html
** building package indices
** installing vignettes
** testing if installed package can be loaded from temporary location
** testing if installed package can be loaded from final location
** testing if installed package keeps a record of temporary installation path
install for x64
* installing *source* package 'lpsymphony' ...
** libs
cp WinLib/x64/*.dll .
installing to C:/Users/biocbuild/bbs-3.13-bioc/meat/lpsymphony.buildbin-libdir/lpsymphony/libs/x64
** testing if installed package can be loaded
* MD5 sums
packaged installation of 'lpsymphony' as lpsymphony_1.20.0.zip
* DONE (lpsymphony)
* installing to library 'C:/Users/biocbuild/bbs-3.13-bioc/R/library'
package 'lpsymphony' successfully unpacked and MD5 sums checked