| Back to Multiple platform build/check report for BioC 3.13 |
|
This page was generated on 2021-10-15 15:06:09 -0400 (Fri, 15 Oct 2021).
|
To the developers/maintainers of the logicFS package: - Please allow up to 24 hours (and sometimes 48 hours) for your latest push to git@git.bioconductor.org:packages/logicFS.git to reflect on this report. See How and When does the builder pull? When will my changes propagate? here for more information. - Make sure to use the following settings in order to reproduce any error or warning you see on this page. |
| Package 997/2041 | Hostname | OS / Arch | INSTALL | BUILD | CHECK | BUILD BIN | ||||||||
| logicFS 2.12.0 (landing page) Holger Schwender
| nebbiolo1 | Linux (Ubuntu 20.04.2 LTS) / x86_64 | OK | OK | OK | |||||||||
| tokay2 | Windows Server 2012 R2 Standard / x64 | OK | OK | OK | OK | |||||||||
| machv2 | macOS 10.14.6 Mojave / x86_64 | OK | OK | OK | OK | |||||||||
| Package: logicFS |
| Version: 2.12.0 |
| Command: C:\cygwin\bin\curl.exe -O http://155.52.207.165/BBS/3.13/bioc/src/contrib/logicFS_2.12.0.tar.gz && rm -rf logicFS.buildbin-libdir && mkdir logicFS.buildbin-libdir && C:\Users\biocbuild\bbs-3.13-bioc\R\bin\R.exe CMD INSTALL --merge-multiarch --build --library=logicFS.buildbin-libdir logicFS_2.12.0.tar.gz && C:\Users\biocbuild\bbs-3.13-bioc\R\bin\R.exe CMD INSTALL logicFS_2.12.0.zip && rm logicFS_2.12.0.tar.gz logicFS_2.12.0.zip |
| StartedAt: 2021-10-14 07:07:18 -0400 (Thu, 14 Oct 2021) |
| EndedAt: 2021-10-14 07:10:52 -0400 (Thu, 14 Oct 2021) |
| EllapsedTime: 213.4 seconds |
| RetCode: 0 |
| Status: OK |
##############################################################################
##############################################################################
###
### Running command:
###
### C:\cygwin\bin\curl.exe -O http://155.52.207.165/BBS/3.13/bioc/src/contrib/logicFS_2.12.0.tar.gz && rm -rf logicFS.buildbin-libdir && mkdir logicFS.buildbin-libdir && C:\Users\biocbuild\bbs-3.13-bioc\R\bin\R.exe CMD INSTALL --merge-multiarch --build --library=logicFS.buildbin-libdir logicFS_2.12.0.tar.gz && C:\Users\biocbuild\bbs-3.13-bioc\R\bin\R.exe CMD INSTALL logicFS_2.12.0.zip && rm logicFS_2.12.0.tar.gz logicFS_2.12.0.zip
###
##############################################################################
##############################################################################
% Total % Received % Xferd Average Speed Time Time Time Current
Dload Upload Total Spent Left Speed
0 0 0 0 0 0 0 0 --:--:-- --:--:-- --:--:-- 0
100 195k 100 195k 0 0 860k 0 --:--:-- --:--:-- --:--:-- 864k
install for i386
* installing *source* package 'logicFS' ...
** using staged installation
** R
** data
** inst
** byte-compile and prepare package for lazy loading
** help
*** installing help indices
converting help for package 'logicFS'
finding HTML links ... done
data.logicfs html
getMatEval html
logic.bagging html
logic.oob html
logic.pimp html
finding level-2 HTML links ... done
logicFS-internal html
logicFS html
make.snp.dummy html
mlogreg html
plot.logicFS html
plot.predict.survivalFS html
predict.logicBagg html
predict.mlogreg html
print.logicFS html
survivalFS html
vim.approxPval html
vim.chisq html
vim.ebam html
vim.individual html
vim.logicFS html
vim.norm html
vim.permSet html
vim.set html
** building package indices
** installing vignettes
'logicFS.Rnw'
** testing if installed package can be loaded from temporary location
** testing if installed package can be loaded from final location
** testing if installed package keeps a record of temporary installation path
install for x64
* installing *source* package 'logicFS' ...
** testing if installed package can be loaded
* MD5 sums
packaged installation of 'logicFS' as logicFS_2.12.0.zip
* DONE (logicFS)
* installing to library 'C:/Users/biocbuild/bbs-3.13-bioc/R/library'
package 'logicFS' successfully unpacked and MD5 sums checked