| Back to Multiple platform build/check report for BioC 3.13 |
|
This page was generated on 2021-10-15 15:06:09 -0400 (Fri, 15 Oct 2021).
|
To the developers/maintainers of the les package: - Please allow up to 24 hours (and sometimes 48 hours) for your latest push to git@git.bioconductor.org:packages/les.git to reflect on this report. See How and When does the builder pull? When will my changes propagate? here for more information. - Make sure to use the following settings in order to reproduce any error or warning you see on this page. |
| Package 982/2041 | Hostname | OS / Arch | INSTALL | BUILD | CHECK | BUILD BIN | ||||||||
| les 1.42.0 (landing page) Julian Gehring
| nebbiolo1 | Linux (Ubuntu 20.04.2 LTS) / x86_64 | OK | OK | OK | |||||||||
| tokay2 | Windows Server 2012 R2 Standard / x64 | OK | OK | OK | OK | |||||||||
| machv2 | macOS 10.14.6 Mojave / x86_64 | OK | OK | OK | OK | |||||||||
| Package: les |
| Version: 1.42.0 |
| Command: rm -rf les.buildbin-libdir && mkdir les.buildbin-libdir && C:\Users\biocbuild\bbs-3.13-bioc\R\bin\R.exe CMD INSTALL --merge-multiarch --build --library=les.buildbin-libdir les_1.42.0.tar.gz |
| StartedAt: 2021-10-15 10:04:04 -0400 (Fri, 15 Oct 2021) |
| EndedAt: 2021-10-15 10:05:35 -0400 (Fri, 15 Oct 2021) |
| EllapsedTime: 91.2 seconds |
| RetCode: 0 |
| Status: OK |
| PackageFile: les_1.42.0.zip |
| PackageFileSize: 637.6 KiB |
##############################################################################
##############################################################################
###
### Running command:
###
### rm -rf les.buildbin-libdir && mkdir les.buildbin-libdir && C:\Users\biocbuild\bbs-3.13-bioc\R\bin\R.exe CMD INSTALL --merge-multiarch --build --library=les.buildbin-libdir les_1.42.0.tar.gz
###
##############################################################################
##############################################################################
install for i386
* installing *source* package 'les' ...
** using staged installation
** R
** data
** inst
** byte-compile and prepare package for lazy loading
** help
*** installing help indices
converting help for package 'les'
finding HTML links ... done
Les-class html
Les html
chi2 html
ci html
estimate html
export html
les-internal html
les-package html
REDIRECT:topic Previous alias or file overwritten by alias: C:/Users/biocbuild/bbs-3.13-bioc/meat/les.buildbin-libdir/00LOCK-les/00new/les/help/les.html
plot html
regions html
spikeInData html
spikeInStat html
threshold html
weighting html
** building package indices
** installing vignettes
** testing if installed package can be loaded from temporary location
** testing if installed package can be loaded from final location
** testing if installed package keeps a record of temporary installation path
install for x64
* installing *source* package 'les' ...
** testing if installed package can be loaded
* MD5 sums
packaged installation of 'les' as les_1.42.0.zip
* DONE (les)