| Back to Multiple platform build/check report for BioC 3.13 |
|
This page was generated on 2021-10-15 15:06:09 -0400 (Fri, 15 Oct 2021).
|
To the developers/maintainers of the iterativeBMA package: - Please allow up to 24 hours (and sometimes 48 hours) for your latest push to git@git.bioconductor.org:packages/iterativeBMA.git to reflect on this report. See How and When does the builder pull? When will my changes propagate? here for more information. - Make sure to use the following settings in order to reproduce any error or warning you see on this page. |
| Package 956/2041 | Hostname | OS / Arch | INSTALL | BUILD | CHECK | BUILD BIN | ||||||||
| iterativeBMA 1.50.0 (landing page) Ka Yee Yeung
| nebbiolo1 | Linux (Ubuntu 20.04.2 LTS) / x86_64 | OK | OK | OK | |||||||||
| tokay2 | Windows Server 2012 R2 Standard / x64 | OK | OK | OK | OK | |||||||||
| machv2 | macOS 10.14.6 Mojave / x86_64 | OK | OK | OK | OK | |||||||||
| Package: iterativeBMA |
| Version: 1.50.0 |
| Command: C:\cygwin\bin\curl.exe -O http://155.52.207.165/BBS/3.13/bioc/src/contrib/iterativeBMA_1.50.0.tar.gz && rm -rf iterativeBMA.buildbin-libdir && mkdir iterativeBMA.buildbin-libdir && C:\Users\biocbuild\bbs-3.13-bioc\R\bin\R.exe CMD INSTALL --merge-multiarch --build --library=iterativeBMA.buildbin-libdir iterativeBMA_1.50.0.tar.gz && C:\Users\biocbuild\bbs-3.13-bioc\R\bin\R.exe CMD INSTALL iterativeBMA_1.50.0.zip && rm iterativeBMA_1.50.0.tar.gz iterativeBMA_1.50.0.zip |
| StartedAt: 2021-10-14 11:02:11 -0400 (Thu, 14 Oct 2021) |
| EndedAt: 2021-10-14 11:03:15 -0400 (Thu, 14 Oct 2021) |
| EllapsedTime: 64.2 seconds |
| RetCode: 0 |
| Status: OK |
##############################################################################
##############################################################################
###
### Running command:
###
### C:\cygwin\bin\curl.exe -O http://155.52.207.165/BBS/3.13/bioc/src/contrib/iterativeBMA_1.50.0.tar.gz && rm -rf iterativeBMA.buildbin-libdir && mkdir iterativeBMA.buildbin-libdir && C:\Users\biocbuild\bbs-3.13-bioc\R\bin\R.exe CMD INSTALL --merge-multiarch --build --library=iterativeBMA.buildbin-libdir iterativeBMA_1.50.0.tar.gz && C:\Users\biocbuild\bbs-3.13-bioc\R\bin\R.exe CMD INSTALL iterativeBMA_1.50.0.zip && rm iterativeBMA_1.50.0.tar.gz iterativeBMA_1.50.0.zip
###
##############################################################################
##############################################################################
% Total % Received % Xferd Average Speed Time Time Time Current
Dload Upload Total Spent Left Speed
0 0 0 0 0 0 0 0 --:--:-- --:--:-- --:--:-- 0
100 43613 100 43613 0 0 277k 0 --:--:-- --:--:-- --:--:-- 278k
install for i386
* installing *source* package 'iterativeBMA' ...
** using staged installation
** R
** data
** byte-compile and prepare package for lazy loading
** help
*** installing help indices
converting help for package 'iterativeBMA'
finding HTML links ... done
BssWssFast html
bma_predict html
brier_score html
imageplot_iterate_bma html
iterateBMAglm_train html
iterateBMAglm_train_predict html
iterateBMAglm_train_predict_test html
iterateBMAglm_wrapper html
iterativeBMA-internal html
iterativeBMA-package html
testClass html
testData html
trainClass html
trainData html
** building package indices
** installing vignettes
** testing if installed package can be loaded from temporary location
** testing if installed package can be loaded from final location
** testing if installed package keeps a record of temporary installation path
install for x64
* installing *source* package 'iterativeBMA' ...
** testing if installed package can be loaded
* MD5 sums
packaged installation of 'iterativeBMA' as iterativeBMA_1.50.0.zip
* DONE (iterativeBMA)
* installing to library 'C:/Users/biocbuild/bbs-3.13-bioc/R/library'
package 'iterativeBMA' successfully unpacked and MD5 sums checked