| Back to Multiple platform build/check report for BioC 3.13 |
|
This page was generated on 2021-10-15 15:06:09 -0400 (Fri, 15 Oct 2021).
|
To the developers/maintainers of the isomiRs package: - Please allow up to 24 hours (and sometimes 48 hours) for your latest push to git@git.bioconductor.org:packages/isomiRs.git to reflect on this report. See How and When does the builder pull? When will my changes propagate? here for more information. - Make sure to use the following settings in order to reproduce any error or warning you see on this page. |
| Package 954/2041 | Hostname | OS / Arch | INSTALL | BUILD | CHECK | BUILD BIN | ||||||||
| isomiRs 1.20.0 (landing page) Lorena Pantano
| nebbiolo1 | Linux (Ubuntu 20.04.2 LTS) / x86_64 | OK | OK | OK | |||||||||
| tokay2 | Windows Server 2012 R2 Standard / x64 | OK | OK | OK | OK | |||||||||
| machv2 | macOS 10.14.6 Mojave / x86_64 | OK | OK | OK | OK | |||||||||
| Package: isomiRs |
| Version: 1.20.0 |
| Command: rm -rf isomiRs.buildbin-libdir && mkdir isomiRs.buildbin-libdir && C:\Users\biocbuild\bbs-3.13-bioc\R\bin\R.exe CMD INSTALL --merge-multiarch --build --library=isomiRs.buildbin-libdir isomiRs_1.20.0.tar.gz |
| StartedAt: 2021-10-15 10:00:11 -0400 (Fri, 15 Oct 2021) |
| EndedAt: 2021-10-15 10:01:39 -0400 (Fri, 15 Oct 2021) |
| EllapsedTime: 88.2 seconds |
| RetCode: 0 |
| Status: OK |
| PackageFile: isomiRs_1.20.0.zip |
| PackageFileSize: 2.076 MiB |
##############################################################################
##############################################################################
###
### Running command:
###
### rm -rf isomiRs.buildbin-libdir && mkdir isomiRs.buildbin-libdir && C:\Users\biocbuild\bbs-3.13-bioc\R\bin\R.exe CMD INSTALL --merge-multiarch --build --library=isomiRs.buildbin-libdir isomiRs_1.20.0.tar.gz
###
##############################################################################
##############################################################################
install for i386
* installing *source* package 'isomiRs' ...
** using staged installation
** R
** data
*** moving datasets to lazyload DB
Registered S3 method overwritten by 'GGally':
method from
+.gg ggplot2
** inst
** byte-compile and prepare package for lazy loading
** help
*** installing help indices
converting help for package 'isomiRs'
finding HTML links ... done
IsomirDataSeq html
IsomirDataSeqFromFiles html
IsomirDataSeqFromMirtop html
IsomirDataSeqFromRawData html
counts html
dat286.long html
design html
ego html
findTargets html
gene_ex_rse html
isoAnnotate html
isoCounts html
isoDE html
isoNetwork html
isoNorm html
isoPLSDA html
isoPLSDAplot html
isoPlot html
isoPlotNet html
isoPlotPosition html
isoSelect html
isoTop html
isomiRs-package html
ma_ex html
mirData html
mirTritation html
mirna2targetscan html
mirna_ex_rse html
updateIsomirDataSeq html
** building package indices
** installing vignettes
** testing if installed package can be loaded from temporary location
** testing if installed package can be loaded from final location
** testing if installed package keeps a record of temporary installation path
install for x64
* installing *source* package 'isomiRs' ...
** testing if installed package can be loaded
* MD5 sums
packaged installation of 'isomiRs' as isomiRs_1.20.0.zip
* DONE (isomiRs)