| Back to Multiple platform build/check report for BioC 3.13 |
|
This page was generated on 2021-10-15 15:06:09 -0400 (Fri, 15 Oct 2021).
|
To the developers/maintainers of the ipdDb package: - Please allow up to 24 hours (and sometimes 48 hours) for your latest push to git@git.bioconductor.org:packages/ipdDb.git to reflect on this report. See How and When does the builder pull? When will my changes propagate? here for more information. - Make sure to use the following settings in order to reproduce any error or warning you see on this page. |
| Package 940/2041 | Hostname | OS / Arch | INSTALL | BUILD | CHECK | BUILD BIN | ||||||||
| ipdDb 1.10.0 (landing page) Steffen Klasberg
| nebbiolo1 | Linux (Ubuntu 20.04.2 LTS) / x86_64 | OK | OK | OK | |||||||||
| tokay2 | Windows Server 2012 R2 Standard / x64 | OK | OK | OK | OK | |||||||||
| machv2 | macOS 10.14.6 Mojave / x86_64 | OK | OK | OK | OK | |||||||||
| Package: ipdDb |
| Version: 1.10.0 |
| Command: C:\cygwin\bin\curl.exe -O http://155.52.207.165/BBS/3.13/bioc/src/contrib/ipdDb_1.10.0.tar.gz && rm -rf ipdDb.buildbin-libdir && mkdir ipdDb.buildbin-libdir && C:\Users\biocbuild\bbs-3.13-bioc\R\bin\R.exe CMD INSTALL --merge-multiarch --build --library=ipdDb.buildbin-libdir ipdDb_1.10.0.tar.gz && C:\Users\biocbuild\bbs-3.13-bioc\R\bin\R.exe CMD INSTALL ipdDb_1.10.0.zip && rm ipdDb_1.10.0.tar.gz ipdDb_1.10.0.zip |
| StartedAt: 2021-10-14 08:26:58 -0400 (Thu, 14 Oct 2021) |
| EndedAt: 2021-10-14 08:27:34 -0400 (Thu, 14 Oct 2021) |
| EllapsedTime: 36.8 seconds |
| RetCode: 0 |
| Status: OK |
##############################################################################
##############################################################################
###
### Running command:
###
### C:\cygwin\bin\curl.exe -O http://155.52.207.165/BBS/3.13/bioc/src/contrib/ipdDb_1.10.0.tar.gz && rm -rf ipdDb.buildbin-libdir && mkdir ipdDb.buildbin-libdir && C:\Users\biocbuild\bbs-3.13-bioc\R\bin\R.exe CMD INSTALL --merge-multiarch --build --library=ipdDb.buildbin-libdir ipdDb_1.10.0.tar.gz && C:\Users\biocbuild\bbs-3.13-bioc\R\bin\R.exe CMD INSTALL ipdDb_1.10.0.zip && rm ipdDb_1.10.0.tar.gz ipdDb_1.10.0.zip
###
##############################################################################
##############################################################################
% Total % Received % Xferd Average Speed Time Time Time Current
Dload Upload Total Spent Left Speed
0 0 0 0 0 0 0 0 --:--:-- --:--:-- --:--:-- 0
100 16602 100 16602 0 0 139k 0 --:--:-- --:--:-- --:--:-- 140k
install for i386
* installing *source* package 'ipdDb' ...
** using staged installation
** R
** inst
** byte-compile and prepare package for lazy loading
** help
*** installing help indices
converting help for package 'ipdDb'
finding HTML links ... done
IpdDb html
getAlleles-IpdDb-method html
getClosestComplete-IpdDb-method html
getLoci-IpdDb-method html
getReference-IpdDb-method html
getStructure-IpdDb-method html
ipdDbPackage html
loadHlaData html
loadKirData html
** building package indices
** installing vignettes
** testing if installed package can be loaded from temporary location
** testing if installed package can be loaded from final location
** testing if installed package keeps a record of temporary installation path
install for x64
* installing *source* package 'ipdDb' ...
** testing if installed package can be loaded
* MD5 sums
packaged installation of 'ipdDb' as ipdDb_1.10.0.zip
* DONE (ipdDb)
* installing to library 'C:/Users/biocbuild/bbs-3.13-bioc/R/library'
package 'ipdDb' successfully unpacked and MD5 sums checked