| Back to Multiple platform build/check report for BioC 3.13 |
|
This page was generated on 2021-10-15 15:05:43 -0400 (Fri, 15 Oct 2021).
|
To the developers/maintainers of the impute package: - Please allow up to 24 hours (and sometimes 48 hours) for your latest push to git@git.bioconductor.org:packages/impute.git to reflect on this report. See How and When does the builder pull? When will my changes propagate? here for more information. - Make sure to use the following settings in order to reproduce any error or warning you see on this page. |
| Package 918/2041 | Hostname | OS / Arch | INSTALL | BUILD | CHECK | BUILD BIN | ||||||||
| impute 1.66.0 (landing page) Balasubramanian Narasimhan
| nebbiolo1 | Linux (Ubuntu 20.04.2 LTS) / x86_64 | OK | OK | OK | |||||||||
| tokay2 | Windows Server 2012 R2 Standard / x64 | OK | OK | OK | OK | |||||||||
| machv2 | macOS 10.14.6 Mojave / x86_64 | OK | OK | OK | OK | |||||||||
| Package: impute |
| Version: 1.66.0 |
| Command: /home/biocbuild/bbs-3.13-bioc/R/bin/R CMD INSTALL impute |
| StartedAt: 2021-10-14 06:01:54 -0400 (Thu, 14 Oct 2021) |
| EndedAt: 2021-10-14 06:01:57 -0400 (Thu, 14 Oct 2021) |
| EllapsedTime: 3.3 seconds |
| RetCode: 0 |
| Status: OK |
##############################################################################
##############################################################################
###
### Running command:
###
### /home/biocbuild/bbs-3.13-bioc/R/bin/R CMD INSTALL impute
###
##############################################################################
##############################################################################
* installing to library ‘/home/biocbuild/bbs-3.13-bioc/R/library’
* installing *source* package ‘impute’ ...
** using staged installation
** libs
gfortran -fno-optimize-sibling-calls -fpic -g -O2 -Wall -c knnimpute.f -o knnimpute.o
f951: Warning: Nonconforming tab character in column 1 of line 89 [-Wtabs]
f951: Warning: Nonconforming tab character in column 1 of line 91 [-Wtabs]
f951: Warning: Nonconforming tab character in column 1 of line 92 [-Wtabs]
f951: Warning: Nonconforming tab character in column 1 of line 93 [-Wtabs]
f951: Warning: Nonconforming tab character in column 1 of line 94 [-Wtabs]
f951: Warning: Nonconforming tab character in column 1 of line 95 [-Wtabs]
f951: Warning: Nonconforming tab character in column 1 of line 96 [-Wtabs]
f951: Warning: Nonconforming tab character in column 1 of line 97 [-Wtabs]
f951: Warning: Nonconforming tab character in column 1 of line 98 [-Wtabs]
f951: Warning: Nonconforming tab character in column 3 of line 99 [-Wtabs]
f951: Warning: Nonconforming tab character in column 1 of line 100 [-Wtabs]
f951: Warning: Nonconforming tab character in column 1 of line 101 [-Wtabs]
f951: Warning: Nonconforming tab character in column 1 of line 102 [-Wtabs]
f951: Warning: Nonconforming tab character in column 1 of line 103 [-Wtabs]
f951: Warning: Nonconforming tab character in column 3 of line 104 [-Wtabs]
f951: Warning: Nonconforming tab character in column 1 of line 105 [-Wtabs]
f951: Warning: Nonconforming tab character in column 1 of line 106 [-Wtabs]
f951: Warning: Nonconforming tab character in column 1 of line 107 [-Wtabs]
f951: Warning: Nonconforming tab character in column 1 of line 108 [-Wtabs]
f951: Warning: Nonconforming tab character in column 1 of line 109 [-Wtabs]
f951: Warning: Nonconforming tab character in column 1 of line 110 [-Wtabs]
f951: Warning: Nonconforming tab character in column 1 of line 111 [-Wtabs]
f951: Warning: Nonconforming tab character in column 1 of line 112 [-Wtabs]
f951: Warning: Nonconforming tab character in column 3 of line 113 [-Wtabs]
f951: Warning: Nonconforming tab character in column 1 of line 114 [-Wtabs]
f951: Warning: Nonconforming tab character in column 1 of line 115 [-Wtabs]
f951: Warning: Nonconforming tab character in column 1 of line 116 [-Wtabs]
f951: Warning: Nonconforming tab character in column 1 of line 117 [-Wtabs]
f951: Warning: Nonconforming tab character in column 3 of line 118 [-Wtabs]
f951: Warning: Nonconforming tab character in column 3 of line 119 [-Wtabs]
f951: Warning: Nonconforming tab character in column 3 of line 120 [-Wtabs]
f951: Warning: Nonconforming tab character in column 1 of line 121 [-Wtabs]
f951: Warning: Nonconforming tab character in column 1 of line 122 [-Wtabs]
knnimpute.f:99:72:
99 | 20 pos(k1+1) = pos(k1)
| 1
Warning: Fortran 2018 deleted feature: DO termination statement which is not END DO or CONTINUE with label 20 at (1)
knnimpute.f:113:72:
113 | 35 pos(k1+1) = pos(k1)
| 1
Warning: Fortran 2018 deleted feature: DO termination statement which is not END DO or CONTINUE with label 35 at (1)
knnimpute.f:168:0:
168 | ratio=dabs(dnew-dold)/dold
|
Warning: ‘dold’ may be used uninitialized in this function [-Wmaybe-uninitialized]
gcc -shared -L/home/biocbuild/bbs-3.13-bioc/R/lib -L/usr/local/lib -o impute.so knnimpute.o -lgfortran -lm -lquadmath -L/home/biocbuild/bbs-3.13-bioc/R/lib -lR
installing to /home/biocbuild/bbs-3.13-bioc/R/library/00LOCK-impute/00new/impute/libs
** R
** data
** byte-compile and prepare package for lazy loading
** help
*** installing help indices
** building package indices
** testing if installed package can be loaded from temporary location
** checking absolute paths in shared objects and dynamic libraries
** testing if installed package can be loaded from final location
** testing if installed package keeps a record of temporary installation path
* DONE (impute)