| Back to Multiple platform build/check report for BioC 3.13 |
|
This page was generated on 2021-10-15 15:06:08 -0400 (Fri, 15 Oct 2021).
|
To the developers/maintainers of the idr2d package: - Please allow up to 24 hours (and sometimes 48 hours) for your latest push to git@git.bioconductor.org:packages/idr2d.git to reflect on this report. See How and When does the builder pull? When will my changes propagate? here for more information. - Make sure to use the following settings in order to reproduce any error or warning you see on this page. |
| Package 903/2041 | Hostname | OS / Arch | INSTALL | BUILD | CHECK | BUILD BIN | ||||||||
| idr2d 1.6.0 (landing page) Konstantin Krismer
| nebbiolo1 | Linux (Ubuntu 20.04.2 LTS) / x86_64 | OK | OK | OK | |||||||||
| tokay2 | Windows Server 2012 R2 Standard / x64 | OK | OK | OK | OK | |||||||||
| machv2 | macOS 10.14.6 Mojave / x86_64 | OK | OK | OK | OK | |||||||||
| Package: idr2d |
| Version: 1.6.0 |
| Command: C:\cygwin\bin\curl.exe -O http://155.52.207.165/BBS/3.13/bioc/src/contrib/idr2d_1.6.0.tar.gz && rm -rf idr2d.buildbin-libdir && mkdir idr2d.buildbin-libdir && C:\Users\biocbuild\bbs-3.13-bioc\R\bin\R.exe CMD INSTALL --merge-multiarch --build --library=idr2d.buildbin-libdir idr2d_1.6.0.tar.gz && C:\Users\biocbuild\bbs-3.13-bioc\R\bin\R.exe CMD INSTALL idr2d_1.6.0.zip && rm idr2d_1.6.0.tar.gz idr2d_1.6.0.zip |
| StartedAt: 2021-10-14 08:24:47 -0400 (Thu, 14 Oct 2021) |
| EndedAt: 2021-10-14 08:25:56 -0400 (Thu, 14 Oct 2021) |
| EllapsedTime: 69.1 seconds |
| RetCode: 0 |
| Status: OK |
##############################################################################
##############################################################################
###
### Running command:
###
### C:\cygwin\bin\curl.exe -O http://155.52.207.165/BBS/3.13/bioc/src/contrib/idr2d_1.6.0.tar.gz && rm -rf idr2d.buildbin-libdir && mkdir idr2d.buildbin-libdir && C:\Users\biocbuild\bbs-3.13-bioc\R\bin\R.exe CMD INSTALL --merge-multiarch --build --library=idr2d.buildbin-libdir idr2d_1.6.0.tar.gz && C:\Users\biocbuild\bbs-3.13-bioc\R\bin\R.exe CMD INSTALL idr2d_1.6.0.zip && rm idr2d_1.6.0.tar.gz idr2d_1.6.0.zip
###
##############################################################################
##############################################################################
% Total % Received % Xferd Average Speed Time Time Time Current
Dload Upload Total Spent Left Speed
0 0 0 0 0 0 0 0 --:--:-- --:--:-- --:--:-- 0
1 798k 1 16137 0 0 135k 0 0:00:05 --:--:-- 0:00:05 135k
77 798k 77 622k 0 0 555k 0 0:00:01 0:00:01 --:--:-- 555k
100 798k 100 798k 0 0 469k 0 0:00:01 0:00:01 --:--:-- 470k
install for i386
* installing *source* package 'idr2d' ...
** using staged installation
** R
** data
** inst
** byte-compile and prepare package for lazy loading
** help
*** installing help indices
converting help for package 'idr2d'
finding HTML links ... done
calculate_midpoint_distance1d html
calculate_midpoint_distance2d html
calculate_relative_overlap1d html
calculate_relative_overlap2d html
chiapet html
chipseq html
determine_anchor_overlap html
draw_hic_contact_map html
draw_idr_distribution_histogram html
draw_rank_idr_scatterplot html
draw_value_idr_scatterplot html
establish_bijection html
establish_bijection1d html
establish_bijection2d html
establish_overlap1d html
establish_overlap2d html
estimate_idr html
estimate_idr1d html
estimate_idr2d html
estimate_idr2d_hic html
hic html
parse_hic_pro_matrix html
parse_juicer_matrix html
preprocess html
remove_nonstandard_chromosomes1d html
remove_nonstandard_chromosomes2d html
** building package indices
** installing vignettes
** testing if installed package can be loaded from temporary location
** testing if installed package can be loaded from final location
** testing if installed package keeps a record of temporary installation path
install for x64
* installing *source* package 'idr2d' ...
** testing if installed package can be loaded
* MD5 sums
packaged installation of 'idr2d' as idr2d_1.6.0.zip
* DONE (idr2d)
* installing to library 'C:/Users/biocbuild/bbs-3.13-bioc/R/library'
package 'idr2d' successfully unpacked and MD5 sums checked