| Back to Multiple platform build/check report for BioC 3.13 |
|
This page was generated on 2021-10-15 15:06:08 -0400 (Fri, 15 Oct 2021).
|
To the developers/maintainers of the ideal package: - Please allow up to 24 hours (and sometimes 48 hours) for your latest push to git@git.bioconductor.org:packages/ideal.git to reflect on this report. See How and When does the builder pull? When will my changes propagate? here for more information. - Make sure to use the following settings in order to reproduce any error or warning you see on this page. |
| Package 899/2041 | Hostname | OS / Arch | INSTALL | BUILD | CHECK | BUILD BIN | ||||||||
| ideal 1.16.1 (landing page) Federico Marini
| nebbiolo1 | Linux (Ubuntu 20.04.2 LTS) / x86_64 | OK | OK | OK | |||||||||
| tokay2 | Windows Server 2012 R2 Standard / x64 | OK | OK | OK | OK | |||||||||
| machv2 | macOS 10.14.6 Mojave / x86_64 | OK | OK | OK | OK | |||||||||
| Package: ideal |
| Version: 1.16.1 |
| Command: rm -rf ideal.buildbin-libdir && mkdir ideal.buildbin-libdir && C:\Users\biocbuild\bbs-3.13-bioc\R\bin\R.exe CMD INSTALL --merge-multiarch --build --library=ideal.buildbin-libdir ideal_1.16.1.tar.gz |
| StartedAt: 2021-10-15 09:53:05 -0400 (Fri, 15 Oct 2021) |
| EndedAt: 2021-10-15 09:54:40 -0400 (Fri, 15 Oct 2021) |
| EllapsedTime: 94.4 seconds |
| RetCode: 0 |
| Status: OK |
| PackageFile: ideal_1.16.1.zip |
| PackageFileSize: 2.916 MiB |
##############################################################################
##############################################################################
###
### Running command:
###
### rm -rf ideal.buildbin-libdir && mkdir ideal.buildbin-libdir && C:\Users\biocbuild\bbs-3.13-bioc\R\bin\R.exe CMD INSTALL --merge-multiarch --build --library=ideal.buildbin-libdir ideal_1.16.1.tar.gz
###
##############################################################################
##############################################################################
install for i386
* installing *source* package 'ideal' ...
** using staged installation
** R
** inst
** byte-compile and prepare package for lazy loading
groupGOTerms: GOBPTerm, GOMFTerm, GOCCTerm environments built.
** help
*** installing help indices
converting help for package 'ideal'
finding HTML links ... done
deseqresult2DEgenes html
finding level-2 HTML links ... done
deseqresult2tbl html
ggplotCounts html
goseqTable html
ideal-pkg html
ideal html
plot_ma html
plot_volcano html
read_gmt html
sepguesser html
sig_heatmap html
wrapup_for_iSEE html
** building package indices
** installing vignettes
** testing if installed package can be loaded from temporary location
groupGOTerms: GOBPTerm, GOMFTerm, GOCCTerm environments built.
** testing if installed package can be loaded from final location
groupGOTerms: GOBPTerm, GOMFTerm, GOCCTerm environments built.
** testing if installed package keeps a record of temporary installation path
install for x64
* installing *source* package 'ideal' ...
** testing if installed package can be loaded
groupGOTerms: GOBPTerm, GOMFTerm, GOCCTerm environments built.
* MD5 sums
packaged installation of 'ideal' as ideal_1.16.1.zip
* DONE (ideal)